Workbook
Name Liste_année: 'Données PES'!$C$2:$AAA$2

Sheet Instructions
B10: Instructions :
C12: Remplir les cellules avec un fond doré seulement
B15: Descriptions des onglets :
C17: Calcul financement
D18: Onglet servant à calculer le financement de chaque programme. Vous pouvez changer la sources des données à l'aide des listes déroulantes dans les cases jaunes.
D19: Contient aussi un calculateur rapide pour obtenir rapidement le financement d'un programme donné en fonction d'une valeur de PES entrée manuellement.
C21: Données PES
D22: Onglet contenant les données sources.
C24: Points graphiques
D25: Pour choisir quels points s'affichent sur le graphique.
C27: XXX.XX
D28: Graphiques pour chacun des programmes.
D29: Il y a possibilité d'ajouter jusqu'à un maximum de 3 points manuellement.
C35: Nouveautés des dernières versions
C37: 1.13 | D37: Ajout des données PES pour 2019-2020

Sheet Calcul financement
E2: Choisir 2 sources de comparaison : | O2: (A) | Q2: (B) | S2: Calculateur rapide
E3: 2018-2019 | F3: 2019-2020 | O3: =E3 -> 2018-2019 | Q3: =F3 -> 2019-2020
B4: Numéro | C4: Titre | D4: Programmes | E4: PES (A) | F4: PES (B) | G4: Variation | H4: Norme 0 | I4: Pes Min | J4: Norme 1 | K4: Const. 1 | L4: Intersect. | M4: Norme 2 | N4: Const. 2 | O4: Financement (A) | P4: Fin/1000 PES (A) | Q4: Financement (B) | R4: Fin/1000 PES (B) | S4: PES | T4: Financement | U4: Fin/1000 PES | V4: Nej | W4: Fin/100 hrs
B5: 000.01 | C5: Générale commune | E5: =_xlfn.IFNA(VLOOKUP($B5,'Données PES'!$A$2:$AA$101,MATCH('Calcul financement'!E$3,'Données PES'!$2:$2),FALSE),"") -> 46112 | F5: =_xlfn.IFNA(VLOOKUP($B5,'Données PES'!$A$2:$AA$101,MATCH('Calcul financement'!F$3,'Données PES'!$2:$2),FALSE),"") -> 45182 | G5: =IF(ISNUMBER(Tableau_fin[[#This Row],[PES (A)]]),IF(Tableau_fin[[#This Row],[PES (A)]]>0,(Tableau_fin[[#This Row],[PES (B)]]-Tableau_fin[[#This Row],[PES (A)]])/Tableau_fin[[#This Row],[PES (A)]],""),"") -> -0.020168286 | H5: 0.001545 | I5: 200 | J5: 0.001198 | K5: 0.75 | L5: 0 | M5: 0 | N5: 0 | O5: =IF(ISNUMBER(Tableau_fin[[#This Row],[PES (A)]]),IF(Tableau_fin[[#This Row],[PES (A)]]<$I5,$H5*Tableau_fin[[#This Row],[PES (A)]],IF($L5<>0,IF((Tableau_fin[[#This Row],[PES (A)]]>$L5),($M5*Tableau_fin[[#This Row],[PES (A)]])+$N5,($J5*Tableau_fin[[#This Row],[PES (A)]])+$K5),$J5*Tableau_fin[[#This Row],[PES (A)]]+$K5)),"") -> 55.992176 | P5: =IF(Tableau_fin[[#This Row],[Financement (A)]]=0,"",IF(ISNUMBER(Tableau_fin[[#This Row],[PES (A)]]),O5/Tableau_fin[[#This Row],[PES (A)]]*1000,"")) -> 1.2142647 | Q5: =IF(ISNUMBER(Tableau_fin[[#This Row],[PES (B)]]),IF(Tableau_fin[[#This Row],[PES (B)]]<$I5,$H5*Tableau_fin[[#This Row],[PES (B)]],IF($L5<>0,IF((Tableau_fin[[#This Row],[PES (B)]]>$L5),($M5*Tableau_fin[[#This Row],[PES (B)]])+$N5,($J5*Tableau_fin[[#This Row],[PES (B)]])+$K5),$J5*Tableau_fin[[#This Row],[PES (B)]]+$K5)),"") -> 54.878036 | R5: =IF(Tableau_fin[[#This Row],[Financement (B)]]=0,"",IF(ISNUMBER(Tableau_fin[[#This Row],[Financement (B)]]),Q5/Tableau_fin[[#This Row],[PES (B)]]*1000,"")) -> 1.2145995 | T5: =IF(Tableau_fin[[#This Row],[PES]]>0,IF(Tableau_fin[[#This Row],[PES]]<$I5,$H5*Tableau_fin[[#This Row],[PES]],IF($L5<>0,IF((Tableau_fin[[#This Row],[PES]]>$L5),($M5*Tableau_fin[[#This Row],[PES]])+$N5,($J5*Tableau_fin[[#This Row],[PES]])+$K5),$J5*Tableau_fin[[#This Row],[PES]]+$K5)),"") | U5: =IF(Tableau_fin[[#This Row],[PES]]>0,Tableau_fin[[#This Row],[Financement]]/Tableau_fin[[#This Row],[PES]]*1000,"") | V5: 36 | W5: =IF(O5=0,"",Tableau_fin[[#This Row],[Financement (A)]]/(Tableau_fin[[#This Row],[PES (A)]]/Tableau_fin[[#This Row],[Nej]])*100) -> 4.3713531
B6: 000.02 | C6: Générale propre | E6: =_xlfn.IFNA(VLOOKUP($B6,'Données PES'!$A$2:$AA$101,MATCH('Calcul financement'!E$3,'Données PES'!$2:$2),FALSE),"") -> 11183 | F6: =_xlfn.IFNA(VLOOKUP($B6,'Données PES'!$A$2:$AA$101,MATCH('Calcul financement'!F$3,'Données PES'!$2:$2),FALSE),"") -> 11117 | G6: =IF(ISNUMBER(Tableau_fin[[#This Row],[PES (A)]]),IF(Tableau_fin[[#This Row],[PES (A)]]>0,(Tableau_fin[[#This Row],[PES (B)]]-Tableau_fin[[#This Row],[PES (A)]])/Tableau_fin[[#This Row],[PES (A)]],""),"") -> -0.0059018153 | H6: 0.001545 | I6: 200 | J6: 0.001458 | K6: 0.29 | L6: 2501 | M6: 0.001193 | N6: 0.95 | O6: =IF(ISNUMBER(Tableau_fin[[#This Row],[PES (A)]]),IF(Tableau_fin[[#This Row],[PES (A)]]<$I6,$H6*Tableau_fin[[#This Row],[PES (A)]],IF($L6<>0,IF((Tableau_fin[[#This Row],[PES (A)]]>$L6),($M6*Tableau_fin[[#This Row],[PES (A)]])+$N6,($J6*Tableau_fin[[#This Row],[PES (A)]])+$K6),$J6*Tableau_fin[[#This Row],[PES (A)]]+$K6)),"") -> 14.291319 | P6: =IF(Tableau_fin[[#This Row],[Financement (A)]]=0,"",IF(ISNUMBER(Tableau_fin[[#This Row],[PES (A)]]),O6/Tableau_fin[[#This Row],[PES (A)]]*1000,"")) -> 1.2779504 | Q6: =IF(ISNUMBER(Tableau_fin[[#This Row],[PES (B)]]),IF(Tableau_fin[[#This Row],[PES (B)]]<$I6,$H6*Tableau_fin[[#This Row],[PES (B)]],IF($L6<>0,IF((Tableau_fin[[#This Row],[PES (B)]]>$L6),($M6*Tableau_fin[[#This Row],[PES (B)]])+$N6,($J6*Tableau_fin[[#This Row],[PES (B)]])+$K6),$J6*Tableau_fin[[#This Row],[PES (B)]]+$K6)),"") -> 14.212581 | R6: =IF(Tableau_fin[[#This Row],[Financement (B)]]=0,"",IF(ISNUMBER(Tableau_fin[[#This Row],[Financement (B)]]),Q6/Tableau_fin[[#This Row],[PES (B)]]*1000,"")) -> 1.2784547 | T6: =IF(Tableau_fin[[#This Row],[PES]]>0,IF(Tableau_fin[[#This Row],[PES]]<$I6,$H6*Tableau_fin[[#This Row],[PES]],IF($L6<>0,IF((Tableau_fin[[#This Row],[PES]]>$L6),($M6*Tableau_fin[[#This Row],[PES]])+$N6,($J6*Tableau_fin[[#This Row],[PES]])+$K6),$J6*Tableau_fin[[#This Row],[PES]]+$K6)),"") | U6: =IF(Tableau_fin[[#This Row],[PES]]>0,Tableau_fin[[#This Row],[Financement]]/Tableau_fin[[#This Row],[PES]]*1000,"") | V6: 36 | W6: =IF(O6=0,"",Tableau_fin[[#This Row],[Financement (A)]]/(Tableau_fin[[#This Row],[PES (A)]]/Tableau_fin[[#This Row],[Nej]])*100) -> 4.6006213
B7: 000.03 | C7: Générale complémentaire | E7: =_xlfn.IFNA(VLOOKUP($B7,'Données PES'!$A$2:$AA$101,MATCH('Calcul financement'!E$3,'Données PES'!$2:$2),FALSE),"") -> 6939 | F7: =_xlfn.IFNA(VLOOKUP($B7,'Données PES'!$A$2:$AA$101,MATCH('Calcul financement'!F$3,'Données PES'!$2:$2),FALSE),"") -> 6856 | G7: =IF(ISNUMBER(Tableau_fin[[#This Row],[PES (A)]]),IF(Tableau_fin[[#This Row],[PES (A)]]>0,(Tableau_fin[[#This Row],[PES (B)]]-Tableau_fin[[#This Row],[PES (A)]])/Tableau_fin[[#This Row],[PES (A)]],""),"") -> -0.011961378 | H7: 0.001545 | I7: 200 | J7: 0.001304 | K7: 0.65 | L7: 0 | M7: 0 | N7: 0 | O7: =IF(ISNUMBER(Tableau_fin[[#This Row],[PES (A)]]),IF(Tableau_fin[[#This Row],[PES (A)]]<$I7,$H7*Tableau_fin[[#This Row],[PES (A)]],IF($L7<>0,IF((Tableau_fin[[#This Row],[PES (A)]]>$L7),($M7*Tableau_fin[[#This Row],[PES (A)]])+$N7,($J7*Tableau_fin[[#This Row],[PES (A)]])+$K7),$J7*Tableau_fin[[#This Row],[PES (A)]]+$K7)),"") -> 9.698456 | P7: =IF(Tableau_fin[[#This Row],[Financement (A)]]=0,"",IF(ISNUMBER(Tableau_fin[[#This Row],[PES (A)]]),O7/Tableau_fin[[#This Row],[PES (A)]]*1000,"")) -> 1.3976734 | Q7: =IF(ISNUMBER(Tableau_fin[[#This Row],[PES (B)]]),IF(Tableau_fin[[#This Row],[PES (B)]]<$I7,$H7*Tableau_fin[[#This Row],[PES (B)]],IF($L7<>0,IF((Tableau_fin[[#This Row],[PES (B)]]>$L7),($M7*Tableau_fin[[#This Row],[PES (B)]])+$N7,($J7*Tableau_fin[[#This Row],[PES (B)]])+$K7),$J7*Tableau_fin[[#This Row],[PES (B)]]+$K7)),"") -> 9.590224 | R7: =IF(Tableau_fin[[#This Row],[Financement (B)]]=0,"",IF(ISNUMBER(Tableau_fin[[#This Row],[Financement (B)]]),Q7/Tableau_fin[[#This Row],[PES (B)]]*1000,"")) -> 1.3988075 | T7: =IF(Tableau_fin[[#This Row],[PES]]>0,IF(Tableau_fin[[#This Row],[PES]]<$I7,$H7*Tableau_fin[[#This Row],[PES]],IF($L7<>0,IF((Tableau_fin[[#This Row],[PES]]>$L7),($M7*Tableau_fin[[#This Row],[PES]])+$N7,($J7*Tableau_fin[[#This Row],[PES]])+$K7),$J7*Tableau_fin[[#This Row],[PES]]+$K7)),"") | U7: =IF(Tableau_fin[[#This Row],[PES]]>0,Tableau_fin[[#This Row],[Financement]]/Tableau_fin[[#This Row],[PES]]*1000,"") | V7: 36 | W7: =IF(O7=0,"",Tableau_fin[[#This Row],[Financement (A)]]/(Tableau_fin[[#This Row],[PES (A)]]/Tableau_fin[[#This Row],[Nej]])*100) -> 5.0316244
B8: 000.05 | C8: Mise à niveau | E8: =_xlfn.IFNA(VLOOKUP($B8,'Données PES'!$A$2:$AA$101,MATCH('Calcul financement'!E$3,'Données PES'!$2:$2),FALSE),"") -> 4933 | F8: =_xlfn.IFNA(VLOOKUP($B8,'Données PES'!$A$2:$AA$101,MATCH('Calcul financement'!F$3,'Données PES'!$2:$2),FALSE),"") -> 1719 | G8: =IF(ISNUMBER(Tableau_fin[[#This Row],[PES (A)]]),IF(Tableau_fin[[#This Row],[PES (A)]]>0,(Tableau_fin[[#This Row],[PES (B)]]-Tableau_fin[[#This Row],[PES (A)]])/Tableau_fin[[#This Row],[PES (A)]],""),"") -> -0.65153051 | H8: 0.001545 | I8: 200 | J8: 0.002536 | K8: -0.02 | L8: 286 | M8: 0.001311 | N8: 0.33 | O8: =IF(ISNUMBER(Tableau_fin[[#This Row],[PES (A)]]),IF(Tableau_fin[[#This Row],[PES (A)]]<$I8,$H8*Tableau_fin[[#This Row],[PES (A)]],IF($L8<>0,IF((Tableau_fin[[#This Row],[PES (A)]]>$L8),($M8*Tableau_fin[[#This Row],[PES (A)]])+$N8,($J8*Tableau_fin[[#This Row],[PES (A)]])+$K8),$J8*Tableau_fin[[#This Row],[PES (A)]]+$K8)),"") -> 6.797163 | P8: =IF(Tableau_fin[[#This Row],[Financement (A)]]=0,"",IF(ISNUMBER(Tableau_fin[[#This Row],[PES (A)]]),O8/Tableau_fin[[#This Row],[PES (A)]]*1000,"")) -> 1.3778964 | Q8: =IF(ISNUMBER(Tableau_fin[[#This Row],[PES (B)]]),IF(Tableau_fin[[#This Row],[PES (B)]]<$I8,$H8*Tableau_fin[[#This Row],[PES (B)]],IF($L8<>0,IF((Tableau_fin[[#This Row],[PES (B)]]>$L8),($M8*Tableau_fin[[#This Row],[PES (B)]])+$N8,($J8*Tableau_fin[[#This Row],[PES (B)]])+$K8),$J8*Tableau_fin[[#This Row],[PES (B)]]+$K8)),"") -> 2.583609 | R8: =IF(Tableau_fin[[#This Row],[Financement (B)]]=0,"",IF(ISNUMBER(Tableau_fin[[#This Row],[Financement (B)]]),Q8/Tableau_fin[[#This Row],[PES (B)]]*1000,"")) -> 1.5029721 | T8: =IF(Tableau_fin[[#This Row],[PES]]>0,IF(Tableau_fin[[#This Row],[PES]]<$I8,$H8*Tableau_fin[[#This Row],[PES]],IF($L8<>0,IF((Tableau_fin[[#This Row],[PES]]>$L8),($M8*Tableau_fin[[#This Row],[PES]])+$N8,($J8*Tableau_fin[[#This Row],[PES]])+$K8),$J8*Tableau_fin[[#This Row],[PES]]+$K8)),"") | U8: =IF(Tableau_fin[[#This Row],[PES]]>0,Tableau_fin[[#This Row],[Financement]]/Tableau_fin[[#This Row],[PES]]*1000,"") | V8: 36 | W8: =IF(O8=0,"",Tableau_fin[[#This Row],[Financement (A)]]/(Tableau_fin[[#This Row],[PES (A)]]/Tableau_fin[[#This Row],[Nej]])*100) -> 4.9604271
B9: 080.00 | C9: Hors programme (incl. préal. univ.) | D9: 080.01, 080.02, 080.04, 080.05, 080.06, 080.07, 081.01, 081.03, 081.06, 081.AA, 081.AB, 081.B1, 081.C1 | E9: =_xlfn.IFNA(VLOOKUP($B9,'Données PES'!$A$2:$AA$101,MATCH('Calcul financement'!E$3,'Données PES'!$2:$2),FALSE),"") -> 1507 | F9: =_xlfn.IFNA(VLOOKUP($B9,'Données PES'!$A$2:$AA$101,MATCH('Calcul financement'!F$3,'Données PES'!$2:$2),FALSE),"") -> 4966 | G9: =IF(ISNUMBER(Tableau_fin[[#This Row],[PES (A)]]),IF(Tableau_fin[[#This Row],[PES (A)]]>0,(Tableau_fin[[#This Row],[PES (B)]]-Tableau_fin[[#This Row],[PES (A)]])/Tableau_fin[[#This Row],[PES (A)]],""),"") -> 2.2952887 | H9: 0.001545 | I9: 200 | J9: 0.001329 | K9: 0.2 | L9: 0 | M9: 0 | N9: 0 | O9: =IF(ISNUMBER(Tableau_fin[[#This Row],[PES (A)]]),IF(Tableau_fin[[#This Row],[PES (A)]]<$I9,$H9*Tableau_fin[[#This Row],[PES (A)]],IF($L9<>0,IF((Tableau_fin[[#This Row],[PES (A)]]>$L9),($M9*Tableau_fin[[#This Row],[PES (A)]])+$N9,($J9*Tableau_fin[[#This Row],[PES (A)]])+$K9),$J9*Tableau_fin[[#This Row],[PES (A)]]+$K9)),"") -> 2.202803 | P9: =IF(Tableau_fin[[#This Row],[Financement (A)]]=0,"",IF(ISNUMBER(Tableau_fin[[#This Row],[PES (A)]]),O9/Tableau_fin[[#This Row],[PES (A)]]*1000,"")) -> 1.461714 | Q9: =IF(ISNUMBER(Tableau_fin[[#This Row],[PES (B)]]),IF(Tableau_fin[[#This Row],[PES (B)]]<$I9,$H9*Tableau_fin[[#This Row],[PES (B)]],IF($L9<>0,IF((Tableau_fin[[#This Row],[PES (B)]]>$L9),($M9*Tableau_fin[[#This Row],[PES (B)]])+$N9,($J9*Tableau_fin[[#This Row],[PES (B)]])+$K9),$J9*Tableau_fin[[#This Row],[PES (B)]]+$K9)),"") -> 6.799814 | R9: =IF(Tableau_fin[[#This Row],[Financement (B)]]=0,"",IF(ISNUMBER(Tableau_fin[[#This Row],[Financement (B)]]),Q9/Tableau_fin[[#This Row],[PES (B)]]*1000,"")) -> 1.3692739 | T9: =IF(Tableau_fin[[#This Row],[PES]]>0,IF(Tableau_fin[[#This Row],[PES]]<$I9,$H9*Tableau_fin[[#This Row],[PES]],IF($L9<>0,IF((Tableau_fin[[#This Row],[PES]]>$L9),($M9*Tableau_fin[[#This Row],[PES]])+$N9,($J9*Tableau_fin[[#This Row],[PES]])+$K9),$J9*Tableau_fin[[#This Row],[PES]]+$K9)),"") | U9: =IF(Tableau_fin[[#This Row],[PES]]>0,Tableau_fin[[#This Row],[Financement]]/Tableau_fin[[#This Row],[PES]]*1000,"") | V9: 36 | W9: =IF(O9=0,"",Tableau_fin[[#This Row],[Financement (A)]]/(Tableau_fin[[#This Row],[PES (A)]]/Tableau_fin[[#This Row],[Nej]])*100) -> 5.2621704
B10: 111.A0 | C10: Techniques d'hygiène dentaire | D10: 111.01, 111.A0 | E10: =_xlfn.IFNA(VLOOKUP($B10,'Données PES'!$A$2:$AA$101,MATCH('Calcul financement'!E$3,'Données PES'!$2:$2),FALSE),"") -> 3125 | F10: =_xlfn.IFNA(VLOOKUP($B10,'Données PES'!$A$2:$AA$101,MATCH('Calcul financement'!F$3,'Données PES'!$2:$2),FALSE),"") -> 2683 | G10: =IF(ISNUMBER(Tableau_fin[[#This Row],[PES (A)]]),IF(Tableau_fin[[#This Row],[PES (A)]]>0,(Tableau_fin[[#This Row],[PES (B)]]-Tableau_fin[[#This Row],[PES (A)]])/Tableau_fin[[#This Row],[PES (A)]],""),"") -> -0.14144 | H10: 0.001545 | I10: 1740 | J10: 0.002822 | K10: 1.05 | L10: 0 | M10: 0 | N10: 0 | O10: =IF(ISNUMBER(Tableau_fin[[#This Row],[PES (A)]]),IF(Tableau_fin[[#This Row],[PES (A)]]<$I10,$H10*Tableau_fin[[#This Row],[PES (A)]],IF($L10<>0,IF((Tableau_fin[[#This Row],[PES (A)]]>$L10),($M10*Tableau_fin[[#This Row],[PES (A)]])+$N10,($J10*Tableau_fin[[#This Row],[PES (A)]])+$K10),$J10*Tableau_fin[[#This Row],[PES (A)]]+$K10)),"") -> 9.86875 | P10: =IF(Tableau_fin[[#This Row],[Financement (A)]]=0,"",IF(ISNUMBER(Tableau_fin[[#This Row],[PES (A)]]),O10/Tableau_fin[[#This Row],[PES (A)]]*1000,"")) -> 3.158 | Q10: =IF(ISNUMBER(Tableau_fin[[#This Row],[PES (B)]]),IF(Tableau_fin[[#This Row],[PES (B)]]<$I10,$H10*Tableau_fin[[#This Row],[PES (B)]],IF($L10<>0,IF((Tableau_fin[[#This Row],[PES (B)]]>$L10),($M10*Tableau_fin[[#This Row],[PES (B)]])+$N10,($J10*Tableau_fin[[#This Row],[PES (B)]])+$K10),$J10*Tableau_fin[[#This Row],[PES (B)]]+$K10)),"") -> 8.621426 | R10: =IF(Tableau_fin[[#This Row],[Financement (B)]]=0,"",IF(ISNUMBER(Tableau_fin[[#This Row],[Financement (B)]]),Q10/Tableau_fin[[#This Row],[PES (B)]]*1000,"")) -> 3.213353 | T10: =IF(Tableau_fin[[#This Row],[PES]]>0,IF(Tableau_fin[[#This Row],[PES]]<$I10,$H10*Tableau_fin[[#This Row],[PES]],IF($L10<>0,IF((Tableau_fin[[#This Row],[PES]]>$L10),($M10*Tableau_fin[[#This Row],[PES]])+$N10,($J10*Tableau_fin[[#This Row],[PES]])+$K10),$J10*Tableau_fin[[#This Row],[PES]]+$K10)),"") | U10: =IF(Tableau_fin[[#This Row],[PES]]>0,Tableau_fin[[#This Row],[Financement]]/Tableau_fin[[#This Row],[PES]]*1000,"") | V10: 15 | W10: =IF(O10=0,"",Tableau_fin[[#This Row],[Financement (A)]]/(Tableau_fin[[#This Row],[PES (A)]]/Tableau_fin[[#This Row],[Nej]])*100) -> 4.737
B11: 120.A0 | C11: Techniques de diététique | D11: 570.03, 570.E1 | E11: =_xlfn.IFNA(VLOOKUP($B11,'Données PES'!$A$2:$AA$101,MATCH('Calcul financement'!E$3,'Données PES'!$2:$2),FALSE),"") -> 0 | F11: =_xlfn.IFNA(VLOOKUP($B11,'Données PES'!$A$2:$AA$101,MATCH('Calcul financement'!F$3,'Données PES'!$2:$2),FALSE),"") -> 835 | G11: =IF(ISNUMBER(Tableau_fin[[#This Row],[PES (A)]]),IF(Tableau_fin[[#This Row],[PES (A)]]>0,(Tableau_fin[[#This Row],[PES (B)]]-Tableau_fin[[#This Row],[PES (A)]])/Tableau_fin[[#This Row],[PES (A)]],""),"") | H11: 0.001545 | I11: 1010 | J11: 0.001485 | K11: 1.82 | L11: 0 | M11: 0 | N11: 0 | O11: =IF(ISNUMBER(Tableau_fin[[#This Row],[PES (A)]]),IF(Tableau_fin[[#This Row],[PES (A)]]<$I11,$H11*Tableau_fin[[#This Row],[PES (A)]],IF($L11<>0,IF((Tableau_fin[[#This Row],[PES (A)]]>$L11),($M11*Tableau_fin[[#This Row],[PES (A)]])+$N11,($J11*Tableau_fin[[#This Row],[PES (A)]])+$K11),$J11*Tableau_fin[[#This Row],[PES (A)]]+$K11)),"") -> 0 | P11: =IF(Tableau_fin[[#This Row],[Financement (A)]]=0,"",IF(ISNUMBER(Tableau_fin[[#This Row],[PES (A)]]),O11/Tableau_fin[[#This Row],[PES (A)]]*1000,"")) | Q11: =IF(ISNUMBER(Tableau_fin[[#This Row],[PES (B)]]),IF(Tableau_fin[[#This Row],[PES (B)]]<$I11,$H11*Tableau_fin[[#This Row],[PES (B)]],IF($L11<>0,IF((Tableau_fin[[#This Row],[PES (B)]]>$L11),($M11*Tableau_fin[[#This Row],[PES (B)]])+$N11,($J11*Tableau_fin[[#This Row],[PES (B)]])+$K11),$J11*Tableau_fin[[#This Row],[PES (B)]]+$K11)),"") -> 1.290075 | R11: =IF(Tableau_fin[[#This Row],[Financement (B)]]=0,"",IF(ISNUMBER(Tableau_fin[[#This Row],[Financement (B)]]),Q11/Tableau_fin[[#This Row],[PES (B)]]*1000,"")) -> 1.545 | T11: =IF(Tableau_fin[[#This Row],[PES]]>0,IF(Tableau_fin[[#This Row],[PES]]<$I11,$H11*Tableau_fin[[#This Row],[PES]],IF($L11<>0,IF((Tableau_fin[[#This Row],[PES]]>$L11),($M11*Tableau_fin[[#This Row],[PES]])+$N11,($J11*Tableau_fin[[#This Row],[PES]])+$K11),$J11*Tableau_fin[[#This Row],[PES]]+$K11)),"") | U11: =IF(Tableau_fin[[#This Row],[PES]]>0,Tableau_fin[[#This Row],[Financement]]/Tableau_fin[[#This Row],[PES]]*1000,"") | V11: 20.2 | W11: =IF(O11=0,"",Tableau_fin[[#This Row],[Financement (A)]]/(Tableau_fin[[#This Row],[PES (A)]]/Tableau_fin[[#This Row],[Nej]])*100)
B12: 140.C0 | C12: Technologie d'analyses biomédicales | D12: 140.B0, 140.C0 | E12: =_xlfn.IFNA(VLOOKUP($B12,'Données PES'!$A$2:$AA$101,MATCH('Calcul financement'!E$3,'Données PES'!$2:$2),FALSE),"") -> 3346 | F12: =_xlfn.IFNA(VLOOKUP($B12,'Données PES'!$A$2:$AA$101,MATCH('Calcul financement'!F$3,'Données PES'!$2:$2),FALSE),"") -> 2699 | G12: =IF(ISNUMBER(Tableau_fin[[#This Row],[PES (A)]]),IF(Tableau_fin[[#This Row],[PES (A)]]>0,(Tableau_fin[[#This Row],[PES (B)]]-Tableau_fin[[#This Row],[PES (A)]])/Tableau_fin[[#This Row],[PES (A)]],""),"") -> -0.19336521 | H12: 0.001545 | I12: 870 | J12: 0.001299 | K12: 1.33 | L12: 0 | M12: 0 | N12: 0 | O12: =IF(ISNUMBER(Tableau_fin[[#This Row],[PES (A)]]),IF(Tableau_fin[[#This Row],[PES (A)]]<$I12,$H12*Tableau_fin[[#This Row],[PES (A)]],IF($L12<>0,IF((Tableau_fin[[#This Row],[PES (A)]]>$L12),($M12*Tableau_fin[[#This Row],[PES (A)]])+$N12,($J12*Tableau_fin[[#This Row],[PES (A)]])+$K12),$J12*Tableau_fin[[#This Row],[PES (A)]]+$K12)),"") -> 5.676454 | P12: =IF(Tableau_fin[[#This Row],[Financement (A)]]=0,"",IF(ISNUMBER(Tableau_fin[[#This Row],[PES (A)]]),O12/Tableau_fin[[#This Row],[PES (A)]]*1000,"")) -> 1.6964895 | Q12: =IF(ISNUMBER(Tableau_fin[[#This Row],[PES (B)]]),IF(Tableau_fin[[#This Row],[PES (B)]]<$I12,$H12*Tableau_fin[[#This Row],[PES (B)]],IF($L12<>0,IF((Tableau_fin[[#This Row],[PES (B)]]>$L12),($M12*Tableau_fin[[#This Row],[PES (B)]])+$N12,($J12*Tableau_fin[[#This Row],[PES (B)]])+$K12),$J12*Tableau_fin[[#This Row],[PES (B)]]+$K12)),"") -> 4.836001 | R12: =IF(Tableau_fin[[#This Row],[Financement (B)]]=0,"",IF(ISNUMBER(Tableau_fin[[#This Row],[Financement (B)]]),Q12/Tableau_fin[[#This Row],[PES (B)]]*1000,"")) -> 1.7917751 | T12: =IF(Tableau_fin[[#This Row],[PES]]>0,IF(Tableau_fin[[#This Row],[PES]]<$I12,$H12*Tableau_fin[[#This Row],[PES]],IF($L12<>0,IF((Tableau_fin[[#This Row],[PES]]>$L12),($M12*Tableau_fin[[#This Row],[PES]])+$N12,($J12*Tableau_fin[[#This Row],[PES]])+$K12),$J12*Tableau_fin[[#This Row],[PES]]+$K12)),"") | U12: =IF(Tableau_fin[[#This Row],[PES]]>0,Tableau_fin[[#This Row],[Financement]]/Tableau_fin[[#This Row],[PES]]*1000,"") | V12: 24 | W12: =IF(O12=0,"",Tableau_fin[[#This Row],[Financement (A)]]/(Tableau_fin[[#This Row],[PES (A)]]/Tableau_fin[[#This Row],[Nej]])*100) -> 4.0715749
B13: 141.A0 | C13: Techniques d'inhalothérapie | D13: 141.A0 | E13: =_xlfn.IFNA(VLOOKUP($B13,'Données PES'!$A$2:$AA$101,MATCH('Calcul financement'!E$3,'Données PES'!$2:$2),FALSE),"") -> 2087 | F13: =_xlfn.IFNA(VLOOKUP($B13,'Données PES'!$A$2:$AA$101,MATCH('Calcul financement'!F$3,'Données PES'!$2:$2),FALSE),"") -> 1553 | G13: =IF(ISNUMBER(Tableau_fin[[#This Row],[PES (A)]]),IF(Tableau_fin[[#This Row],[PES (A)]]>0,(Tableau_fin[[#This Row],[PES (B)]]-Tableau_fin[[#This Row],[PES (A)]])/Tableau_fin[[#This Row],[PES (A)]],""),"") -> -0.25586967 | H13: 0.001545 | I13: 1670 | J13: 0.001563 | K13: 0.84 | L13: 0 | M13: 0 | N13: 0 | O13: =IF(ISNUMBER(Tableau_fin[[#This Row],[PES (A)]]),IF(Tableau_fin[[#This Row],[PES (A)]]<$I13,$H13*Tableau_fin[[#This Row],[PES (A)]],IF($L13<>0,IF((Tableau_fin[[#This Row],[PES (A)]]>$L13),($M13*Tableau_fin[[#This Row],[PES (A)]])+$N13,($J13*Tableau_fin[[#This Row],[PES (A)]])+$K13),$J13*Tableau_fin[[#This Row],[PES (A)]]+$K13)),"") -> 4.101981 | P13: =IF(Tableau_fin[[#This Row],[Financement (A)]]=0,"",IF(ISNUMBER(Tableau_fin[[#This Row],[PES (A)]]),O13/Tableau_fin[[#This Row],[PES (A)]]*1000,"")) -> 1.9654916 | Q13: =IF(ISNUMBER(Tableau_fin[[#This Row],[PES (B)]]),IF(Tableau_fin[[#This Row],[PES (B)]]<$I13,$H13*Tableau_fin[[#This Row],[PES (B)]],IF($L13<>0,IF((Tableau_fin[[#This Row],[PES (B)]]>$L13),($M13*Tableau_fin[[#This Row],[PES (B)]])+$N13,($J13*Tableau_fin[[#This Row],[PES (B)]])+$K13),$J13*Tableau_fin[[#This Row],[PES (B)]]+$K13)),"") -> 2.399385 | R13: =IF(Tableau_fin[[#This Row],[Financement (B)]]=0,"",IF(ISNUMBER(Tableau_fin[[#This Row],[Financement (B)]]),Q13/Tableau_fin[[#This Row],[PES (B)]]*1000,"")) -> 1.545 | T13: =IF(Tableau_fin[[#This Row],[PES]]>0,IF(Tableau_fin[[#This Row],[PES]]<$I13,$H13*Tableau_fin[[#This Row],[PES]],IF($L13<>0,IF((Tableau_fin[[#This Row],[PES]]>$L13),($M13*Tableau_fin[[#This Row],[PES]])+$N13,($J13*Tableau_fin[[#This Row],[PES]])+$K13),$J13*Tableau_fin[[#This Row],[PES]]+$K13)),"") | U13: =IF(Tableau_fin[[#This Row],[PES]]>0,Tableau_fin[[#This Row],[Financement]]/Tableau_fin[[#This Row],[PES]]*1000,"") | V13: 24 | W13: =IF(O13=0,"",Tableau_fin[[#This Row],[Financement (A)]]/(Tableau_fin[[#This Row],[PES (A)]]/Tableau_fin[[#This Row],[Nej]])*100) -> 4.7171799
B14: 180.A0 | C14: Soins infirmiers | D14: 180.01, 180.A0, 180.B0 | E14: =_xlfn.IFNA(VLOOKUP($B14,'Données PES'!$A$2:$AA$101,MATCH('Calcul financement'!E$3,'Données PES'!$2:$2),FALSE),"") -> 12074 | F14: =_xlfn.IFNA(VLOOKUP($B14,'Données PES'!$A$2:$AA$101,MATCH('Calcul financement'!F$3,'Données PES'!$2:$2),FALSE),"") -> 10336 | G14: =IF(ISNUMBER(Tableau_fin[[#This Row],[PES (A)]]),IF(Tableau_fin[[#This Row],[PES (A)]]>0,(Tableau_fin[[#This Row],[PES (B)]]-Tableau_fin[[#This Row],[PES (A)]])/Tableau_fin[[#This Row],[PES (A)]],""),"") -> -0.14394567 | H14: 0.001545 | I14: 1197 | J14: 0.002658 | K14: 1.45 | L14: 0 | M14: 0 | N14: 0 | O14: =IF(ISNUMBER(Tableau_fin[[#This Row],[PES (A)]]),IF(Tableau_fin[[#This Row],[PES (A)]]<$I14,$H14*Tableau_fin[[#This Row],[PES (A)]],IF($L14<>0,IF((Tableau_fin[[#This Row],[PES (A)]]>$L14),($M14*Tableau_fin[[#This Row],[PES (A)]])+$N14,($J14*Tableau_fin[[#This Row],[PES (A)]])+$K14),$J14*Tableau_fin[[#This Row],[PES (A)]]+$K14)),"") -> 33.542692 | P14: =IF(Tableau_fin[[#This Row],[Financement (A)]]=0,"",IF(ISNUMBER(Tableau_fin[[#This Row],[PES (A)]]),O14/Tableau_fin[[#This Row],[PES (A)]]*1000,"")) -> 2.7780928 | Q14: =IF(ISNUMBER(Tableau_fin[[#This Row],[PES (B)]]),IF(Tableau_fin[[#This Row],[PES (B)]]<$I14,$H14*Tableau_fin[[#This Row],[PES (B)]],IF($L14<>0,IF((Tableau_fin[[#This Row],[PES (B)]]>$L14),($M14*Tableau_fin[[#This Row],[PES (B)]])+$N14,($J14*Tableau_fin[[#This Row],[PES (B)]])+$K14),$J14*Tableau_fin[[#This Row],[PES (B)]]+$K14)),"") -> 28.923088 | R14: =IF(Tableau_fin[[#This Row],[Financement (B)]]=0,"",IF(ISNUMBER(Tableau_fin[[#This Row],[Financement (B)]]),Q14/Tableau_fin[[#This Row],[PES (B)]]*1000,"")) -> 2.7982864 | T14: =IF(Tableau_fin[[#This Row],[PES]]>0,IF(Tableau_fin[[#This Row],[PES]]<$I14,$H14*Tableau_fin[[#This Row],[PES]],IF($L14<>0,IF((Tableau_fin[[#This Row],[PES]]>$L14),($M14*Tableau_fin[[#This Row],[PES]])+$N14,($J14*Tableau_fin[[#This Row],[PES]])+$K14),$J14*Tableau_fin[[#This Row],[PES]]+$K14)),"") | U14: =IF(Tableau_fin[[#This Row],[PES]]>0,Tableau_fin[[#This Row],[Financement]]/Tableau_fin[[#This Row],[PES]]*1000,"") | V14: 21 | W14: =IF(O14=0,"",Tableau_fin[[#This Row],[Financement (A)]]/(Tableau_fin[[#This Row],[PES (A)]]/Tableau_fin[[#This Row],[Nej]])*100) -> 5.8339948
B15: 181.A0 | C15: Soins préhospitaliers d'urgence | D15: 181.A0 | E15: =_xlfn.IFNA(VLOOKUP($B15,'Données PES'!$A$2:$AA$101,MATCH('Calcul financement'!E$3,'Données PES'!$2:$2),FALSE),"") -> 2563 | F15: =_xlfn.IFNA(VLOOKUP($B15,'Données PES'!$A$2:$AA$101,MATCH('Calcul financement'!F$3,'Données PES'!$2:$2),FALSE),"") -> 3121 | G15: =IF(ISNUMBER(Tableau_fin[[#This Row],[PES (A)]]),IF(Tableau_fin[[#This Row],[PES (A)]]>0,(Tableau_fin[[#This Row],[PES (B)]]-Tableau_fin[[#This Row],[PES (A)]])/Tableau_fin[[#This Row],[PES (A)]],""),"") -> 0.21771362 | H15: 0.001545 | I15: 2070 | J15: 0.001726 | K15: 1.64 | L15: 0 | M15: 0 | N15: 0 | O15: =IF(ISNUMBER(Tableau_fin[[#This Row],[PES (A)]]),IF(Tableau_fin[[#This Row],[PES (A)]]<$I15,$H15*Tableau_fin[[#This Row],[PES (A)]],IF($L15<>0,IF((Tableau_fin[[#This Row],[PES (A)]]>$L15),($M15*Tableau_fin[[#This Row],[PES (A)]])+$N15,($J15*Tableau_fin[[#This Row],[PES (A)]])+$K15),$J15*Tableau_fin[[#This Row],[PES (A)]]+$K15)),"") -> 6.063738 | P15: =IF(Tableau_fin[[#This Row],[Financement (A)]]=0,"",IF(ISNUMBER(Tableau_fin[[#This Row],[PES (A)]]),O15/Tableau_fin[[#This Row],[PES (A)]]*1000,"")) -> 2.3658751 | Q15: =IF(ISNUMBER(Tableau_fin[[#This Row],[PES (B)]]),IF(Tableau_fin[[#This Row],[PES (B)]]<$I15,$H15*Tableau_fin[[#This Row],[PES (B)]],IF($L15<>0,IF((Tableau_fin[[#This Row],[PES (B)]]>$L15),($M15*Tableau_fin[[#This Row],[PES (B)]])+$N15,($J15*Tableau_fin[[#This Row],[PES (B)]])+$K15),$J15*Tableau_fin[[#This Row],[PES (B)]]+$K15)),"") -> 7.026846 | R15: =IF(Tableau_fin[[#This Row],[Financement (B)]]=0,"",IF(ISNUMBER(Tableau_fin[[#This Row],[Financement (B)]]),Q15/Tableau_fin[[#This Row],[PES (B)]]*1000,"")) -> 2.2514726 | T15: =IF(Tableau_fin[[#This Row],[PES]]>0,IF(Tableau_fin[[#This Row],[PES]]<$I15,$H15*Tableau_fin[[#This Row],[PES]],IF($L15<>0,IF((Tableau_fin[[#This Row],[PES]]>$L15),($M15*Tableau_fin[[#This Row],[PES]])+$N15,($J15*Tableau_fin[[#This Row],[PES]])+$K15),$J15*Tableau_fin[[#This Row],[PES]]+$K15)),"") | U15: =IF(Tableau_fin[[#This Row],[PES]]>0,Tableau_fin[[#This Row],[Financement]]/Tableau_fin[[#This Row],[PES]]*1000,"") | V15: 24 | W15: =IF(O15=0,"",Tableau_fin[[#This Row],[Financement (A)]]/(Tableau_fin[[#This Row],[PES (A)]]/Tableau_fin[[#This Row],[Nej]])*100) -> 5.6781004
B16: 200.B0 | C16: Sciences de la nature | D16: 200.01, 200.B0 | E16: =_xlfn.IFNA(VLOOKUP($B16,'Données PES'!$A$2:$AA$101,MATCH('Calcul financement'!E$3,'Données PES'!$2:$2),FALSE),"") -> 16491 | F16: =_xlfn.IFNA(VLOOKUP($B16,'Données PES'!$A$2:$AA$101,MATCH('Calcul financement'!F$3,'Données PES'!$2:$2),FALSE),"") -> 15603 | G16: =IF(ISNUMBER(Tableau_fin[[#This Row],[PES (A)]]),IF(Tableau_fin[[#This Row],[PES (A)]]>0,(Tableau_fin[[#This Row],[PES (B)]]-Tableau_fin[[#This Row],[PES (A)]])/Tableau_fin[[#This Row],[PES (A)]],""),"") -> -0.053847553 | H16: 0.001545 | I16: 200 | J16: 0.001293 | K16: 1.01 | L16: 0 | M16: 0 | N16: 0 | O16: =IF(ISNUMBER(Tableau_fin[[#This Row],[PES (A)]]),IF(Tableau_fin[[#This Row],[PES (A)]]<$I16,$H16*Tableau_fin[[#This Row],[PES (A)]],IF($L16<>0,IF((Tableau_fin[[#This Row],[PES (A)]]>$L16),($M16*Tableau_fin[[#This Row],[PES (A)]])+$N16,($J16*Tableau_fin[[#This Row],[PES (A)]])+$K16),$J16*Tableau_fin[[#This Row],[PES (A)]]+$K16)),"") -> 22.332863 | P16: =IF(Tableau_fin[[#This Row],[Financement (A)]]=0,"",IF(ISNUMBER(Tableau_fin[[#This Row],[PES (A)]]),O16/Tableau_fin[[#This Row],[PES (A)]]*1000,"")) -> 1.3542455 | Q16: =IF(ISNUMBER(Tableau_fin[[#This Row],[PES (B)]]),IF(Tableau_fin[[#This Row],[PES (B)]]<$I16,$H16*Tableau_fin[[#This Row],[PES (B)]],IF($L16<>0,IF((Tableau_fin[[#This Row],[PES (B)]]>$L16),($M16*Tableau_fin[[#This Row],[PES (B)]])+$N16,($J16*Tableau_fin[[#This Row],[PES (B)]])+$K16),$J16*Tableau_fin[[#This Row],[PES (B)]]+$K16)),"") -> 21.184679 | R16: =IF(Tableau_fin[[#This Row],[Financement (B)]]=0,"",IF(ISNUMBER(Tableau_fin[[#This Row],[Financement (B)]]),Q16/Tableau_fin[[#This Row],[PES (B)]]*1000,"")) -> 1.3577311 | T16: =IF(Tableau_fin[[#This Row],[PES]]>0,IF(Tableau_fin[[#This Row],[PES]]<$I16,$H16*Tableau_fin[[#This Row],[PES]],IF($L16<>0,IF((Tableau_fin[[#This Row],[PES]]>$L16),($M16*Tableau_fin[[#This Row],[PES]])+$N16,($J16*Tableau_fin[[#This Row],[PES]])+$K16),$J16*Tableau_fin[[#This Row],[PES]]+$K16)),"") | U16: =IF(Tableau_fin[[#This Row],[PES]]>0,Tableau_fin[[#This Row],[Financement]]/Tableau_fin[[#This Row],[PES]]*1000,"") | V16: 30 | W16: =IF(O16=0,"",Tableau_fin[[#This Row],[Financement (A)]]/(Tableau_fin[[#This Row],[PES (A)]]/Tableau_fin[[#This Row],[Nej]])*100) -> 4.0627366
B17: 210.A0 | C17: Techniques de laboratoire | D17: 210.01, 210.03, 210.A0, 210.AA, 210.AB | E17: =_xlfn.IFNA(VLOOKUP($B17,'Données PES'!$A$2:$AA$101,MATCH('Calcul financement'!E$3,'Données PES'!$2:$2),FALSE),"") -> 1506 | F17: =_xlfn.IFNA(VLOOKUP($B17,'Données PES'!$A$2:$AA$101,MATCH('Calcul financement'!F$3,'Données PES'!$2:$2),FALSE),"") -> 1409 | G17: =IF(ISNUMBER(Tableau_fin[[#This Row],[PES (A)]]),IF(Tableau_fin[[#This Row],[PES (A)]]>0,(Tableau_fin[[#This Row],[PES (B)]]-Tableau_fin[[#This Row],[PES (A)]])/Tableau_fin[[#This Row],[PES (A)]],""),"") -> -0.064409031 | H17: 0.001545 | I17: 440 | J17: 0.001434 | K17: 1.62 | L17: 0 | M17: 0 | N17: 0 | O17: =IF(ISNUMBER(Tableau_fin[[#This Row],[PES (A)]]),IF(Tableau_fin[[#This Row],[PES (A)]]<$I17,$H17*Tableau_fin[[#This Row],[PES (A)]],IF($L17<>0,IF((Tableau_fin[[#This Row],[PES (A)]]>$L17),($M17*Tableau_fin[[#This Row],[PES (A)]])+$N17,($J17*Tableau_fin[[#This Row],[PES (A)]])+$K17),$J17*Tableau_fin[[#This Row],[PES (A)]]+$K17)),"") -> 3.779604 | P17: =IF(Tableau_fin[[#This Row],[Financement (A)]]=0,"",IF(ISNUMBER(Tableau_fin[[#This Row],[PES (A)]]),O17/Tableau_fin[[#This Row],[PES (A)]]*1000,"")) -> 2.5096972 | Q17: =IF(ISNUMBER(Tableau_fin[[#This Row],[PES (B)]]),IF(Tableau_fin[[#This Row],[PES (B)]]<$I17,$H17*Tableau_fin[[#This Row],[PES (B)]],IF($L17<>0,IF((Tableau_fin[[#This Row],[PES (B)]]>$L17),($M17*Tableau_fin[[#This Row],[PES (B)]])+$N17,($J17*Tableau_fin[[#This Row],[PES (B)]])+$K17),$J17*Tableau_fin[[#This Row],[PES (B)]]+$K17)),"") -> 3.640506 | R17: =IF(Tableau_fin[[#This Row],[Financement (B)]]=0,"",IF(ISNUMBER(Tableau_fin[[#This Row],[Financement (B)]]),Q17/Tableau_fin[[#This Row],[PES (B)]]*1000,"")) -> 2.5837516 | T17: =IF(Tableau_fin[[#This Row],[PES]]>0,IF(Tableau_fin[[#This Row],[PES]]<$I17,$H17*Tableau_fin[[#This Row],[PES]],IF($L17<>0,IF((Tableau_fin[[#This Row],[PES]]>$L17),($M17*Tableau_fin[[#This Row],[PES]])+$N17,($J17*Tableau_fin[[#This Row],[PES]])+$K17),$J17*Tableau_fin[[#This Row],[PES]]+$K17)),"") | U17: =IF(Tableau_fin[[#This Row],[PES]]>0,Tableau_fin[[#This Row],[Financement]]/Tableau_fin[[#This Row],[PES]]*1000,"") | V17: 21 | W17: =IF(O17=0,"",Tableau_fin[[#This Row],[Financement (A)]]/(Tableau_fin[[#This Row],[PES (A)]]/Tableau_fin[[#This Row],[Nej]])*100) -> 5.2703641
B18: 221.A0 | C18: Technologie de l'architecture | D18: 221.01, 221.A0 | E18: =_xlfn.IFNA(VLOOKUP($B18,'Données PES'!$A$2:$AA$101,MATCH('Calcul financement'!E$3,'Données PES'!$2:$2),FALSE),"") -> 2143 | F18: =_xlfn.IFNA(VLOOKUP($B18,'Données PES'!$A$2:$AA$101,MATCH('Calcul financement'!F$3,'Données PES'!$2:$2),FALSE),"") -> 2781 | G18: =IF(ISNUMBER(Tableau_fin[[#This Row],[PES (A)]]),IF(Tableau_fin[[#This Row],[PES (A)]]>0,(Tableau_fin[[#This Row],[PES (B)]]-Tableau_fin[[#This Row],[PES (A)]])/Tableau_fin[[#This Row],[PES (A)]],""),"") -> 0.29771349 | H18: 0.001545 | I18: 1079 | J18: 0.001447 | K18: 0.98 | L18: 0 | M18: 0 | N18: 0 | O18: =IF(ISNUMBER(Tableau_fin[[#This Row],[PES (A)]]),IF(Tableau_fin[[#This Row],[PES (A)]]<$I18,$H18*Tableau_fin[[#This Row],[PES (A)]],IF($L18<>0,IF((Tableau_fin[[#This Row],[PES (A)]]>$L18),($M18*Tableau_fin[[#This Row],[PES (A)]])+$N18,($J18*Tableau_fin[[#This Row],[PES (A)]])+$K18),$J18*Tableau_fin[[#This Row],[PES (A)]]+$K18)),"") -> 4.080921 | P18: =IF(Tableau_fin[[#This Row],[Financement (A)]]=0,"",IF(ISNUMBER(Tableau_fin[[#This Row],[PES (A)]]),O18/Tableau_fin[[#This Row],[PES (A)]]*1000,"")) -> 1.9043028 | Q18: =IF(ISNUMBER(Tableau_fin[[#This Row],[PES (B)]]),IF(Tableau_fin[[#This Row],[PES (B)]]<$I18,$H18*Tableau_fin[[#This Row],[PES (B)]],IF($L18<>0,IF((Tableau_fin[[#This Row],[PES (B)]]>$L18),($M18*Tableau_fin[[#This Row],[PES (B)]])+$N18,($J18*Tableau_fin[[#This Row],[PES (B)]])+$K18),$J18*Tableau_fin[[#This Row],[PES (B)]]+$K18)),"") -> 5.004107 | R18: =IF(Tableau_fin[[#This Row],[Financement (B)]]=0,"",IF(ISNUMBER(Tableau_fin[[#This Row],[Financement (B)]]),Q18/Tableau_fin[[#This Row],[PES (B)]]*1000,"")) -> 1.7993912 | T18: =IF(Tableau_fin[[#This Row],[PES]]>0,IF(Tableau_fin[[#This Row],[PES]]<$I18,$H18*Tableau_fin[[#This Row],[PES]],IF($L18<>0,IF((Tableau_fin[[#This Row],[PES]]>$L18),($M18*Tableau_fin[[#This Row],[PES]])+$N18,($J18*Tableau_fin[[#This Row],[PES]])+$K18),$J18*Tableau_fin[[#This Row],[PES]]+$K18)),"") | U18: =IF(Tableau_fin[[#This Row],[PES]]>0,Tableau_fin[[#This Row],[Financement]]/Tableau_fin[[#This Row],[PES]]*1000,"") | V18: 24 | W18: =IF(O18=0,"",Tableau_fin[[#This Row],[Financement (A)]]/(Tableau_fin[[#This Row],[PES (A)]]/Tableau_fin[[#This Row],[Nej]])*100) -> 4.5703268
B19: 221.B0 | C19: Technologie du génie civil | D19: 221.02, 221.B0 | E19: =_xlfn.IFNA(VLOOKUP($B19,'Données PES'!$A$2:$AA$101,MATCH('Calcul financement'!E$3,'Données PES'!$2:$2),FALSE),"") -> 2507 | F19: =_xlfn.IFNA(VLOOKUP($B19,'Données PES'!$A$2:$AA$101,MATCH('Calcul financement'!F$3,'Données PES'!$2:$2),FALSE),"") -> 1625 | G19: =IF(ISNUMBER(Tableau_fin[[#This Row],[PES (A)]]),IF(Tableau_fin[[#This Row],[PES (A)]]>0,(Tableau_fin[[#This Row],[PES (B)]]-Tableau_fin[[#This Row],[PES (A)]])/Tableau_fin[[#This Row],[PES (A)]],""),"") -> -0.35181492 | H19: 0.001545 | I19: 400 | J19: 0.001324 | K19: 1.69 | L19: 0 | M19: 0 | N19: 0 | O19: =IF(ISNUMBER(Tableau_fin[[#This Row],[PES (A)]]),IF(Tableau_fin[[#This Row],[PES (A)]]<$I19,$H19*Tableau_fin[[#This Row],[PES (A)]],IF($L19<>0,IF((Tableau_fin[[#This Row],[PES (A)]]>$L19),($M19*Tableau_fin[[#This Row],[PES (A)]])+$N19,($J19*Tableau_fin[[#This Row],[PES (A)]])+$K19),$J19*Tableau_fin[[#This Row],[PES (A)]]+$K19)),"") -> 5.009268 | P19: =IF(Tableau_fin[[#This Row],[Financement (A)]]=0,"",IF(ISNUMBER(Tableau_fin[[#This Row],[PES (A)]]),O19/Tableau_fin[[#This Row],[PES (A)]]*1000,"")) -> 1.9981125 | Q19: =IF(ISNUMBER(Tableau_fin[[#This Row],[PES (B)]]),IF(Tableau_fin[[#This Row],[PES (B)]]<$I19,$H19*Tableau_fin[[#This Row],[PES (B)]],IF($L19<>0,IF((Tableau_fin[[#This Row],[PES (B)]]>$L19),($M19*Tableau_fin[[#This Row],[PES (B)]])+$N19,($J19*Tableau_fin[[#This Row],[PES (B)]])+$K19),$J19*Tableau_fin[[#This Row],[PES (B)]]+$K19)),"") -> 3.8415 | R19: =IF(Tableau_fin[[#This Row],[Financement (B)]]=0,"",IF(ISNUMBER(Tableau_fin[[#This Row],[Financement (B)]]),Q19/Tableau_fin[[#This Row],[PES (B)]]*1000,"")) -> 2.364 | T19: =IF(Tableau_fin[[#This Row],[PES]]>0,IF(Tableau_fin[[#This Row],[PES]]<$I19,$H19*Tableau_fin[[#This Row],[PES]],IF($L19<>0,IF((Tableau_fin[[#This Row],[PES]]>$L19),($M19*Tableau_fin[[#This Row],[PES]])+$N19,($J19*Tableau_fin[[#This Row],[PES]])+$K19),$J19*Tableau_fin[[#This Row],[PES]]+$K19)),"") | U19: =IF(Tableau_fin[[#This Row],[PES]]>0,Tableau_fin[[#This Row],[Financement]]/Tableau_fin[[#This Row],[PES]]*1000,"") | V19: 24 | W19: =IF(O19=0,"",Tableau_fin[[#This Row],[Financement (A)]]/(Tableau_fin[[#This Row],[PES (A)]]/Tableau_fin[[#This Row],[Nej]])*100) -> 4.79547
B20: 221.C0 | C20: Technologie de la mécanique du bâtiment | D20: 221.03, 221.C0 | E20: =_xlfn.IFNA(VLOOKUP($B20,'Données PES'!$A$2:$AA$101,MATCH('Calcul financement'!E$3,'Données PES'!$2:$2),FALSE),"") -> 1290 | F20: =_xlfn.IFNA(VLOOKUP($B20,'Données PES'!$A$2:$AA$101,MATCH('Calcul financement'!F$3,'Données PES'!$2:$2),FALSE),"") -> 1065 | G20: =IF(ISNUMBER(Tableau_fin[[#This Row],[PES (A)]]),IF(Tableau_fin[[#This Row],[PES (A)]]>0,(Tableau_fin[[#This Row],[PES (B)]]-Tableau_fin[[#This Row],[PES (A)]])/Tableau_fin[[#This Row],[PES (A)]],""),"") -> -0.1744186 | H20: 0.001545 | I20: 436 | J20: 0.001301 | K20: 1.73 | L20: 0 | M20: 0 | N20: 0 | O20: =IF(ISNUMBER(Tableau_fin[[#This Row],[PES (A)]]),IF(Tableau_fin[[#This Row],[PES (A)]]<$I20,$H20*Tableau_fin[[#This Row],[PES (A)]],IF($L20<>0,IF((Tableau_fin[[#This Row],[PES (A)]]>$L20),($M20*Tableau_fin[[#This Row],[PES (A)]])+$N20,($J20*Tableau_fin[[#This Row],[PES (A)]])+$K20),$J20*Tableau_fin[[#This Row],[PES (A)]]+$K20)),"") -> 3.40829 | P20: =IF(Tableau_fin[[#This Row],[Financement (A)]]=0,"",IF(ISNUMBER(Tableau_fin[[#This Row],[PES (A)]]),O20/Tableau_fin[[#This Row],[PES (A)]]*1000,"")) -> 2.6420853 | Q20: =IF(ISNUMBER(Tableau_fin[[#This Row],[PES (B)]]),IF(Tableau_fin[[#This Row],[PES (B)]]<$I20,$H20*Tableau_fin[[#This Row],[PES (B)]],IF($L20<>0,IF((Tableau_fin[[#This Row],[PES (B)]]>$L20),($M20*Tableau_fin[[#This Row],[PES (B)]])+$N20,($J20*Tableau_fin[[#This Row],[PES (B)]])+$K20),$J20*Tableau_fin[[#This Row],[PES (B)]]+$K20)),"") -> 3.115565 | R20: =IF(Tableau_fin[[#This Row],[Financement (B)]]=0,"",IF(ISNUMBER(Tableau_fin[[#This Row],[Financement (B)]]),Q20/Tableau_fin[[#This Row],[PES (B)]]*1000,"")) -> 2.9254131 | T20: =IF(Tableau_fin[[#This Row],[PES]]>0,IF(Tableau_fin[[#This Row],[PES]]<$I20,$H20*Tableau_fin[[#This Row],[PES]],IF($L20<>0,IF((Tableau_fin[[#This Row],[PES]]>$L20),($M20*Tableau_fin[[#This Row],[PES]])+$N20,($J20*Tableau_fin[[#This Row],[PES]])+$K20),$J20*Tableau_fin[[#This Row],[PES]]+$K20)),"") | U20: =IF(Tableau_fin[[#This Row],[PES]]>0,Tableau_fin[[#This Row],[Financement]]/Tableau_fin[[#This Row],[PES]]*1000,"") | V20: 24 | W20: =IF(O20=0,"",Tableau_fin[[#This Row],[Financement (A)]]/(Tableau_fin[[#This Row],[PES (A)]]/Tableau_fin[[#This Row],[Nej]])*100) -> 6.3410047
... B37: 700.A0 | C37: Sciences, lettres et arts | D37: 700.2A, 700.A0 | E37: =_xlfn.IFNA(VLOOKUP($B37,'Données PES'!$A$2:$AA$101,MATCH('Calcul financement'!E$3,'Données PES'!$2:$2),FALSE),"") -> 1589 | F37: =_xlfn.IFNA(VLOOKUP($B37,'Données PES'!$A$2:$AA$101,MATCH('Calcul financement'!F$3,'Données PES'!$2:$2),FALSE),"") -> 1260 | G37: =IF(ISNUMBER(Tableau_fin[[#This Row],[PES (A)]]),IF(Tableau_fin[[#This Row],[PES (A)]]>0,(Tableau_fin[[#This Row],[PES (B)]]-Tableau_fin[[#This Row],[PES (A)]])/Tableau_fin[[#This Row],[PES (A)]],""),"") -> -0.20704846 | H37: 0.001545 | I37: 322 | J37: 0.001232 | K37: 0.69 | L37: 0 | M37: 0 | N37: 0 | O37: =IF(ISNUMBER(Tableau_fin[[#This Row],[PES (A)]]),IF(Tableau_fin[[#This Row],[PES (A)]]<$I37,$H37*Tableau_fin[[#This Row],[PES (A)]],IF($L37<>0,IF((Tableau_fin[[#This Row],[PES (A)]]>$L37),($M37*Tableau_fin[[#This Row],[PES (A)]])+$N37,($J37*Tableau_fin[[#This Row],[PES (A)]])+$K37),$J37*Tableau_fin[[#This Row],[PES (A)]]+$K37)),"") -> 2.647648 | P37: =IF(Tableau_fin[[#This Row],[Financement (A)]]=0,"",IF(ISNUMBER(Tableau_fin[[#This Row],[PES (A)]]),O37/Tableau_fin[[#This Row],[PES (A)]]*1000,"")) -> 1.6662354 | Q37: =IF(ISNUMBER(Tableau_fin[[#This Row],[PES (B)]]),IF(Tableau_fin[[#This Row],[PES (B)]]<$I37,$H37*Tableau_fin[[#This Row],[PES (B)]],IF($L37<>0,IF((Tableau_fin[[#This Row],[PES (B)]]>$L37),($M37*Tableau_fin[[#This Row],[PES (B)]])+$N37,($J37*Tableau_fin[[#This Row],[PES (B)]])+$K37),$J37*Tableau_fin[[#This Row],[PES (B)]]+$K37)),"") -> 2.24232 | R37: =IF(Tableau_fin[[#This Row],[Financement (B)]]=0,"",IF(ISNUMBER(Tableau_fin[[#This Row],[Financement (B)]]),Q37/Tableau_fin[[#This Row],[PES (B)]]*1000,"")) -> 1.779619 | T37: =IF(Tableau_fin[[#This Row],[PES]]>0,IF(Tableau_fin[[#This Row],[PES]]<$I37,$H37*Tableau_fin[[#This Row],[PES]],IF($L37<>0,IF((Tableau_fin[[#This Row],[PES]]>$L37),($M37*Tableau_fin[[#This Row],[PES]])+$N37,($J37*Tableau_fin[[#This Row],[PES]])+$K37),$J37*Tableau_fin[[#This Row],[PES]]+$K37)),"") | U37: =IF(Tableau_fin[[#This Row],[PES]]>0,Tableau_fin[[#This Row],[Financement]]/Tableau_fin[[#This Row],[PES]]*1000,"") | V37: 30 | W37: =IF(O37=0,"",Tableau_fin[[#This Row],[Financement (A)]]/(Tableau_fin[[#This Row],[PES (A)]]/Tableau_fin[[#This Row],[Nej]])*100) -> 4.9987061
B39: Notes : | C39: Code couleur : Gris (non-technique) + vert (implantation) | N39: Total/moyenne : | O39: =SUM(Tableau_fin[Financement (A)]) -> 310.69022 | P39: =AVERAGE(Tableau_fin[Fin/1000 PES (A)]) -> 1.8785294 | Q39: =SUM(Tableau_fin[Financement (B)]) -> 300.36196 | R39: =AVERAGE(Tableau_fin[Fin/1000 PES (B)]) -> 1.8685762 | V39: =AVERAGE(Tableau_fin[Nej]) -> 26.993939 | W39: =AVERAGE(Tableau_fin[Fin/100 hrs]) -> 4.8809388
C40: Le fond bleu indique quelle norme est utilisé pour calculer le financement d'après "PES (A)"
C41: Les Nej indiqués dans la colonne "Nej" sont ceux qui étaient utilisés par le ministère par le Ministère avant 2000-2001.

Sheet Données PES
C1: Ces valeurs fixent peuvent être modifiées selon votre convenance.
C2: 2000 | D2: 3500 | E2: 5000 | F2: 2015-2016 | G2: 2016-2017 | H2: 2017-2018 | I2: 2018-2019 | J2: 2019-2020 | K2: 2020-2021 | L2: 2021-2022
A3: 000.01 | B3: Générale commune | C3: =C$2 -> 2000 | D3: =D$2 -> 3500 | E3: =E$2 -> 5000 | F3: 47776 | G3: 46751 | H3: 46231 | I3: 46112 | J3: 45182
A4: 000.02 | B4: Générale propre | C4: =C$2 -> 2000 | D4: =D$2 -> 3500 | E4: =E$2 -> 5000 | F4: 11827 | G4: 11188 | H4: 11947 | I4: 11183 | J4: 11117
A5: 000.03 | B5: Générale complémentaire | C5: =C$2 -> 2000 | D5: =D$2 -> 3500 | E5: =E$2 -> 5000 | F5: 6990 | G5: 7102 | H5: 6931 | I5: 6939 | J5: 6856
A6: 000.05 | B6: Mise à niveau | C6: =C$2 -> 2000 | D6: =D$2 -> 3500 | E6: =E$2 -> 5000 | F6: 5947 | G6: 5330 | H6: 5222 | I6: 4933 | J6: 1719
A7: 080.00 | B7: Hors programme (incl. préal. univ.) | C7: =C$2 -> 2000 | D7: =D$2 -> 3500 | E7: =E$2 -> 5000 | F7: 3798 | G7: 3114 | H7: 3263 | I7: 1507 | J7: 4966
A8: 111.A0 | B8: Techniques d'hygiène dentaire | C8: =C$2 -> 2000 | D8: =D$2 -> 3500 | E8: =E$2 -> 5000 | F8: 2789 | G8: 3119 | H8: 3044 | I8: 3125 | J8: 2683
A9: 120.A0 | B9: Diététique | C9: =C$2 -> 2000 | D9: =D$2 -> 3500 | E9: =E$2 -> 5000 | F9: 0 | G9: 0 | H9: 0 | I9: 0 | J9: 835
A10: 140.C0 | B10: Technologie d'analyses biomédicales | C10: =C$2 -> 2000 | D10: =D$2 -> 3500 | E10: =E$2 -> 5000 | F10: 2937 | G10: 3725 | H10: 3419 | I10: 3346 | J10: 2699
A11: 141.A0 | B11: Techniques d'inhalothérapie | C11: =C$2 -> 2000 | D11: =D$2 -> 3500 | E11: =E$2 -> 5000 | F11: 2095 | G11: 2082 | H11: 2329 | I11: 2087 | J11: 1553
A12: 180.A0 | B12: Soins infirmiers | C12: =C$2 -> 2000 | D12: =D$2 -> 3500 | E12: =E$2 -> 5000 | F12: 9451 | G12: 9557 | H12: 9572 | I12: 12074 | J12: 10336
A13: 181.A0 | B13: Soins préhospitaliers d'urgence | C13: =C$2 -> 2000 | D13: =D$2 -> 3500 | E13: =E$2 -> 5000 | F13: 2653 | G13: 2419 | H13: 2523 | I13: 2563 | J13: 3121
A14: 200.B0 | B14: Sciences de la nature | C14: =C$2 -> 2000 | D14: =D$2 -> 3500 | E14: =E$2 -> 5000 | F14: 19599 | G14: 18406 | H14: 17769 | I14: 16491 | J14: 15603
... A35: 700.A0 | B35: Sciences, lettres et arts | C35: =C$2 -> 2000 | D35: =D$2 -> 3500 | E35: =E$2 -> 5000 | F35: 730 | G35: 999 | H35: 1590 | I35: 1589 | J35: 1260
B37: TOTAL | F37: =SUM(F3:F35) -> 194930 | G37: =SUM(G3:G35) -> 192401 | H37: =SUM(H3:H35) -> 193268 | I37: =SUM(I3:I35) -> 196254 | J37: =SUM(J3:J35) -> 190807 | K37: =SUM(K3:K35) -> 0 | L37: =SUM(L3:L35) -> 0

Sheet Points graphiques
B2: Liste des points utilisés pour les graphiques :
B4: A | C4: 2016-2017
B5: B | C5: 2017-2018
B6: C | C6: 2018-2019
B7: D | C7: 2019-2020
B8: E | C8: N/A | E8: À modifier directement sur la feuille du graphique
B9: F | C9: N/A | E9: À modifier directement sur la feuille du graphique
B10: G | C10: N/A | E10: À modifier directement sur la feuille du graphique

Sheet 000.01
J2: 000.01 | K2: =VLOOKUP(J2,'Calcul financement'!B5:F100,2,FALSE) -> Générale commune
J4: =MAX(IF(K24=0,IF(K21=0,1000,K21*4),K24*2),K9:K15) -> 46751 | K4: PES utilisées pour ajuster le graphique
J5: =IF($K$24>0,IF(J4<$K$21,$K$20*J4,IF(J4<$K$24,($K$22*J4)+$K$23,($K$25*J4)+$K$26)),IF(J4<$K$21,$K$20*J4,($K$22*J4)+$K$23)) -> 56.757698 | K5: =CONCATENATE("ÉTC seront financés par les ",J4," PES ","du programme ",LEFT(J2,6)) -> ÉTC seront financés par les 46751 PES du programme 000.01 | X5: PES | Y5: ÉTC | AB5: Incrément PES | AC5: =ROUNDUP(J4/450,0) -> 104
X6: 0 | Y6: =IF($K$24>0,IF(X6<$K$21,$K$20*X6,IF(X6<$K$24,($K$22*X6)+$K$23,($K$25*X6)+$K$26)),IF(X6<$K$21,$K$20*X6,($K$22*X6)+$K$23)) -> 0
X7: =X6+$AC$5 -> 104 | Y7: =IF($K$24>0,IF(X7<$K$21,$K$20*X7,IF(X7<$K$24,($K$22*X7)+$K$23,($K$25*X7)+$K$26)),IF(X7<$K$21,$K$20*X7,($K$22*X7)+$K$23)) -> 0.16068
K8: PES | L8: ÉTC | M8: ÉTC/1000 PES | X8: =X7+$AC$5 -> 208 | Y8: =IF($K$24>0,IF(X8<$K$21,$K$20*X8,IF(X8<$K$24,($K$22*X8)+$K$23,($K$25*X8)+$K$26)),IF(X8<$K$21,$K$20*X8,($K$22*X8)+$K$23)) -> 0.999184
I9: A | J9: ='Points graphiques'!C4 -> 2016-2017 | K9: =_xlfn.IFNA(VLOOKUP($J$2,'Données PES'!$A$2:$AA$101,MATCH(J9,'Données PES'!$2:$2),FALSE),0) -> 46751 | L9: =IF(K9>0,IF($K$24>0,IF(K9<$K$21,$K$20*K9,IF(K9<$K$24,($K$22*K9)+$K$23,($K$25*K9)+$K$26)),IF(K9<$K$21,$K$20*K9,($K$22*K9)+$K$23)),"") -> 56.757698 | M9: =IF(K9>0,L9/K9*1000,"") -> 1.2140424 | X9: =X8+$AC$5 -> 312 | Y9: =IF($K$24>0,IF(X9<$K$21,$K$20*X9,IF(X9<$K$24,($K$22*X9)+$K$23,($K$25*X9)+$K$26)),IF(X9<$K$21,$K$20*X9,($K$22*X9)+$K$23)) -> 1.123776
I10: B | J10: ='Points graphiques'!C5 -> 2017-2018 | K10: =_xlfn.IFNA(VLOOKUP($J$2,'Données PES'!$A$2:$AA$101,MATCH(J10,'Données PES'!$2:$2),FALSE),0) -> 46231 | L10: =IF(K10>0,IF($K$24>0,IF(K10<$K$21,$K$20*K10,IF(K10<$K$24,($K$22*K10)+$K$23,($K$25*K10)+$K$26)),IF(K10<$K$21,$K$20*K10,($K$22*K10)+$K$23)),"") -> 56.134738 | M10: =IF(K10>0,L10/K10*1000,"") -> 1.2142229 | X10: =X9+$AC$5 -> 416 | Y10: =IF($K$24>0,IF(X10<$K$21,$K$20*X10,IF(X10<$K$24,($K$22*X10)+$K$23,($K$25*X10)+$K$26)),IF(X10<$K$21,$K$20*X10,($K$22*X10)+$K$23)) -> 1.248368
I11: C | J11: ='Points graphiques'!C6 -> 2018-2019 | K11: =_xlfn.IFNA(VLOOKUP($J$2,'Données PES'!$A$2:$AA$101,MATCH(J11,'Données PES'!$2:$2),FALSE),0) -> 46112 | L11: =IF(K11>0,IF($K$24>0,IF(K11<$K$21,$K$20*K11,IF(K11<$K$24,($K$22*K11)+$K$23,($K$25*K11)+$K$26)),IF(K11<$K$21,$K$20*K11,($K$22*K11)+$K$23)),"") -> 55.992176 | M11: =IF(K11>0,L11/K11*1000,"") -> 1.2142647 | X11: =X10+$AC$5 -> 520 | Y11: =IF($K$24>0,IF(X11<$K$21,$K$20*X11,IF(X11<$K$24,($K$22*X11)+$K$23,($K$25*X11)+$K$26)),IF(X11<$K$21,$K$20*X11,($K$22*X11)+$K$23)) -> 1.37296
I12: D | J12: ='Points graphiques'!C7 -> 2019-2020 | K12: =_xlfn.IFNA(VLOOKUP($J$2,'Données PES'!$A$2:$AA$101,MATCH(J12,'Données PES'!$2:$2),FALSE),0) -> 45182 | L12: =IF(K12>0,IF($K$24>0,IF(K12<$K$21,$K$20*K12,IF(K12<$K$24,($K$22*K12)+$K$23,($K$25*K12)+$K$26)),IF(K12<$K$21,$K$20*K12,($K$22*K12)+$K$23)),"") -> 54.878036 | M12: =IF(K12>0,L12/K12*1000,"") -> 1.2145995 | X12: =X11+$AC$5 -> 624 | Y12: =IF($K$24>0,IF(X12<$K$21,$K$20*X12,IF(X12<$K$24,($K$22*X12)+$K$23,($K$25*X12)+$K$26)),IF(X12<$K$21,$K$20*X12,($K$22*X12)+$K$23)) -> 1.497552
I13: E | J13: Manuel | L13: =IF(K13>0,IF($K$24>0,IF(K13<$K$21,$K$20*K13,IF(K13<$K$24,($K$22*K13)+$K$23,($K$25*K13)+$K$26)),IF(K13<$K$21,$K$20*K13,($K$22*K13)+$K$23)),"") | M13: =IF(K13>0,L13/K13*1000,"") | X13: =X12+$AC$5 -> 728 | Y13: =IF($K$24>0,IF(X13<$K$21,$K$20*X13,IF(X13<$K$24,($K$22*X13)+$K$23,($K$25*X13)+$K$26)),IF(X13<$K$21,$K$20*X13,($K$22*X13)+$K$23)) -> 1.622144
I14: F | J14: Manuel | L14: =IF(K14>0,IF($K$24>0,IF(K14<$K$21,$K$20*K14,IF(K14<$K$24,($K$22*K14)+$K$23,($K$25*K14)+$K$26)),IF(K14<$K$21,$K$20*K14,($K$22*K14)+$K$23)),"") | M14: =IF(K14>0,L14/K14*1000,"") | X14: =X13+$AC$5 -> 832 | Y14: =IF($K$24>0,IF(X14<$K$21,$K$20*X14,IF(X14<$K$24,($K$22*X14)+$K$23,($K$25*X14)+$K$26)),IF(X14<$K$21,$K$20*X14,($K$22*X14)+$K$23)) -> 1.746736
I15: G | J15: Manuel | L15: =IF(K15>0,IF($K$24>0,IF(K15<$K$21,$K$20*K15,IF(K15<$K$24,($K$22*K15)+$K$23,($K$25*K15)+$K$26)),IF(K15<$K$21,$K$20*K15,($K$22*K15)+$K$23)),"") | M15: =IF(K15>0,L15/K15*1000,"") | X15: =X14+$AC$5 -> 936 | Y15: =IF($K$24>0,IF(X15<$K$21,$K$20*X15,IF(X15<$K$24,($K$22*X15)+$K$23,($K$25*X15)+$K$26)),IF(X15<$K$21,$K$20*X15,($K$22*X15)+$K$23)) -> 1.871328
X16: =X15+$AC$5 -> 1040 | Y16: =IF($K$24>0,IF(X16<$K$21,$K$20*X16,IF(X16<$K$24,($K$22*X16)+$K$23,($K$25*X16)+$K$26)),IF(X16<$K$21,$K$20*X16,($K$22*X16)+$K$23)) -> 1.99592
J17: Cliquez ici pour modifier les points affichées sur graphique. | X17: =X16+$AC$5 -> 1144 | Y17: =IF($K$24>0,IF(X17<$K$21,$K$20*X17,IF(X17<$K$24,($K$22*X17)+$K$23,($K$25*X17)+$K$26)),IF(X17<$K$21,$K$20*X17,($K$22*X17)+$K$23)) -> 2.120512
X18: =X17+$AC$5 -> 1248 | Y18: =IF($K$24>0,IF(X18<$K$21,$K$20*X18,IF(X18<$K$24,($K$22*X18)+$K$23,($K$25*X18)+$K$26)),IF(X18<$K$21,$K$20*X18,($K$22*X18)+$K$23)) -> 2.245104
X19: =X18+$AC$5 -> 1352 | Y19: =IF($K$24>0,IF(X19<$K$21,$K$20*X19,IF(X19<$K$24,($K$22*X19)+$K$23,($K$25*X19)+$K$26)),IF(X19<$K$21,$K$20*X19,($K$22*X19)+$K$23)) -> 2.369696
J20: norme0 | K20: =VLOOKUP($J$2,Tableau_fin[],7,FALSE) -> 0.001545 | X20: =X19+$AC$5 -> 1456 | Y20: =IF($K$24>0,IF(X20<$K$21,$K$20*X20,IF(X20<$K$24,($K$22*X20)+$K$23,($K$25*X20)+$K$26)),IF(X20<$K$21,$K$20*X20,($K$22*X20)+$K$23)) -> 2.494288
J21: pesmin | K21: =VLOOKUP($J$2,Tableau_fin[],8,FALSE) -> 200 | X21: =X20+$AC$5 -> 1560 | Y21: =IF($K$24>0,IF(X21<$K$21,$K$20*X21,IF(X21<$K$24,($K$22*X21)+$K$23,($K$25*X21)+$K$26)),IF(X21<$K$21,$K$20*X21,($K$22*X21)+$K$23)) -> 2.61888
J22: norme1 | K22: =VLOOKUP($J$2,Tableau_fin[],9,FALSE) -> 0.001198 | X22: =X21+$AC$5 -> 1664 | Y22: =IF($K$24>0,IF(X22<$K$21,$K$20*X22,IF(X22<$K$24,($K$22*X22)+$K$23,($K$25*X22)+$K$26)),IF(X22<$K$21,$K$20*X22,($K$22*X22)+$K$23)) -> 2.743472
J23: constante1 | K23: =VLOOKUP($J$2,Tableau_fin[],10,FALSE) -> 0.75 | X23: =X22+$AC$5 -> 1768 | Y23: =IF($K$24>0,IF(X23<$K$21,$K$20*X23,IF(X23<$K$24,($K$22*X23)+$K$23,($K$25*X23)+$K$26)),IF(X23<$K$21,$K$20*X23,($K$22*X23)+$K$23)) -> 2.868064
J24: intersection | K24: =VLOOKUP($J$2,Tableau_fin[],11,FALSE) -> 0 | X24: =X23+$AC$5 -> 1872 | Y24: =IF($K$24>0,IF(X24<$K$21,$K$20*X24,IF(X24<$K$24,($K$22*X24)+$K$23,($K$25*X24)+$K$26)),IF(X24<$K$21,$K$20*X24,($K$22*X24)+$K$23)) -> 2.992656
J25: norme2 | K25: =VLOOKUP($J$2,Tableau_fin[],12,FALSE) -> 0 | X25: =X24+$AC$5 -> 1976 | Y25: =IF($K$24>0,IF(X25<$K$21,$K$20*X25,IF(X25<$K$24,($K$22*X25)+$K$23,($K$25*X25)+$K$26)),IF(X25<$K$21,$K$20*X25,($K$22*X25)+$K$23)) -> 3.117248
J26: constante2 | K26: =VLOOKUP($J$2,Tableau_fin[],13,FALSE) -> 0 | X26: =X25+$AC$5 -> 2080 | Y26: =IF($K$24>0,IF(X26<$K$21,$K$20*X26,IF(X26<$K$24,($K$22*X26)+$K$23,($K$25*X26)+$K$26)),IF(X26<$K$21,$K$20*X26,($K$22*X26)+$K$23)) -> 3.24184
X27: =X26+$AC$5 -> 2184 | Y27: =IF($K$24>0,IF(X27<$K$21,$K$20*X27,IF(X27<$K$24,($K$22*X27)+$K$23,($K$25*X27)+$K$26)),IF(X27<$K$21,$K$20*X27,($K$22*X27)+$K$23)) -> 3.366432
X28: =X27+$AC$5 -> 2288 | Y28: =IF($K$24>0,IF(X28<$K$21,$K$20*X28,IF(X28<$K$24,($K$22*X28)+$K$23,($K$25*X28)+$K$26)),IF(X28<$K$21,$K$20*X28,($K$22*X28)+$K$23)) -> 3.491024
X29: =X28+$AC$5 -> 2392 | Y29: =IF($K$24>0,IF(X29<$K$21,$K$20*X29,IF(X29<$K$24,($K$22*X29)+$K$23,($K$25*X29)+$K$26)),IF(X29<$K$21,$K$20*X29,($K$22*X29)+$K$23)) -> 3.615616
X30: =X29+$AC$5 -> 2496 | Y30: =IF($K$24>0,IF(X30<$K$21,$K$20*X30,IF(X30<$K$24,($K$22*X30)+$K$23,($K$25*X30)+$K$26)),IF(X30<$K$21,$K$20*X30,($K$22*X30)+$K$23)) -> 3.740208
X31: =X30+$AC$5 -> 2600 | Y31: =IF($K$24>0,IF(X31<$K$21,$K$20*X31,IF(X31<$K$24,($K$22*X31)+$K$23,($K$25*X31)+$K$26)),IF(X31<$K$21,$K$20*X31,($K$22*X31)+$K$23)) -> 3.8648
X32: =X31+$AC$5 -> 2704 | Y32: =IF($K$24>0,IF(X32<$K$21,$K$20*X32,IF(X32<$K$24,($K$22*X32)+$K$23,($K$25*X32)+$K$26)),IF(X32<$K$21,$K$20*X32,($K$22*X32)+$K$23)) -> 3.989392
X33: =X32+$AC$5 -> 2808 | Y33: =IF($K$24>0,IF(X33<$K$21,$K$20*X33,IF(X33<$K$24,($K$22*X33)+$K$23,($K$25*X33)+$K$26)),IF(X33<$K$21,$K$20*X33,($K$22*X33)+$K$23)) -> 4.113984
X34: =X33+$AC$5 -> 2912 | Y34: =IF($K$24>0,IF(X34<$K$21,$K$20*X34,IF(X34<$K$24,($K$22*X34)+$K$23,($K$25*X34)+$K$26)),IF(X34<$K$21,$K$20*X34,($K$22*X34)+$K$23)) -> 4.238576
X35: =X34+$AC$5 -> 3016 | Y35: =IF($K$24>0,IF(X35<$K$21,$K$20*X35,IF(X35<$K$24,($K$22*X35)+$K$23,($K$25*X35)+$K$26)),IF(X35<$K$21,$K$20*X35,($K$22*X35)+$K$23)) -> 4.363168
X36: =X35+$AC$5 -> 3120 | Y36: =IF($K$24>0,IF(X36<$K$21,$K$20*X36,IF(X36<$K$24,($K$22*X36)+$K$23,($K$25*X36)+$K$26)),IF(X36<$K$21,$K$20*X36,($K$22*X36)+$K$23)) -> 4.48776
X37: =X36+$AC$5 -> 3224 | Y37: =IF($K$24>0,IF(X37<$K$21,$K$20*X37,IF(X37<$K$24,($K$22*X37)+$K$23,($K$25*X37)+$K$26)),IF(X37<$K$21,$K$20*X37,($K$22*X37)+$K$23)) -> 4.612352
X38: =X37+$AC$5 -> 3328 | Y38: =IF($K$24>0,IF(X38<$K$21,$K$20*X38,IF(X38<$K$24,($K$22*X38)+$K$23,($K$25*X38)+$K$26)),IF(X38<$K$21,$K$20*X38,($K$22*X38)+$K$23)) -> 4.736944
... X506: =X505+$AC$5 -> 52000 | Y506: =IF($K$24>0,IF(X506<$K$21,$K$20*X506,IF(X506<$K$24,($K$22*X506)+$K$23,($K$25*X506)+$K$26)),IF(X506<$K$21,$K$20*X506,($K$22*X506)+$K$23)) -> 63.046

Sheet 000.02
J2: 000.02 | K2: =VLOOKUP(J2,'Calcul financement'!B5:F100,2,FALSE) -> Générale propre
J4: =MAX(IF(K24=0,IF(K21=0,1000,K21*4),K24*2),K9:K15) -> 11947 | K4: PES utilisées pour ajuster le graphique
J5: =IF($K$24>0,IF(J4<$K$21,$K$20*J4,IF(J4<$K$24,($K$22*J4)+$K$23,($K$25*J4)+$K$26)),IF(J4<$K$21,$K$20*J4,($K$22*J4)+$K$23)) -> 15.202771 | K5: =CONCATENATE("ÉTC seront financés par les ",J4," PES ","du programme ",LEFT(J2,6)) -> ÉTC seront financés par les 11947 PES du programme 000.02 | X5: PES | Y5: ÉTC | AB5: Incrément PES | AC5: =ROUNDUP(J4/450,0) -> 27
X6: 0 | Y6: =IF($K$24>0,IF(X6<$K$21,$K$20*X6,IF(X6<$K$24,($K$22*X6)+$K$23,($K$25*X6)+$K$26)),IF(X6<$K$21,$K$20*X6,($K$22*X6)+$K$23)) -> 0
X7: =X6+$AC$5 -> 27 | Y7: =IF($K$24>0,IF(X7<$K$21,$K$20*X7,IF(X7<$K$24,($K$22*X7)+$K$23,($K$25*X7)+$K$26)),IF(X7<$K$21,$K$20*X7,($K$22*X7)+$K$23)) -> 0.041715
K8: PES | L8: ÉTC | M8: ÉTC/1000 PES | X8: =X7+$AC$5 -> 54 | Y8: =IF($K$24>0,IF(X8<$K$21,$K$20*X8,IF(X8<$K$24,($K$22*X8)+$K$23,($K$25*X8)+$K$26)),IF(X8<$K$21,$K$20*X8,($K$22*X8)+$K$23)) -> 0.08343
I9: A | J9: ='Points graphiques'!C4 -> 2016-2017 | K9: =_xlfn.IFNA(VLOOKUP($J$2,'Données PES'!$A$2:$AA$101,MATCH(J9,'Données PES'!$2:$2),FALSE),0) -> 11188 | L9: =IF(K9>0,IF($K$24>0,IF(K9<$K$21,$K$20*K9,IF(K9<$K$24,($K$22*K9)+$K$23,($K$25*K9)+$K$26)),IF(K9<$K$21,$K$20*K9,($K$22*K9)+$K$23)),"") -> 14.297284 | M9: =IF(K9>0,L9/K9*1000,"") -> 1.2779124 | X9: =X8+$AC$5 -> 81 | Y9: =IF($K$24>0,IF(X9<$K$21,$K$20*X9,IF(X9<$K$24,($K$22*X9)+$K$23,($K$25*X9)+$K$26)),IF(X9<$K$21,$K$20*X9,($K$22*X9)+$K$23)) -> 0.125145
I10: B | J10: ='Points graphiques'!C5 -> 2017-2018 | K10: =_xlfn.IFNA(VLOOKUP($J$2,'Données PES'!$A$2:$AA$101,MATCH(J10,'Données PES'!$2:$2),FALSE),0) -> 11947 | L10: =IF(K10>0,IF($K$24>0,IF(K10<$K$21,$K$20*K10,IF(K10<$K$24,($K$22*K10)+$K$23,($K$25*K10)+$K$26)),IF(K10<$K$21,$K$20*K10,($K$22*K10)+$K$23)),"") -> 15.202771 | M10: =IF(K10>0,L10/K10*1000,"") -> 1.2725179 | X10: =X9+$AC$5 -> 108 | Y10: =IF($K$24>0,IF(X10<$K$21,$K$20*X10,IF(X10<$K$24,($K$22*X10)+$K$23,($K$25*X10)+$K$26)),IF(X10<$K$21,$K$20*X10,($K$22*X10)+$K$23)) -> 0.16686
I11: C | J11: ='Points graphiques'!C6 -> 2018-2019 | K11: =_xlfn.IFNA(VLOOKUP($J$2,'Données PES'!$A$2:$AA$101,MATCH(J11,'Données PES'!$2:$2),FALSE),0) -> 11183 | L11: =IF(K11>0,IF($K$24>0,IF(K11<$K$21,$K$20*K11,IF(K11<$K$24,($K$22*K11)+$K$23,($K$25*K11)+$K$26)),IF(K11<$K$21,$K$20*K11,($K$22*K11)+$K$23)),"") -> 14.291319 | M11: =IF(K11>0,L11/K11*1000,"") -> 1.2779504 | X11: =X10+$AC$5 -> 135 | Y11: =IF($K$24>0,IF(X11<$K$21,$K$20*X11,IF(X11<$K$24,($K$22*X11)+$K$23,($K$25*X11)+$K$26)),IF(X11<$K$21,$K$20*X11,($K$22*X11)+$K$23)) -> 0.208575
I12: D | J12: ='Points graphiques'!C7 -> 2019-2020 | K12: =_xlfn.IFNA(VLOOKUP($J$2,'Données PES'!$A$2:$AA$101,MATCH(J12,'Données PES'!$2:$2),FALSE),0) -> 11117 | L12: =IF(K12>0,IF($K$24>0,IF(K12<$K$21,$K$20*K12,IF(K12<$K$24,($K$22*K12)+$K$23,($K$25*K12)+$K$26)),IF(K12<$K$21,$K$20*K12,($K$22*K12)+$K$23)),"") -> 14.212581 | M12: =IF(K12>0,L12/K12*1000,"") -> 1.2784547 | X12: =X11+$AC$5 -> 162 | Y12: =IF($K$24>0,IF(X12<$K$21,$K$20*X12,IF(X12<$K$24,($K$22*X12)+$K$23,($K$25*X12)+$K$26)),IF(X12<$K$21,$K$20*X12,($K$22*X12)+$K$23)) -> 0.25029
I13: E | J13: Manuel | L13: =IF(K13>0,IF($K$24>0,IF(K13<$K$21,$K$20*K13,IF(K13<$K$24,($K$22*K13)+$K$23,($K$25*K13)+$K$26)),IF(K13<$K$21,$K$20*K13,($K$22*K13)+$K$23)),"") | M13: =IF(K13>0,L13/K13*1000,"") | X13: =X12+$AC$5 -> 189 | Y13: =IF($K$24>0,IF(X13<$K$21,$K$20*X13,IF(X13<$K$24,($K$22*X13)+$K$23,($K$25*X13)+$K$26)),IF(X13<$K$21,$K$20*X13,($K$22*X13)+$K$23)) -> 0.292005
I14: F | J14: Manuel | L14: =IF(K14>0,IF($K$24>0,IF(K14<$K$21,$K$20*K14,IF(K14<$K$24,($K$22*K14)+$K$23,($K$25*K14)+$K$26)),IF(K14<$K$21,$K$20*K14,($K$22*K14)+$K$23)),"") | M14: =IF(K14>0,L14/K14*1000,"") | X14: =X13+$AC$5 -> 216 | Y14: =IF($K$24>0,IF(X14<$K$21,$K$20*X14,IF(X14<$K$24,($K$22*X14)+$K$23,($K$25*X14)+$K$26)),IF(X14<$K$21,$K$20*X14,($K$22*X14)+$K$23)) -> 0.604928
I15: G | J15: Manuel | L15: =IF(K15>0,IF($K$24>0,IF(K15<$K$21,$K$20*K15,IF(K15<$K$24,($K$22*K15)+$K$23,($K$25*K15)+$K$26)),IF(K15<$K$21,$K$20*K15,($K$22*K15)+$K$23)),"") | M15: =IF(K15>0,L15/K15*1000,"") | X15: =X14+$AC$5 -> 243 | Y15: =IF($K$24>0,IF(X15<$K$21,$K$20*X15,IF(X15<$K$24,($K$22*X15)+$K$23,($K$25*X15)+$K$26)),IF(X15<$K$21,$K$20*X15,($K$22*X15)+$K$23)) -> 0.644294
X16: =X15+$AC$5 -> 270 | Y16: =IF($K$24>0,IF(X16<$K$21,$K$20*X16,IF(X16<$K$24,($K$22*X16)+$K$23,($K$25*X16)+$K$26)),IF(X16<$K$21,$K$20*X16,($K$22*X16)+$K$23)) -> 0.68366
J17: Cliquez ici pour modifier les points affichées sur graphique. | X17: =X16+$AC$5 -> 297 | Y17: =IF($K$24>0,IF(X17<$K$21,$K$20*X17,IF(X17<$K$24,($K$22*X17)+$K$23,($K$25*X17)+$K$26)),IF(X17<$K$21,$K$20*X17,($K$22*X17)+$K$23)) -> 0.723026
X18: =X17+$AC$5 -> 324 | Y18: =IF($K$24>0,IF(X18<$K$21,$K$20*X18,IF(X18<$K$24,($K$22*X18)+$K$23,($K$25*X18)+$K$26)),IF(X18<$K$21,$K$20*X18,($K$22*X18)+$K$23)) -> 0.762392
X19: =X18+$AC$5 -> 351 | Y19: =IF($K$24>0,IF(X19<$K$21,$K$20*X19,IF(X19<$K$24,($K$22*X19)+$K$23,($K$25*X19)+$K$26)),IF(X19<$K$21,$K$20*X19,($K$22*X19)+$K$23)) -> 0.801758
J20: norme0 | K20: =VLOOKUP($J$2,Tableau_fin[],7,FALSE) -> 0.001545 | X20: =X19+$AC$5 -> 378 | Y20: =IF($K$24>0,IF(X20<$K$21,$K$20*X20,IF(X20<$K$24,($K$22*X20)+$K$23,($K$25*X20)+$K$26)),IF(X20<$K$21,$K$20*X20,($K$22*X20)+$K$23)) -> 0.841124
J21: pesmin | K21: =VLOOKUP($J$2,Tableau_fin[],8,FALSE) -> 200 | X21: =X20+$AC$5 -> 405 | Y21: =IF($K$24>0,IF(X21<$K$21,$K$20*X21,IF(X21<$K$24,($K$22*X21)+$K$23,($K$25*X21)+$K$26)),IF(X21<$K$21,$K$20*X21,($K$22*X21)+$K$23)) -> 0.88049
J22: norme1 | K22: =VLOOKUP($J$2,Tableau_fin[],9,FALSE) -> 0.001458 | X22: =X21+$AC$5 -> 432 | Y22: =IF($K$24>0,IF(X22<$K$21,$K$20*X22,IF(X22<$K$24,($K$22*X22)+$K$23,($K$25*X22)+$K$26)),IF(X22<$K$21,$K$20*X22,($K$22*X22)+$K$23)) -> 0.919856
J23: constante1 | K23: =VLOOKUP($J$2,Tableau_fin[],10,FALSE) -> 0.29 | X23: =X22+$AC$5 -> 459 | Y23: =IF($K$24>0,IF(X23<$K$21,$K$20*X23,IF(X23<$K$24,($K$22*X23)+$K$23,($K$25*X23)+$K$26)),IF(X23<$K$21,$K$20*X23,($K$22*X23)+$K$23)) -> 0.959222
J24: intersection | K24: =VLOOKUP($J$2,Tableau_fin[],11,FALSE) -> 2501 | X24: =X23+$AC$5 -> 486 | Y24: =IF($K$24>0,IF(X24<$K$21,$K$20*X24,IF(X24<$K$24,($K$22*X24)+$K$23,($K$25*X24)+$K$26)),IF(X24<$K$21,$K$20*X24,($K$22*X24)+$K$23)) -> 0.998588
J25: norme2 | K25: =VLOOKUP($J$2,Tableau_fin[],12,FALSE) -> 0.001193 | X25: =X24+$AC$5 -> 513 | Y25: =IF($K$24>0,IF(X25<$K$21,$K$20*X25,IF(X25<$K$24,($K$22*X25)+$K$23,($K$25*X25)+$K$26)),IF(X25<$K$21,$K$20*X25,($K$22*X25)+$K$23)) -> 1.037954
J26: constante2 | K26: =VLOOKUP($J$2,Tableau_fin[],13,FALSE) -> 0.95 | X26: =X25+$AC$5 -> 540 | Y26: =IF($K$24>0,IF(X26<$K$21,$K$20*X26,IF(X26<$K$24,($K$22*X26)+$K$23,($K$25*X26)+$K$26)),IF(X26<$K$21,$K$20*X26,($K$22*X26)+$K$23)) -> 1.07732
X27: =X26+$AC$5 -> 567 | Y27: =IF($K$24>0,IF(X27<$K$21,$K$20*X27,IF(X27<$K$24,($K$22*X27)+$K$23,($K$25*X27)+$K$26)),IF(X27<$K$21,$K$20*X27,($K$22*X27)+$K$23)) -> 1.116686
X28: =X27+$AC$5 -> 594 | Y28: =IF($K$24>0,IF(X28<$K$21,$K$20*X28,IF(X28<$K$24,($K$22*X28)+$K$23,($K$25*X28)+$K$26)),IF(X28<$K$21,$K$20*X28,($K$22*X28)+$K$23)) -> 1.156052
X29: =X28+$AC$5 -> 621 | Y29: =IF($K$24>0,IF(X29<$K$21,$K$20*X29,IF(X29<$K$24,($K$22*X29)+$K$23,($K$25*X29)+$K$26)),IF(X29<$K$21,$K$20*X29,($K$22*X29)+$K$23)) -> 1.195418
X30: =X29+$AC$5 -> 648 | Y30: =IF($K$24>0,IF(X30<$K$21,$K$20*X30,IF(X30<$K$24,($K$22*X30)+$K$23,($K$25*X30)+$K$26)),IF(X30<$K$21,$K$20*X30,($K$22*X30)+$K$23)) -> 1.234784
X31: =X30+$AC$5 -> 675 | Y31: =IF($K$24>0,IF(X31<$K$21,$K$20*X31,IF(X31<$K$24,($K$22*X31)+$K$23,($K$25*X31)+$K$26)),IF(X31<$K$21,$K$20*X31,($K$22*X31)+$K$23)) -> 1.27415
X32: =X31+$AC$5 -> 702 | Y32: =IF($K$24>0,IF(X32<$K$21,$K$20*X32,IF(X32<$K$24,($K$22*X32)+$K$23,($K$25*X32)+$K$26)),IF(X32<$K$21,$K$20*X32,($K$22*X32)+$K$23)) -> 1.313516
X33: =X32+$AC$5 -> 729 | Y33: =IF($K$24>0,IF(X33<$K$21,$K$20*X33,IF(X33<$K$24,($K$22*X33)+$K$23,($K$25*X33)+$K$26)),IF(X33<$K$21,$K$20*X33,($K$22*X33)+$K$23)) -> 1.352882
X34: =X33+$AC$5 -> 756 | Y34: =IF($K$24>0,IF(X34<$K$21,$K$20*X34,IF(X34<$K$24,($K$22*X34)+$K$23,($K$25*X34)+$K$26)),IF(X34<$K$21,$K$20*X34,($K$22*X34)+$K$23)) -> 1.392248
X35: =X34+$AC$5 -> 783 | Y35: =IF($K$24>0,IF(X35<$K$21,$K$20*X35,IF(X35<$K$24,($K$22*X35)+$K$23,($K$25*X35)+$K$26)),IF(X35<$K$21,$K$20*X35,($K$22*X35)+$K$23)) -> 1.431614
X36: =X35+$AC$5 -> 810 | Y36: =IF($K$24>0,IF(X36<$K$21,$K$20*X36,IF(X36<$K$24,($K$22*X36)+$K$23,($K$25*X36)+$K$26)),IF(X36<$K$21,$K$20*X36,($K$22*X36)+$K$23)) -> 1.47098
X37: =X36+$AC$5 -> 837 | Y37: =IF($K$24>0,IF(X37<$K$21,$K$20*X37,IF(X37<$K$24,($K$22*X37)+$K$23,($K$25*X37)+$K$26)),IF(X37<$K$21,$K$20*X37,($K$22*X37)+$K$23)) -> 1.510346
X38: =X37+$AC$5 -> 864 | Y38: =IF($K$24>0,IF(X38<$K$21,$K$20*X38,IF(X38<$K$24,($K$22*X38)+$K$23,($K$25*X38)+$K$26)),IF(X38<$K$21,$K$20*X38,($K$22*X38)+$K$23)) -> 1.549712
... X506: =X505+$AC$5 -> 13500 | Y506: =IF($K$24>0,IF(X506<$K$21,$K$20*X506,IF(X506<$K$24,($K$22*X506)+$K$23,($K$25*X506)+$K$26)),IF(X506<$K$21,$K$20*X506,($K$22*X506)+$K$23)) -> 17.0555

Sheet 000.03
J2: 000.03 | K2: =VLOOKUP(J2,'Calcul financement'!B5:F100,2,FALSE) -> Générale complémentaire
J4: =MAX(IF(K24=0,IF(K21=0,1000,K21*4),K24*2),K9:K15) -> 7102 | K4: PES utilisées pour ajuster le graphique
J5: =IF($K$24>0,IF(J4<$K$21,$K$20*J4,IF(J4<$K$24,($K$22*J4)+$K$23,($K$25*J4)+$K$26)),IF(J4<$K$21,$K$20*J4,($K$22*J4)+$K$23)) -> 9.911008 | K5: =CONCATENATE("ÉTC seront financés par les ",J4," PES ","du programme ",LEFT(J2,6)) -> ÉTC seront financés par les 7102 PES du programme 000.03 | X5: PES | Y5: ÉTC | AB5: Incrément PES | AC5: =ROUNDUP(J4/450,0) -> 16
X6: 0 | Y6: =IF($K$24>0,IF(X6<$K$21,$K$20*X6,IF(X6<$K$24,($K$22*X6)+$K$23,($K$25*X6)+$K$26)),IF(X6<$K$21,$K$20*X6,($K$22*X6)+$K$23)) -> 0
X7: =X6+$AC$5 -> 16 | Y7: =IF($K$24>0,IF(X7<$K$21,$K$20*X7,IF(X7<$K$24,($K$22*X7)+$K$23,($K$25*X7)+$K$26)),IF(X7<$K$21,$K$20*X7,($K$22*X7)+$K$23)) -> 0.02472
K8: PES | L8: ÉTC | M8: ÉTC/1000 PES | X8: =X7+$AC$5 -> 32 | Y8: =IF($K$24>0,IF(X8<$K$21,$K$20*X8,IF(X8<$K$24,($K$22*X8)+$K$23,($K$25*X8)+$K$26)),IF(X8<$K$21,$K$20*X8,($K$22*X8)+$K$23)) -> 0.04944
I9: A | J9: ='Points graphiques'!C4 -> 2016-2017 | K9: =_xlfn.IFNA(VLOOKUP($J$2,'Données PES'!$A$2:$AA$101,MATCH(J9,'Données PES'!$2:$2),FALSE),0) -> 7102 | L9: =IF(K9>0,IF($K$24>0,IF(K9<$K$21,$K$20*K9,IF(K9<$K$24,($K$22*K9)+$K$23,($K$25*K9)+$K$26)),IF(K9<$K$21,$K$20*K9,($K$22*K9)+$K$23)),"") -> 9.911008 | M9: =IF(K9>0,L9/K9*1000,"") -> 1.3955235 | X9: =X8+$AC$5 -> 48 | Y9: =IF($K$24>0,IF(X9<$K$21,$K$20*X9,IF(X9<$K$24,($K$22*X9)+$K$23,($K$25*X9)+$K$26)),IF(X9<$K$21,$K$20*X9,($K$22*X9)+$K$23)) -> 0.07416
I10: B | J10: ='Points graphiques'!C5 -> 2017-2018 | K10: =_xlfn.IFNA(VLOOKUP($J$2,'Données PES'!$A$2:$AA$101,MATCH(J10,'Données PES'!$2:$2),FALSE),0) -> 6931 | L10: =IF(K10>0,IF($K$24>0,IF(K10<$K$21,$K$20*K10,IF(K10<$K$24,($K$22*K10)+$K$23,($K$25*K10)+$K$26)),IF(K10<$K$21,$K$20*K10,($K$22*K10)+$K$23)),"") -> 9.688024 | M10: =IF(K10>0,L10/K10*1000,"") -> 1.3977816 | X10: =X9+$AC$5 -> 64 | Y10: =IF($K$24>0,IF(X10<$K$21,$K$20*X10,IF(X10<$K$24,($K$22*X10)+$K$23,($K$25*X10)+$K$26)),IF(X10<$K$21,$K$20*X10,($K$22*X10)+$K$23)) -> 0.09888
I11: C | J11: ='Points graphiques'!C6 -> 2018-2019 | K11: =_xlfn.IFNA(VLOOKUP($J$2,'Données PES'!$A$2:$AA$101,MATCH(J11,'Données PES'!$2:$2),FALSE),0) -> 6939 | L11: =IF(K11>0,IF($K$24>0,IF(K11<$K$21,$K$20*K11,IF(K11<$K$24,($K$22*K11)+$K$23,($K$25*K11)+$K$26)),IF(K11<$K$21,$K$20*K11,($K$22*K11)+$K$23)),"") -> 9.698456 | M11: =IF(K11>0,L11/K11*1000,"") -> 1.3976734 | X11: =X10+$AC$5 -> 80 | Y11: =IF($K$24>0,IF(X11<$K$21,$K$20*X11,IF(X11<$K$24,($K$22*X11)+$K$23,($K$25*X11)+$K$26)),IF(X11<$K$21,$K$20*X11,($K$22*X11)+$K$23)) -> 0.1236
I12: D | J12: ='Points graphiques'!C7 -> 2019-2020 | K12: =_xlfn.IFNA(VLOOKUP($J$2,'Données PES'!$A$2:$AA$101,MATCH(J12,'Données PES'!$2:$2),FALSE),0) -> 6856 | L12: =IF(K12>0,IF($K$24>0,IF(K12<$K$21,$K$20*K12,IF(K12<$K$24,($K$22*K12)+$K$23,($K$25*K12)+$K$26)),IF(K12<$K$21,$K$20*K12,($K$22*K12)+$K$23)),"") -> 9.590224 | M12: =IF(K12>0,L12/K12*1000,"") -> 1.3988075 | X12: =X11+$AC$5 -> 96 | Y12: =IF($K$24>0,IF(X12<$K$21,$K$20*X12,IF(X12<$K$24,($K$22*X12)+$K$23,($K$25*X12)+$K$26)),IF(X12<$K$21,$K$20*X12,($K$22*X12)+$K$23)) -> 0.14832
I13: E | J13: Manuel | L13: =IF(K13>0,IF($K$24>0,IF(K13<$K$21,$K$20*K13,IF(K13<$K$24,($K$22*K13)+$K$23,($K$25*K13)+$K$26)),IF(K13<$K$21,$K$20*K13,($K$22*K13)+$K$23)),"") | M13: =IF(K13>0,L13/K13*1000,"") | X13: =X12+$AC$5 -> 112 | Y13: =IF($K$24>0,IF(X13<$K$21,$K$20*X13,IF(X13<$K$24,($K$22*X13)+$K$23,($K$25*X13)+$K$26)),IF(X13<$K$21,$K$20*X13,($K$22*X13)+$K$23)) -> 0.17304
I14: F | J14: Manuel | L14: =IF(K14>0,IF($K$24>0,IF(K14<$K$21,$K$20*K14,IF(K14<$K$24,($K$22*K14)+$K$23,($K$25*K14)+$K$26)),IF(K14<$K$21,$K$20*K14,($K$22*K14)+$K$23)),"") | M14: =IF(K14>0,L14/K14*1000,"") | X14: =X13+$AC$5 -> 128 | Y14: =IF($K$24>0,IF(X14<$K$21,$K$20*X14,IF(X14<$K$24,($K$22*X14)+$K$23,($K$25*X14)+$K$26)),IF(X14<$K$21,$K$20*X14,($K$22*X14)+$K$23)) -> 0.19776
I15: G | J15: Manuel | L15: =IF(K15>0,IF($K$24>0,IF(K15<$K$21,$K$20*K15,IF(K15<$K$24,($K$22*K15)+$K$23,($K$25*K15)+$K$26)),IF(K15<$K$21,$K$20*K15,($K$22*K15)+$K$23)),"") | M15: =IF(K15>0,L15/K15*1000,"") | X15: =X14+$AC$5 -> 144 | Y15: =IF($K$24>0,IF(X15<$K$21,$K$20*X15,IF(X15<$K$24,($K$22*X15)+$K$23,($K$25*X15)+$K$26)),IF(X15<$K$21,$K$20*X15,($K$22*X15)+$K$23)) -> 0.22248
X16: =X15+$AC$5 -> 160 | Y16: =IF($K$24>0,IF(X16<$K$21,$K$20*X16,IF(X16<$K$24,($K$22*X16)+$K$23,($K$25*X16)+$K$26)),IF(X16<$K$21,$K$20*X16,($K$22*X16)+$K$23)) -> 0.2472
J17: Cliquez ici pour modifier les points affichées sur graphique. | X17: =X16+$AC$5 -> 176 | Y17: =IF($K$24>0,IF(X17<$K$21,$K$20*X17,IF(X17<$K$24,($K$22*X17)+$K$23,($K$25*X17)+$K$26)),IF(X17<$K$21,$K$20*X17,($K$22*X17)+$K$23)) -> 0.27192
X18: =X17+$AC$5 -> 192 | Y18: =IF($K$24>0,IF(X18<$K$21,$K$20*X18,IF(X18<$K$24,($K$22*X18)+$K$23,($K$25*X18)+$K$26)),IF(X18<$K$21,$K$20*X18,($K$22*X18)+$K$23)) -> 0.29664
X19: =X18+$AC$5 -> 208 | Y19: =IF($K$24>0,IF(X19<$K$21,$K$20*X19,IF(X19<$K$24,($K$22*X19)+$K$23,($K$25*X19)+$K$26)),IF(X19<$K$21,$K$20*X19,($K$22*X19)+$K$23)) -> 0.921232
J20: norme0 | K20: =VLOOKUP($J$2,Tableau_fin[],7,FALSE) -> 0.001545 | X20: =X19+$AC$5 -> 224 | Y20: =IF($K$24>0,IF(X20<$K$21,$K$20*X20,IF(X20<$K$24,($K$22*X20)+$K$23,($K$25*X20)+$K$26)),IF(X20<$K$21,$K$20*X20,($K$22*X20)+$K$23)) -> 0.942096
J21: pesmin | K21: =VLOOKUP($J$2,Tableau_fin[],8,FALSE) -> 200 | X21: =X20+$AC$5 -> 240 | Y21: =IF($K$24>0,IF(X21<$K$21,$K$20*X21,IF(X21<$K$24,($K$22*X21)+$K$23,($K$25*X21)+$K$26)),IF(X21<$K$21,$K$20*X21,($K$22*X21)+$K$23)) -> 0.96296
J22: norme1 | K22: =VLOOKUP($J$2,Tableau_fin[],9,FALSE) -> 0.001304 | X22: =X21+$AC$5 -> 256 | Y22: =IF($K$24>0,IF(X22<$K$21,$K$20*X22,IF(X22<$K$24,($K$22*X22)+$K$23,($K$25*X22)+$K$26)),IF(X22<$K$21,$K$20*X22,($K$22*X22)+$K$23)) -> 0.983824
J23: constante1 | K23: =VLOOKUP($J$2,Tableau_fin[],10,FALSE) -> 0.65 | X23: =X22+$AC$5 -> 272 | Y23: =IF($K$24>0,IF(X23<$K$21,$K$20*X23,IF(X23<$K$24,($K$22*X23)+$K$23,($K$25*X23)+$K$26)),IF(X23<$K$21,$K$20*X23,($K$22*X23)+$K$23)) -> 1.004688
J24: intersection | K24: =VLOOKUP($J$2,Tableau_fin[],11,FALSE) -> 0 | X24: =X23+$AC$5 -> 288 | Y24: =IF($K$24>0,IF(X24<$K$21,$K$20*X24,IF(X24<$K$24,($K$22*X24)+$K$23,($K$25*X24)+$K$26)),IF(X24<$K$21,$K$20*X24,($K$22*X24)+$K$23)) -> 1.025552
J25: norme2 | K25: =VLOOKUP($J$2,Tableau_fin[],12,FALSE) -> 0 | X25: =X24+$AC$5 -> 304 | Y25: =IF($K$24>0,IF(X25<$K$21,$K$20*X25,IF(X25<$K$24,($K$22*X25)+$K$23,($K$25*X25)+$K$26)),IF(X25<$K$21,$K$20*X25,($K$22*X25)+$K$23)) -> 1.046416
J26: constante2 | K26: =VLOOKUP($J$2,Tableau_fin[],13,FALSE) -> 0 | X26: =X25+$AC$5 -> 320 | Y26: =IF($K$24>0,IF(X26<$K$21,$K$20*X26,IF(X26<$K$24,($K$22*X26)+$K$23,($K$25*X26)+$K$26)),IF(X26<$K$21,$K$20*X26,($K$22*X26)+$K$23)) -> 1.06728
X27: =X26+$AC$5 -> 336 | Y27: =IF($K$24>0,IF(X27<$K$21,$K$20*X27,IF(X27<$K$24,($K$22*X27)+$K$23,($K$25*X27)+$K$26)),IF(X27<$K$21,$K$20*X27,($K$22*X27)+$K$23)) -> 1.088144
X28: =X27+$AC$5 -> 352 | Y28: =IF($K$24>0,IF(X28<$K$21,$K$20*X28,IF(X28<$K$24,($K$22*X28)+$K$23,($K$25*X28)+$K$26)),IF(X28<$K$21,$K$20*X28,($K$22*X28)+$K$23)) -> 1.109008
X29: =X28+$AC$5 -> 368 | Y29: =IF($K$24>0,IF(X29<$K$21,$K$20*X29,IF(X29<$K$24,($K$22*X29)+$K$23,($K$25*X29)+$K$26)),IF(X29<$K$21,$K$20*X29,($K$22*X29)+$K$23)) -> 1.129872
X30: =X29+$AC$5 -> 384 | Y30: =IF($K$24>0,IF(X30<$K$21,$K$20*X30,IF(X30<$K$24,($K$22*X30)+$K$23,($K$25*X30)+$K$26)),IF(X30<$K$21,$K$20*X30,($K$22*X30)+$K$23)) -> 1.150736
X31: =X30+$AC$5 -> 400 | Y31: =IF($K$24>0,IF(X31<$K$21,$K$20*X31,IF(X31<$K$24,($K$22*X31)+$K$23,($K$25*X31)+$K$26)),IF(X31<$K$21,$K$20*X31,($K$22*X31)+$K$23)) -> 1.1716
X32: =X31+$AC$5 -> 416 | Y32: =IF($K$24>0,IF(X32<$K$21,$K$20*X32,IF(X32<$K$24,($K$22*X32)+$K$23,($K$25*X32)+$K$26)),IF(X32<$K$21,$K$20*X32,($K$22*X32)+$K$23)) -> 1.192464
X33: =X32+$AC$5 -> 432 | Y33: =IF($K$24>0,IF(X33<$K$21,$K$20*X33,IF(X33<$K$24,($K$22*X33)+$K$23,($K$25*X33)+$K$26)),IF(X33<$K$21,$K$20*X33,($K$22*X33)+$K$23)) -> 1.213328
X34: =X33+$AC$5 -> 448 | Y34: =IF($K$24>0,IF(X34<$K$21,$K$20*X34,IF(X34<$K$24,($K$22*X34)+$K$23,($K$25*X34)+$K$26)),IF(X34<$K$21,$K$20*X34,($K$22*X34)+$K$23)) -> 1.234192
X35: =X34+$AC$5 -> 464 | Y35: =IF($K$24>0,IF(X35<$K$21,$K$20*X35,IF(X35<$K$24,($K$22*X35)+$K$23,($K$25*X35)+$K$26)),IF(X35<$K$21,$K$20*X35,($K$22*X35)+$K$23)) -> 1.255056
X36: =X35+$AC$5 -> 480 | Y36: =IF($K$24>0,IF(X36<$K$21,$K$20*X36,IF(X36<$K$24,($K$22*X36)+$K$23,($K$25*X36)+$K$26)),IF(X36<$K$21,$K$20*X36,($K$22*X36)+$K$23)) -> 1.27592
X37: =X36+$AC$5 -> 496 | Y37: =IF($K$24>0,IF(X37<$K$21,$K$20*X37,IF(X37<$K$24,($K$22*X37)+$K$23,($K$25*X37)+$K$26)),IF(X37<$K$21,$K$20*X37,($K$22*X37)+$K$23)) -> 1.296784
X38: =X37+$AC$5 -> 512 | Y38: =IF($K$24>0,IF(X38<$K$21,$K$20*X38,IF(X38<$K$24,($K$22*X38)+$K$23,($K$25*X38)+$K$26)),IF(X38<$K$21,$K$20*X38,($K$22*X38)+$K$23)) -> 1.317648
... X506: =X505+$AC$5 -> 8000 | Y506: =IF($K$24>0,IF(X506<$K$21,$K$20*X506,IF(X506<$K$24,($K$22*X506)+$K$23,($K$25*X506)+$K$26)),IF(X506<$K$21,$K$20*X506,($K$22*X506)+$K$23)) -> 11.082

Sheet 000.05
J2: 000.05 | K2: =VLOOKUP(J2,'Calcul financement'!B5:F100,2,FALSE) -> Mise à niveau
J4: =MAX(IF(K24=0,IF(K21=0,1000,K21*4),K24*2),K9:K15) -> 5330 | K4: PES utilisées pour ajuster le graphique
J5: =IF($K$24>0,IF(J4<$K$21,$K$20*J4,IF(J4<$K$24,($K$22*J4)+$K$23,($K$25*J4)+$K$26)),IF(J4<$K$21,$K$20*J4,($K$22*J4)+$K$23)) -> 7.31763 | K5: =CONCATENATE("ÉTC seront financés par les ",J4," PES ","du programme ",LEFT(J2,6)) -> ÉTC seront financés par les 5330 PES du programme 000.05 | X5: PES | Y5: ÉTC | AB5: Incrément PES | AC5: =ROUNDUP(J4/450,0) -> 12
X6: 0 | Y6: =IF($K$24>0,IF(X6<$K$21,$K$20*X6,IF(X6<$K$24,($K$22*X6)+$K$23,($K$25*X6)+$K$26)),IF(X6<$K$21,$K$20*X6,($K$22*X6)+$K$23)) -> 0
X7: =X6+$AC$5 -> 12 | Y7: =IF($K$24>0,IF(X7<$K$21,$K$20*X7,IF(X7<$K$24,($K$22*X7)+$K$23,($K$25*X7)+$K$26)),IF(X7<$K$21,$K$20*X7,($K$22*X7)+$K$23)) -> 0.01854
K8: PES | L8: ÉTC | M8: ÉTC/1000 PES | X8: =X7+$AC$5 -> 24 | Y8: =IF($K$24>0,IF(X8<$K$21,$K$20*X8,IF(X8<$K$24,($K$22*X8)+$K$23,($K$25*X8)+$K$26)),IF(X8<$K$21,$K$20*X8,($K$22*X8)+$K$23)) -> 0.03708
I9: A | J9: ='Points graphiques'!C4 -> 2016-2017 | K9: =_xlfn.IFNA(VLOOKUP($J$2,'Données PES'!$A$2:$AA$101,MATCH(J9,'Données PES'!$2:$2),FALSE),0) -> 5330 | L9: =IF(K9>0,IF($K$24>0,IF(K9<$K$21,$K$20*K9,IF(K9<$K$24,($K$22*K9)+$K$23,($K$25*K9)+$K$26)),IF(K9<$K$21,$K$20*K9,($K$22*K9)+$K$23)),"") -> 7.31763 | M9: =IF(K9>0,L9/K9*1000,"") -> 1.3729137 | X9: =X8+$AC$5 -> 36 | Y9: =IF($K$24>0,IF(X9<$K$21,$K$20*X9,IF(X9<$K$24,($K$22*X9)+$K$23,($K$25*X9)+$K$26)),IF(X9<$K$21,$K$20*X9,($K$22*X9)+$K$23)) -> 0.05562
I10: B | J10: ='Points graphiques'!C5 -> 2017-2018 | K10: =_xlfn.IFNA(VLOOKUP($J$2,'Données PES'!$A$2:$AA$101,MATCH(J10,'Données PES'!$2:$2),FALSE),0) -> 5222 | L10: =IF(K10>0,IF($K$24>0,IF(K10<$K$21,$K$20*K10,IF(K10<$K$24,($K$22*K10)+$K$23,($K$25*K10)+$K$26)),IF(K10<$K$21,$K$20*K10,($K$22*K10)+$K$23)),"") -> 7.176042 | M10: =IF(K10>0,L10/K10*1000,"") -> 1.3741942 | X10: =X9+$AC$5 -> 48 | Y10: =IF($K$24>0,IF(X10<$K$21,$K$20*X10,IF(X10<$K$24,($K$22*X10)+$K$23,($K$25*X10)+$K$26)),IF(X10<$K$21,$K$20*X10,($K$22*X10)+$K$23)) -> 0.07416
I11: C | J11: ='Points graphiques'!C6 -> 2018-2019 | K11: =_xlfn.IFNA(VLOOKUP($J$2,'Données PES'!$A$2:$AA$101,MATCH(J11,'Données PES'!$2:$2),FALSE),0) -> 4933 | L11: =IF(K11>0,IF($K$24>0,IF(K11<$K$21,$K$20*K11,IF(K11<$K$24,($K$22*K11)+$K$23,($K$25*K11)+$K$26)),IF(K11<$K$21,$K$20*K11,($K$22*K11)+$K$23)),"") -> 6.797163 | M11: =IF(K11>0,L11/K11*1000,"") -> 1.3778964 | X11: =X10+$AC$5 -> 60 | Y11: =IF($K$24>0,IF(X11<$K$21,$K$20*X11,IF(X11<$K$24,($K$22*X11)+$K$23,($K$25*X11)+$K$26)),IF(X11<$K$21,$K$20*X11,($K$22*X11)+$K$23)) -> 0.0927
I12: D | J12: ='Points graphiques'!C7 -> 2019-2020 | K12: =_xlfn.IFNA(VLOOKUP($J$2,'Données PES'!$A$2:$AA$101,MATCH(J12,'Données PES'!$2:$2),FALSE),0) -> 1719 | L12: =IF(K12>0,IF($K$24>0,IF(K12<$K$21,$K$20*K12,IF(K12<$K$24,($K$22*K12)+$K$23,($K$25*K12)+$K$26)),IF(K12<$K$21,$K$20*K12,($K$22*K12)+$K$23)),"") -> 2.583609 | M12: =IF(K12>0,L12/K12*1000,"") -> 1.5029721 | X12: =X11+$AC$5 -> 72 | Y12: =IF($K$24>0,IF(X12<$K$21,$K$20*X12,IF(X12<$K$24,($K$22*X12)+$K$23,($K$25*X12)+$K$26)),IF(X12<$K$21,$K$20*X12,($K$22*X12)+$K$23)) -> 0.11124
I13: E | J13: Manuel | L13: =IF(K13>0,IF($K$24>0,IF(K13<$K$21,$K$20*K13,IF(K13<$K$24,($K$22*K13)+$K$23,($K$25*K13)+$K$26)),IF(K13<$K$21,$K$20*K13,($K$22*K13)+$K$23)),"") | M13: =IF(K13>0,L13/K13*1000,"") | X13: =X12+$AC$5 -> 84 | Y13: =IF($K$24>0,IF(X13<$K$21,$K$20*X13,IF(X13<$K$24,($K$22*X13)+$K$23,($K$25*X13)+$K$26)),IF(X13<$K$21,$K$20*X13,($K$22*X13)+$K$23)) -> 0.12978
I14: F | J14: Manuel | L14: =IF(K14>0,IF($K$24>0,IF(K14<$K$21,$K$20*K14,IF(K14<$K$24,($K$22*K14)+$K$23,($K$25*K14)+$K$26)),IF(K14<$K$21,$K$20*K14,($K$22*K14)+$K$23)),"") | M14: =IF(K14>0,L14/K14*1000,"") | X14: =X13+$AC$5 -> 96 | Y14: =IF($K$24>0,IF(X14<$K$21,$K$20*X14,IF(X14<$K$24,($K$22*X14)+$K$23,($K$25*X14)+$K$26)),IF(X14<$K$21,$K$20*X14,($K$22*X14)+$K$23)) -> 0.14832
I15: G | J15: Manuel | L15: =IF(K15>0,IF($K$24>0,IF(K15<$K$21,$K$20*K15,IF(K15<$K$24,($K$22*K15)+$K$23,($K$25*K15)+$K$26)),IF(K15<$K$21,$K$20*K15,($K$22*K15)+$K$23)),"") | M15: =IF(K15>0,L15/K15*1000,"") | X15: =X14+$AC$5 -> 108 | Y15: =IF($K$24>0,IF(X15<$K$21,$K$20*X15,IF(X15<$K$24,($K$22*X15)+$K$23,($K$25*X15)+$K$26)),IF(X15<$K$21,$K$20*X15,($K$22*X15)+$K$23)) -> 0.16686
X16: =X15+$AC$5 -> 120 | Y16: =IF($K$24>0,IF(X16<$K$21,$K$20*X16,IF(X16<$K$24,($K$22*X16)+$K$23,($K$25*X16)+$K$26)),IF(X16<$K$21,$K$20*X16,($K$22*X16)+$K$23)) -> 0.1854
J17: Cliquez ici pour modifier les points affichées sur graphique. | X17: =X16+$AC$5 -> 132 | Y17: =IF($K$24>0,IF(X17<$K$21,$K$20*X17,IF(X17<$K$24,($K$22*X17)+$K$23,($K$25*X17)+$K$26)),IF(X17<$K$21,$K$20*X17,($K$22*X17)+$K$23)) -> 0.20394
X18: =X17+$AC$5 -> 144 | Y18: =IF($K$24>0,IF(X18<$K$21,$K$20*X18,IF(X18<$K$24,($K$22*X18)+$K$23,($K$25*X18)+$K$26)),IF(X18<$K$21,$K$20*X18,($K$22*X18)+$K$23)) -> 0.22248
X19: =X18+$AC$5 -> 156 | Y19: =IF($K$24>0,IF(X19<$K$21,$K$20*X19,IF(X19<$K$24,($K$22*X19)+$K$23,($K$25*X19)+$K$26)),IF(X19<$K$21,$K$20*X19,($K$22*X19)+$K$23)) -> 0.24102
J20: norme0 | K20: =VLOOKUP($J$2,Tableau_fin[],7,FALSE) -> 0.001545 | X20: =X19+$AC$5 -> 168 | Y20: =IF($K$24>0,IF(X20<$K$21,$K$20*X20,IF(X20<$K$24,($K$22*X20)+$K$23,($K$25*X20)+$K$26)),IF(X20<$K$21,$K$20*X20,($K$22*X20)+$K$23)) -> 0.25956
J21: pesmin | K21: =VLOOKUP($J$2,Tableau_fin[],8,FALSE) -> 200 | X21: =X20+$AC$5 -> 180 | Y21: =IF($K$24>0,IF(X21<$K$21,$K$20*X21,IF(X21<$K$24,($K$22*X21)+$K$23,($K$25*X21)+$K$26)),IF(X21<$K$21,$K$20*X21,($K$22*X21)+$K$23)) -> 0.2781
J22: norme1 | K22: =VLOOKUP($J$2,Tableau_fin[],9,FALSE) -> 0.002536 | X22: =X21+$AC$5 -> 192 | Y22: =IF($K$24>0,IF(X22<$K$21,$K$20*X22,IF(X22<$K$24,($K$22*X22)+$K$23,($K$25*X22)+$K$26)),IF(X22<$K$21,$K$20*X22,($K$22*X22)+$K$23)) -> 0.29664
J23: constante1 | K23: =VLOOKUP($J$2,Tableau_fin[],10,FALSE) -> -0.02 | X23: =X22+$AC$5 -> 204 | Y23: =IF($K$24>0,IF(X23<$K$21,$K$20*X23,IF(X23<$K$24,($K$22*X23)+$K$23,($K$25*X23)+$K$26)),IF(X23<$K$21,$K$20*X23,($K$22*X23)+$K$23)) -> 0.497344
J24: intersection | K24: =VLOOKUP($J$2,Tableau_fin[],11,FALSE) -> 286 | X24: =X23+$AC$5 -> 216 | Y24: =IF($K$24>0,IF(X24<$K$21,$K$20*X24,IF(X24<$K$24,($K$22*X24)+$K$23,($K$25*X24)+$K$26)),IF(X24<$K$21,$K$20*X24,($K$22*X24)+$K$23)) -> 0.527776
J25: norme2 | K25: =VLOOKUP($J$2,Tableau_fin[],12,FALSE) -> 0.001311 | X25: =X24+$AC$5 -> 228 | Y25: =IF($K$24>0,IF(X25<$K$21,$K$20*X25,IF(X25<$K$24,($K$22*X25)+$K$23,($K$25*X25)+$K$26)),IF(X25<$K$21,$K$20*X25,($K$22*X25)+$K$23)) -> 0.558208
J26: constante2 | K26: =VLOOKUP($J$2,Tableau_fin[],13,FALSE) -> 0.33 | X26: =X25+$AC$5 -> 240 | Y26: =IF($K$24>0,IF(X26<$K$21,$K$20*X26,IF(X26<$K$24,($K$22*X26)+$K$23,($K$25*X26)+$K$26)),IF(X26<$K$21,$K$20*X26,($K$22*X26)+$K$23)) -> 0.58864
X27: =X26+$AC$5 -> 252 | Y27: =IF($K$24>0,IF(X27<$K$21,$K$20*X27,IF(X27<$K$24,($K$22*X27)+$K$23,($K$25*X27)+$K$26)),IF(X27<$K$21,$K$20*X27,($K$22*X27)+$K$23)) -> 0.619072
X28: =X27+$AC$5 -> 264 | Y28: =IF($K$24>0,IF(X28<$K$21,$K$20*X28,IF(X28<$K$24,($K$22*X28)+$K$23,($K$25*X28)+$K$26)),IF(X28<$K$21,$K$20*X28,($K$22*X28)+$K$23)) -> 0.649504
X29: =X28+$AC$5 -> 276 | Y29: =IF($K$24>0,IF(X29<$K$21,$K$20*X29,IF(X29<$K$24,($K$22*X29)+$K$23,($K$25*X29)+$K$26)),IF(X29<$K$21,$K$20*X29,($K$22*X29)+$K$23)) -> 0.679936
X30: =X29+$AC$5 -> 288 | Y30: =IF($K$24>0,IF(X30<$K$21,$K$20*X30,IF(X30<$K$24,($K$22*X30)+$K$23,($K$25*X30)+$K$26)),IF(X30<$K$21,$K$20*X30,($K$22*X30)+$K$23)) -> 0.707568
X31: =X30+$AC$5 -> 300 | Y31: =IF($K$24>0,IF(X31<$K$21,$K$20*X31,IF(X31<$K$24,($K$22*X31)+$K$23,($K$25*X31)+$K$26)),IF(X31<$K$21,$K$20*X31,($K$22*X31)+$K$23)) -> 0.7233
X32: =X31+$AC$5 -> 312 | Y32: =IF($K$24>0,IF(X32<$K$21,$K$20*X32,IF(X32<$K$24,($K$22*X32)+$K$23,($K$25*X32)+$K$26)),IF(X32<$K$21,$K$20*X32,($K$22*X32)+$K$23)) -> 0.739032
X33: =X32+$AC$5 -> 324 | Y33: =IF($K$24>0,IF(X33<$K$21,$K$20*X33,IF(X33<$K$24,($K$22*X33)+$K$23,($K$25*X33)+$K$26)),IF(X33<$K$21,$K$20*X33,($K$22*X33)+$K$23)) -> 0.754764
X34: =X33+$AC$5 -> 336 | Y34: =IF($K$24>0,IF(X34<$K$21,$K$20*X34,IF(X34<$K$24,($K$22*X34)+$K$23,($K$25*X34)+$K$26)),IF(X34<$K$21,$K$20*X34,($K$22*X34)+$K$23)) -> 0.770496
X35: =X34+$AC$5 -> 348 | Y35: =IF($K$24>0,IF(X35<$K$21,$K$20*X35,IF(X35<$K$24,($K$22*X35)+$K$23,($K$25*X35)+$K$26)),IF(X35<$K$21,$K$20*X35,($K$22*X35)+$K$23)) -> 0.786228
X36: =X35+$AC$5 -> 360 | Y36: =IF($K$24>0,IF(X36<$K$21,$K$20*X36,IF(X36<$K$24,($K$22*X36)+$K$23,($K$25*X36)+$K$26)),IF(X36<$K$21,$K$20*X36,($K$22*X36)+$K$23)) -> 0.80196
X37: =X36+$AC$5 -> 372 | Y37: =IF($K$24>0,IF(X37<$K$21,$K$20*X37,IF(X37<$K$24,($K$22*X37)+$K$23,($K$25*X37)+$K$26)),IF(X37<$K$21,$K$20*X37,($K$22*X37)+$K$23)) -> 0.817692
X38: =X37+$AC$5 -> 384 | Y38: =IF($K$24>0,IF(X38<$K$21,$K$20*X38,IF(X38<$K$24,($K$22*X38)+$K$23,($K$25*X38)+$K$26)),IF(X38<$K$21,$K$20*X38,($K$22*X38)+$K$23)) -> 0.833424
... X506: =X505+$AC$5 -> 6000 | Y506: =IF($K$24>0,IF(X506<$K$21,$K$20*X506,IF(X506<$K$24,($K$22*X506)+$K$23,($K$25*X506)+$K$26)),IF(X506<$K$21,$K$20*X506,($K$22*X506)+$K$23)) -> 8.196

Sheet 080.00
J2: 080.00 | K2: =VLOOKUP(J2,'Calcul financement'!B5:F100,2,FALSE) -> Hors programme (incl. préal. univ.)
J4: =MAX(IF(K24=0,IF(K21=0,1000,K21*4),K24*2),K9:K15) -> 4966 | K4: PES utilisées pour ajuster le graphique
J5: =IF($K$24>0,IF(J4<$K$21,$K$20*J4,IF(J4<$K$24,($K$22*J4)+$K$23,($K$25*J4)+$K$26)),IF(J4<$K$21,$K$20*J4,($K$22*J4)+$K$23)) -> 6.799814 | K5: =CONCATENATE("ÉTC seront financés par les ",J4," PES ","du programme ",LEFT(J2,6)) -> ÉTC seront financés par les 4966 PES du programme 080.00 | X5: PES | Y5: ÉTC | AB5: Incrément PES | AC5: =ROUNDUP(J4/450,0) -> 12
X6: 0 | Y6: =IF($K$24>0,IF(X6<$K$21,$K$20*X6,IF(X6<$K$24,($K$22*X6)+$K$23,($K$25*X6)+$K$26)),IF(X6<$K$21,$K$20*X6,($K$22*X6)+$K$23)) -> 0
X7: =X6+$AC$5 -> 12 | Y7: =IF($K$24>0,IF(X7<$K$21,$K$20*X7,IF(X7<$K$24,($K$22*X7)+$K$23,($K$25*X7)+$K$26)),IF(X7<$K$21,$K$20*X7,($K$22*X7)+$K$23)) -> 0.01854
K8: PES | L8: ÉTC | M8: ÉTC/1000 PES | X8: =X7+$AC$5 -> 24 | Y8: =IF($K$24>0,IF(X8<$K$21,$K$20*X8,IF(X8<$K$24,($K$22*X8)+$K$23,($K$25*X8)+$K$26)),IF(X8<$K$21,$K$20*X8,($K$22*X8)+$K$23)) -> 0.03708
I9: A | J9: ='Points graphiques'!C4 -> 2016-2017 | K9: =_xlfn.IFNA(VLOOKUP($J$2,'Données PES'!$A$2:$AA$101,MATCH(J9,'Données PES'!$2:$2),FALSE),0) -> 3114 | L9: =IF(K9>0,IF($K$24>0,IF(K9<$K$21,$K$20*K9,IF(K9<$K$24,($K$22*K9)+$K$23,($K$25*K9)+$K$26)),IF(K9<$K$21,$K$20*K9,($K$22*K9)+$K$23)),"") -> 4.338506 | M9: =IF(K9>0,L9/K9*1000,"") -> 1.3932261 | X9: =X8+$AC$5 -> 36 | Y9: =IF($K$24>0,IF(X9<$K$21,$K$20*X9,IF(X9<$K$24,($K$22*X9)+$K$23,($K$25*X9)+$K$26)),IF(X9<$K$21,$K$20*X9,($K$22*X9)+$K$23)) -> 0.05562
I10: B | J10: ='Points graphiques'!C5 -> 2017-2018 | K10: =_xlfn.IFNA(VLOOKUP($J$2,'Données PES'!$A$2:$AA$101,MATCH(J10,'Données PES'!$2:$2),FALSE),0) -> 3263 | L10: =IF(K10>0,IF($K$24>0,IF(K10<$K$21,$K$20*K10,IF(K10<$K$24,($K$22*K10)+$K$23,($K$25*K10)+$K$26)),IF(K10<$K$21,$K$20*K10,($K$22*K10)+$K$23)),"") -> 4.536527 | M10: =IF(K10>0,L10/K10*1000,"") -> 1.3902933 | X10: =X9+$AC$5 -> 48 | Y10: =IF($K$24>0,IF(X10<$K$21,$K$20*X10,IF(X10<$K$24,($K$22*X10)+$K$23,($K$25*X10)+$K$26)),IF(X10<$K$21,$K$20*X10,($K$22*X10)+$K$23)) -> 0.07416
I11: C | J11: ='Points graphiques'!C6 -> 2018-2019 | K11: =_xlfn.IFNA(VLOOKUP($J$2,'Données PES'!$A$2:$AA$101,MATCH(J11,'Données PES'!$2:$2),FALSE),0) -> 1507 | L11: =IF(K11>0,IF($K$24>0,IF(K11<$K$21,$K$20*K11,IF(K11<$K$24,($K$22*K11)+$K$23,($K$25*K11)+$K$26)),IF(K11<$K$21,$K$20*K11,($K$22*K11)+$K$23)),"") -> 2.202803 | M11: =IF(K11>0,L11/K11*1000,"") -> 1.461714 | X11: =X10+$AC$5 -> 60 | Y11: =IF($K$24>0,IF(X11<$K$21,$K$20*X11,IF(X11<$K$24,($K$22*X11)+$K$23,($K$25*X11)+$K$26)),IF(X11<$K$21,$K$20*X11,($K$22*X11)+$K$23)) -> 0.0927
I12: D | J12: ='Points graphiques'!C7 -> 2019-2020 | K12: =_xlfn.IFNA(VLOOKUP($J$2,'Données PES'!$A$2:$AA$101,MATCH(J12,'Données PES'!$2:$2),FALSE),0) -> 4966 | L12: =IF(K12>0,IF($K$24>0,IF(K12<$K$21,$K$20*K12,IF(K12<$K$24,($K$22*K12)+$K$23,($K$25*K12)+$K$26)),IF(K12<$K$21,$K$20*K12,($K$22*K12)+$K$23)),"") -> 6.799814 | M12: =IF(K12>0,L12/K12*1000,"") -> 1.3692739 | X12: =X11+$AC$5 -> 72 | Y12: =IF($K$24>0,IF(X12<$K$21,$K$20*X12,IF(X12<$K$24,($K$22*X12)+$K$23,($K$25*X12)+$K$26)),IF(X12<$K$21,$K$20*X12,($K$22*X12)+$K$23)) -> 0.11124
I13: E | J13: Manuel | L13: =IF(K13>0,IF($K$24>0,IF(K13<$K$21,$K$20*K13,IF(K13<$K$24,($K$22*K13)+$K$23,($K$25*K13)+$K$26)),IF(K13<$K$21,$K$20*K13,($K$22*K13)+$K$23)),"") | M13: =IF(K13>0,L13/K13*1000,"") | X13: =X12+$AC$5 -> 84 | Y13: =IF($K$24>0,IF(X13<$K$21,$K$20*X13,IF(X13<$K$24,($K$22*X13)+$K$23,($K$25*X13)+$K$26)),IF(X13<$K$21,$K$20*X13,($K$22*X13)+$K$23)) -> 0.12978
I14: F | J14: Manuel | L14: =IF(K14>0,IF($K$24>0,IF(K14<$K$21,$K$20*K14,IF(K14<$K$24,($K$22*K14)+$K$23,($K$25*K14)+$K$26)),IF(K14<$K$21,$K$20*K14,($K$22*K14)+$K$23)),"") | M14: =IF(K14>0,L14/K14*1000,"") | X14: =X13+$AC$5 -> 96 | Y14: =IF($K$24>0,IF(X14<$K$21,$K$20*X14,IF(X14<$K$24,($K$22*X14)+$K$23,($K$25*X14)+$K$26)),IF(X14<$K$21,$K$20*X14,($K$22*X14)+$K$23)) -> 0.14832
I15: G | J15: Manuel | L15: =IF(K15>0,IF($K$24>0,IF(K15<$K$21,$K$20*K15,IF(K15<$K$24,($K$22*K15)+$K$23,($K$25*K15)+$K$26)),IF(K15<$K$21,$K$20*K15,($K$22*K15)+$K$23)),"") | M15: =IF(K15>0,L15/K15*1000,"") | X15: =X14+$AC$5 -> 108 | Y15: =IF($K$24>0,IF(X15<$K$21,$K$20*X15,IF(X15<$K$24,($K$22*X15)+$K$23,($K$25*X15)+$K$26)),IF(X15<$K$21,$K$20*X15,($K$22*X15)+$K$23)) -> 0.16686
X16: =X15+$AC$5 -> 120 | Y16: =IF($K$24>0,IF(X16<$K$21,$K$20*X16,IF(X16<$K$24,($K$22*X16)+$K$23,($K$25*X16)+$K$26)),IF(X16<$K$21,$K$20*X16,($K$22*X16)+$K$23)) -> 0.1854
J17: Cliquez ici pour modifier les points affichées sur graphique. | X17: =X16+$AC$5 -> 132 | Y17: =IF($K$24>0,IF(X17<$K$21,$K$20*X17,IF(X17<$K$24,($K$22*X17)+$K$23,($K$25*X17)+$K$26)),IF(X17<$K$21,$K$20*X17,($K$22*X17)+$K$23)) -> 0.20394
X18: =X17+$AC$5 -> 144 | Y18: =IF($K$24>0,IF(X18<$K$21,$K$20*X18,IF(X18<$K$24,($K$22*X18)+$K$23,($K$25*X18)+$K$26)),IF(X18<$K$21,$K$20*X18,($K$22*X18)+$K$23)) -> 0.22248
X19: =X18+$AC$5 -> 156 | Y19: =IF($K$24>0,IF(X19<$K$21,$K$20*X19,IF(X19<$K$24,($K$22*X19)+$K$23,($K$25*X19)+$K$26)),IF(X19<$K$21,$K$20*X19,($K$22*X19)+$K$23)) -> 0.24102
J20: norme0 | K20: =VLOOKUP($J$2,Tableau_fin[],7,FALSE) -> 0.001545 | X20: =X19+$AC$5 -> 168 | Y20: =IF($K$24>0,IF(X20<$K$21,$K$20*X20,IF(X20<$K$24,($K$22*X20)+$K$23,($K$25*X20)+$K$26)),IF(X20<$K$21,$K$20*X20,($K$22*X20)+$K$23)) -> 0.25956
J21: pesmin | K21: =VLOOKUP($J$2,Tableau_fin[],8,FALSE) -> 200 | X21: =X20+$AC$5 -> 180 | Y21: =IF($K$24>0,IF(X21<$K$21,$K$20*X21,IF(X21<$K$24,($K$22*X21)+$K$23,($K$25*X21)+$K$26)),IF(X21<$K$21,$K$20*X21,($K$22*X21)+$K$23)) -> 0.2781
J22: norme1 | K22: =VLOOKUP($J$2,Tableau_fin[],9,FALSE) -> 0.001329 | X22: =X21+$AC$5 -> 192 | Y22: =IF($K$24>0,IF(X22<$K$21,$K$20*X22,IF(X22<$K$24,($K$22*X22)+$K$23,($K$25*X22)+$K$26)),IF(X22<$K$21,$K$20*X22,($K$22*X22)+$K$23)) -> 0.29664
J23: constante1 | K23: =VLOOKUP($J$2,Tableau_fin[],10,FALSE) -> 0.2 | X23: =X22+$AC$5 -> 204 | Y23: =IF($K$24>0,IF(X23<$K$21,$K$20*X23,IF(X23<$K$24,($K$22*X23)+$K$23,($K$25*X23)+$K$26)),IF(X23<$K$21,$K$20*X23,($K$22*X23)+$K$23)) -> 0.471116
J24: intersection | K24: =VLOOKUP($J$2,Tableau_fin[],11,FALSE) -> 0 | X24: =X23+$AC$5 -> 216 | Y24: =IF($K$24>0,IF(X24<$K$21,$K$20*X24,IF(X24<$K$24,($K$22*X24)+$K$23,($K$25*X24)+$K$26)),IF(X24<$K$21,$K$20*X24,($K$22*X24)+$K$23)) -> 0.487064
J25: norme2 | K25: =VLOOKUP($J$2,Tableau_fin[],12,FALSE) -> 0 | X25: =X24+$AC$5 -> 228 | Y25: =IF($K$24>0,IF(X25<$K$21,$K$20*X25,IF(X25<$K$24,($K$22*X25)+$K$23,($K$25*X25)+$K$26)),IF(X25<$K$21,$K$20*X25,($K$22*X25)+$K$23)) -> 0.503012
J26: constante2 | K26: =VLOOKUP($J$2,Tableau_fin[],13,FALSE) -> 0 | X26: =X25+$AC$5 -> 240 | Y26: =IF($K$24>0,IF(X26<$K$21,$K$20*X26,IF(X26<$K$24,($K$22*X26)+$K$23,($K$25*X26)+$K$26)),IF(X26<$K$21,$K$20*X26,($K$22*X26)+$K$23)) -> 0.51896
X27: =X26+$AC$5 -> 252 | Y27: =IF($K$24>0,IF(X27<$K$21,$K$20*X27,IF(X27<$K$24,($K$22*X27)+$K$23,($K$25*X27)+$K$26)),IF(X27<$K$21,$K$20*X27,($K$22*X27)+$K$23)) -> 0.534908
X28: =X27+$AC$5 -> 264 | Y28: =IF($K$24>0,IF(X28<$K$21,$K$20*X28,IF(X28<$K$24,($K$22*X28)+$K$23,($K$25*X28)+$K$26)),IF(X28<$K$21,$K$20*X28,($K$22*X28)+$K$23)) -> 0.550856
X29: =X28+$AC$5 -> 276 | Y29: =IF($K$24>0,IF(X29<$K$21,$K$20*X29,IF(X29<$K$24,($K$22*X29)+$K$23,($K$25*X29)+$K$26)),IF(X29<$K$21,$K$20*X29,($K$22*X29)+$K$23)) -> 0.566804
X30: =X29+$AC$5 -> 288 | Y30: =IF($K$24>0,IF(X30<$K$21,$K$20*X30,IF(X30<$K$24,($K$22*X30)+$K$23,($K$25*X30)+$K$26)),IF(X30<$K$21,$K$20*X30,($K$22*X30)+$K$23)) -> 0.582752
X31: =X30+$AC$5 -> 300 | Y31: =IF($K$24>0,IF(X31<$K$21,$K$20*X31,IF(X31<$K$24,($K$22*X31)+$K$23,($K$25*X31)+$K$26)),IF(X31<$K$21,$K$20*X31,($K$22*X31)+$K$23)) -> 0.5987
X32: =X31+$AC$5 -> 312 | Y32: =IF($K$24>0,IF(X32<$K$21,$K$20*X32,IF(X32<$K$24,($K$22*X32)+$K$23,($K$25*X32)+$K$26)),IF(X32<$K$21,$K$20*X32,($K$22*X32)+$K$23)) -> 0.614648
X33: =X32+$AC$5 -> 324 | Y33: =IF($K$24>0,IF(X33<$K$21,$K$20*X33,IF(X33<$K$24,($K$22*X33)+$K$23,($K$25*X33)+$K$26)),IF(X33<$K$21,$K$20*X33,($K$22*X33)+$K$23)) -> 0.630596
X34: =X33+$AC$5 -> 336 | Y34: =IF($K$24>0,IF(X34<$K$21,$K$20*X34,IF(X34<$K$24,($K$22*X34)+$K$23,($K$25*X34)+$K$26)),IF(X34<$K$21,$K$20*X34,($K$22*X34)+$K$23)) -> 0.646544
X35: =X34+$AC$5 -> 348 | Y35: =IF($K$24>0,IF(X35<$K$21,$K$20*X35,IF(X35<$K$24,($K$22*X35)+$K$23,($K$25*X35)+$K$26)),IF(X35<$K$21,$K$20*X35,($K$22*X35)+$K$23)) -> 0.662492
X36: =X35+$AC$5 -> 360 | Y36: =IF($K$24>0,IF(X36<$K$21,$K$20*X36,IF(X36<$K$24,($K$22*X36)+$K$23,($K$25*X36)+$K$26)),IF(X36<$K$21,$K$20*X36,($K$22*X36)+$K$23)) -> 0.67844
X37: =X36+$AC$5 -> 372 | Y37: =IF($K$24>0,IF(X37<$K$21,$K$20*X37,IF(X37<$K$24,($K$22*X37)+$K$23,($K$25*X37)+$K$26)),IF(X37<$K$21,$K$20*X37,($K$22*X37)+$K$23)) -> 0.694388
X38: =X37+$AC$5 -> 384 | Y38: =IF($K$24>0,IF(X38<$K$21,$K$20*X38,IF(X38<$K$24,($K$22*X38)+$K$23,($K$25*X38)+$K$26)),IF(X38<$K$21,$K$20*X38,($K$22*X38)+$K$23)) -> 0.710336
... X506: =X505+$AC$5 -> 6000 | Y506: =IF($K$24>0,IF(X506<$K$21,$K$20*X506,IF(X506<$K$24,($K$22*X506)+$K$23,($K$25*X506)+$K$26)),IF(X506<$K$21,$K$20*X506,($K$22*X506)+$K$23)) -> 8.174

Sheet 111.A0
J2: 111.A0 | K2: =VLOOKUP(J2,'Calcul financement'!B5:F100,2,FALSE) -> Techniques d'hygiène dentaire
J4: =MAX(IF(K24=0,IF(K21=0,1000,K21*4),K24*2),K9:K15) -> 6960 | K4: PES utilisées pour ajuster le graphique
J5: =IF($K$24>0,IF(J4<$K$21,$K$20*J4,IF(J4<$K$24,($K$22*J4)+$K$23,($K$25*J4)+$K$26)),IF(J4<$K$21,$K$20*J4,($K$22*J4)+$K$23)) -> 20.69112 | K5: =CONCATENATE("ÉTC seront financés par les ",J4," PES ","du programme ",LEFT(J2,6)) -> ÉTC seront financés par les 6960 PES du programme 111.A0 | X5: PES | Y5: ÉTC | AB5: Incrément PES | AC5: =ROUNDUP(J4/450,0) -> 16
X6: 0 | Y6: =IF($K$24>0,IF(X6<$K$21,$K$20*X6,IF(X6<$K$24,($K$22*X6)+$K$23,($K$25*X6)+$K$26)),IF(X6<$K$21,$K$20*X6,($K$22*X6)+$K$23)) -> 0
X7: =X6+$AC$5 -> 16 | Y7: =IF($K$24>0,IF(X7<$K$21,$K$20*X7,IF(X7<$K$24,($K$22*X7)+$K$23,($K$25*X7)+$K$26)),IF(X7<$K$21,$K$20*X7,($K$22*X7)+$K$23)) -> 0.02472
K8: PES | L8: ÉTC | M8: ÉTC/1000 PES | X8: =X7+$AC$5 -> 32 | Y8: =IF($K$24>0,IF(X8<$K$21,$K$20*X8,IF(X8<$K$24,($K$22*X8)+$K$23,($K$25*X8)+$K$26)),IF(X8<$K$21,$K$20*X8,($K$22*X8)+$K$23)) -> 0.04944
I9: A | J9: ='Points graphiques'!C4 -> 2016-2017 | K9: =_xlfn.IFNA(VLOOKUP($J$2,'Données PES'!$A$2:$AA$101,MATCH(J9,'Données PES'!$2:$2),FALSE),0) -> 3119 | L9: =IF(K9>0,IF($K$24>0,IF(K9<$K$21,$K$20*K9,IF(K9<$K$24,($K$22*K9)+$K$23,($K$25*K9)+$K$26)),IF(K9<$K$21,$K$20*K9,($K$22*K9)+$K$23)),"") -> 9.851818 | M9: =IF(K9>0,L9/K9*1000,"") -> 3.1586464 | X9: =X8+$AC$5 -> 48 | Y9: =IF($K$24>0,IF(X9<$K$21,$K$20*X9,IF(X9<$K$24,($K$22*X9)+$K$23,($K$25*X9)+$K$26)),IF(X9<$K$21,$K$20*X9,($K$22*X9)+$K$23)) -> 0.07416
I10: B | J10: ='Points graphiques'!C5 -> 2017-2018 | K10: =_xlfn.IFNA(VLOOKUP($J$2,'Données PES'!$A$2:$AA$101,MATCH(J10,'Données PES'!$2:$2),FALSE),0) -> 3044 | L10: =IF(K10>0,IF($K$24>0,IF(K10<$K$21,$K$20*K10,IF(K10<$K$24,($K$22*K10)+$K$23,($K$25*K10)+$K$26)),IF(K10<$K$21,$K$20*K10,($K$22*K10)+$K$23)),"") -> 9.640168 | M10: =IF(K10>0,L10/K10*1000,"") -> 3.1669409 | X10: =X9+$AC$5 -> 64 | Y10: =IF($K$24>0,IF(X10<$K$21,$K$20*X10,IF(X10<$K$24,($K$22*X10)+$K$23,($K$25*X10)+$K$26)),IF(X10<$K$21,$K$20*X10,($K$22*X10)+$K$23)) -> 0.09888
I11: C | J11: ='Points graphiques'!C6 -> 2018-2019 | K11: =_xlfn.IFNA(VLOOKUP($J$2,'Données PES'!$A$2:$AA$101,MATCH(J11,'Données PES'!$2:$2),FALSE),0) -> 3125 | L11: =IF(K11>0,IF($K$24>0,IF(K11<$K$21,$K$20*K11,IF(K11<$K$24,($K$22*K11)+$K$23,($K$25*K11)+$K$26)),IF(K11<$K$21,$K$20*K11,($K$22*K11)+$K$23)),"") -> 9.86875 | M11: =IF(K11>0,L11/K11*1000,"") -> 3.158 | X11: =X10+$AC$5 -> 80 | Y11: =IF($K$24>0,IF(X11<$K$21,$K$20*X11,IF(X11<$K$24,($K$22*X11)+$K$23,($K$25*X11)+$K$26)),IF(X11<$K$21,$K$20*X11,($K$22*X11)+$K$23)) -> 0.1236
I12: D | J12: ='Points graphiques'!C7 -> 2019-2020 | K12: =_xlfn.IFNA(VLOOKUP($J$2,'Données PES'!$A$2:$AA$101,MATCH(J12,'Données PES'!$2:$2),FALSE),0) -> 2683 | L12: =IF(K12>0,IF($K$24>0,IF(K12<$K$21,$K$20*K12,IF(K12<$K$24,($K$22*K12)+$K$23,($K$25*K12)+$K$26)),IF(K12<$K$21,$K$20*K12,($K$22*K12)+$K$23)),"") -> 8.621426 | M12: =IF(K12>0,L12/K12*1000,"") -> 3.213353 | X12: =X11+$AC$5 -> 96 | Y12: =IF($K$24>0,IF(X12<$K$21,$K$20*X12,IF(X12<$K$24,($K$22*X12)+$K$23,($K$25*X12)+$K$26)),IF(X12<$K$21,$K$20*X12,($K$22*X12)+$K$23)) -> 0.14832
I13: E | J13: Manuel | L13: =IF(K13>0,IF($K$24>0,IF(K13<$K$21,$K$20*K13,IF(K13<$K$24,($K$22*K13)+$K$23,($K$25*K13)+$K$26)),IF(K13<$K$21,$K$20*K13,($K$22*K13)+$K$23)),"") | M13: =IF(K13>0,L13/K13*1000,"") | X13: =X12+$AC$5 -> 112 | Y13: =IF($K$24>0,IF(X13<$K$21,$K$20*X13,IF(X13<$K$24,($K$22*X13)+$K$23,($K$25*X13)+$K$26)),IF(X13<$K$21,$K$20*X13,($K$22*X13)+$K$23)) -> 0.17304
I14: F | J14: Manuel | L14: =IF(K14>0,IF($K$24>0,IF(K14<$K$21,$K$20*K14,IF(K14<$K$24,($K$22*K14)+$K$23,($K$25*K14)+$K$26)),IF(K14<$K$21,$K$20*K14,($K$22*K14)+$K$23)),"") | M14: =IF(K14>0,L14/K14*1000,"") | X14: =X13+$AC$5 -> 128 | Y14: =IF($K$24>0,IF(X14<$K$21,$K$20*X14,IF(X14<$K$24,($K$22*X14)+$K$23,($K$25*X14)+$K$26)),IF(X14<$K$21,$K$20*X14,($K$22*X14)+$K$23)) -> 0.19776
I15: G | J15: Manuel | L15: =IF(K15>0,IF($K$24>0,IF(K15<$K$21,$K$20*K15,IF(K15<$K$24,($K$22*K15)+$K$23,($K$25*K15)+$K$26)),IF(K15<$K$21,$K$20*K15,($K$22*K15)+$K$23)),"") | M15: =IF(K15>0,L15/K15*1000,"") | X15: =X14+$AC$5 -> 144 | Y15: =IF($K$24>0,IF(X15<$K$21,$K$20*X15,IF(X15<$K$24,($K$22*X15)+$K$23,($K$25*X15)+$K$26)),IF(X15<$K$21,$K$20*X15,($K$22*X15)+$K$23)) -> 0.22248
X16: =X15+$AC$5 -> 160 | Y16: =IF($K$24>0,IF(X16<$K$21,$K$20*X16,IF(X16<$K$24,($K$22*X16)+$K$23,($K$25*X16)+$K$26)),IF(X16<$K$21,$K$20*X16,($K$22*X16)+$K$23)) -> 0.2472
J17: Cliquez ici pour modifier les points affichées sur graphique. | X17: =X16+$AC$5 -> 176 | Y17: =IF($K$24>0,IF(X17<$K$21,$K$20*X17,IF(X17<$K$24,($K$22*X17)+$K$23,($K$25*X17)+$K$26)),IF(X17<$K$21,$K$20*X17,($K$22*X17)+$K$23)) -> 0.27192
X18: =X17+$AC$5 -> 192 | Y18: =IF($K$24>0,IF(X18<$K$21,$K$20*X18,IF(X18<$K$24,($K$22*X18)+$K$23,($K$25*X18)+$K$26)),IF(X18<$K$21,$K$20*X18,($K$22*X18)+$K$23)) -> 0.29664
X19: =X18+$AC$5 -> 208 | Y19: =IF($K$24>0,IF(X19<$K$21,$K$20*X19,IF(X19<$K$24,($K$22*X19)+$K$23,($K$25*X19)+$K$26)),IF(X19<$K$21,$K$20*X19,($K$22*X19)+$K$23)) -> 0.32136
J20: norme0 | K20: =VLOOKUP($J$2,Tableau_fin[],7,FALSE) -> 0.001545 | X20: =X19+$AC$5 -> 224 | Y20: =IF($K$24>0,IF(X20<$K$21,$K$20*X20,IF(X20<$K$24,($K$22*X20)+$K$23,($K$25*X20)+$K$26)),IF(X20<$K$21,$K$20*X20,($K$22*X20)+$K$23)) -> 0.34608
J21: pesmin | K21: =VLOOKUP($J$2,Tableau_fin[],8,FALSE) -> 1740 | X21: =X20+$AC$5 -> 240 | Y21: =IF($K$24>0,IF(X21<$K$21,$K$20*X21,IF(X21<$K$24,($K$22*X21)+$K$23,($K$25*X21)+$K$26)),IF(X21<$K$21,$K$20*X21,($K$22*X21)+$K$23)) -> 0.3708
J22: norme1 | K22: =VLOOKUP($J$2,Tableau_fin[],9,FALSE) -> 0.002822 | X22: =X21+$AC$5 -> 256 | Y22: =IF($K$24>0,IF(X22<$K$21,$K$20*X22,IF(X22<$K$24,($K$22*X22)+$K$23,($K$25*X22)+$K$26)),IF(X22<$K$21,$K$20*X22,($K$22*X22)+$K$23)) -> 0.39552
J23: constante1 | K23: =VLOOKUP($J$2,Tableau_fin[],10,FALSE) -> 1.05 | X23: =X22+$AC$5 -> 272 | Y23: =IF($K$24>0,IF(X23<$K$21,$K$20*X23,IF(X23<$K$24,($K$22*X23)+$K$23,($K$25*X23)+$K$26)),IF(X23<$K$21,$K$20*X23,($K$22*X23)+$K$23)) -> 0.42024
J24: intersection | K24: =VLOOKUP($J$2,Tableau_fin[],11,FALSE) -> 0 | X24: =X23+$AC$5 -> 288 | Y24: =IF($K$24>0,IF(X24<$K$21,$K$20*X24,IF(X24<$K$24,($K$22*X24)+$K$23,($K$25*X24)+$K$26)),IF(X24<$K$21,$K$20*X24,($K$22*X24)+$K$23)) -> 0.44496
J25: norme2 | K25: =VLOOKUP($J$2,Tableau_fin[],12,FALSE) -> 0 | X25: =X24+$AC$5 -> 304 | Y25: =IF($K$24>0,IF(X25<$K$21,$K$20*X25,IF(X25<$K$24,($K$22*X25)+$K$23,($K$25*X25)+$K$26)),IF(X25<$K$21,$K$20*X25,($K$22*X25)+$K$23)) -> 0.46968
J26: constante2 | K26: =VLOOKUP($J$2,Tableau_fin[],13,FALSE) -> 0 | X26: =X25+$AC$5 -> 320 | Y26: =IF($K$24>0,IF(X26<$K$21,$K$20*X26,IF(X26<$K$24,($K$22*X26)+$K$23,($K$25*X26)+$K$26)),IF(X26<$K$21,$K$20*X26,($K$22*X26)+$K$23)) -> 0.4944
X27: =X26+$AC$5 -> 336 | Y27: =IF($K$24>0,IF(X27<$K$21,$K$20*X27,IF(X27<$K$24,($K$22*X27)+$K$23,($K$25*X27)+$K$26)),IF(X27<$K$21,$K$20*X27,($K$22*X27)+$K$23)) -> 0.51912
X28: =X27+$AC$5 -> 352 | Y28: =IF($K$24>0,IF(X28<$K$21,$K$20*X28,IF(X28<$K$24,($K$22*X28)+$K$23,($K$25*X28)+$K$26)),IF(X28<$K$21,$K$20*X28,($K$22*X28)+$K$23)) -> 0.54384
X29: =X28+$AC$5 -> 368 | Y29: =IF($K$24>0,IF(X29<$K$21,$K$20*X29,IF(X29<$K$24,($K$22*X29)+$K$23,($K$25*X29)+$K$26)),IF(X29<$K$21,$K$20*X29,($K$22*X29)+$K$23)) -> 0.56856
X30: =X29+$AC$5 -> 384 | Y30: =IF($K$24>0,IF(X30<$K$21,$K$20*X30,IF(X30<$K$24,($K$22*X30)+$K$23,($K$25*X30)+$K$26)),IF(X30<$K$21,$K$20*X30,($K$22*X30)+$K$23)) -> 0.59328
X31: =X30+$AC$5 -> 400 | Y31: =IF($K$24>0,IF(X31<$K$21,$K$20*X31,IF(X31<$K$24,($K$22*X31)+$K$23,($K$25*X31)+$K$26)),IF(X31<$K$21,$K$20*X31,($K$22*X31)+$K$23)) -> 0.618
X32: =X31+$AC$5 -> 416 | Y32: =IF($K$24>0,IF(X32<$K$21,$K$20*X32,IF(X32<$K$24,($K$22*X32)+$K$23,($K$25*X32)+$K$26)),IF(X32<$K$21,$K$20*X32,($K$22*X32)+$K$23)) -> 0.64272
X33: =X32+$AC$5 -> 432 | Y33: =IF($K$24>0,IF(X33<$K$21,$K$20*X33,IF(X33<$K$24,($K$22*X33)+$K$23,($K$25*X33)+$K$26)),IF(X33<$K$21,$K$20*X33,($K$22*X33)+$K$23)) -> 0.66744
X34: =X33+$AC$5 -> 448 | Y34: =IF($K$24>0,IF(X34<$K$21,$K$20*X34,IF(X34<$K$24,($K$22*X34)+$K$23,($K$25*X34)+$K$26)),IF(X34<$K$21,$K$20*X34,($K$22*X34)+$K$23)) -> 0.69216
X35: =X34+$AC$5 -> 464 | Y35: =IF($K$24>0,IF(X35<$K$21,$K$20*X35,IF(X35<$K$24,($K$22*X35)+$K$23,($K$25*X35)+$K$26)),IF(X35<$K$21,$K$20*X35,($K$22*X35)+$K$23)) -> 0.71688
X36: =X35+$AC$5 -> 480 | Y36: =IF($K$24>0,IF(X36<$K$21,$K$20*X36,IF(X36<$K$24,($K$22*X36)+$K$23,($K$25*X36)+$K$26)),IF(X36<$K$21,$K$20*X36,($K$22*X36)+$K$23)) -> 0.7416
X37: =X36+$AC$5 -> 496 | Y37: =IF($K$24>0,IF(X37<$K$21,$K$20*X37,IF(X37<$K$24,($K$22*X37)+$K$23,($K$25*X37)+$K$26)),IF(X37<$K$21,$K$20*X37,($K$22*X37)+$K$23)) -> 0.76632
X38: =X37+$AC$5 -> 512 | Y38: =IF($K$24>0,IF(X38<$K$21,$K$20*X38,IF(X38<$K$24,($K$22*X38)+$K$23,($K$25*X38)+$K$26)),IF(X38<$K$21,$K$20*X38,($K$22*X38)+$K$23)) -> 0.79104
... X506: =X505+$AC$5 -> 8000 | Y506: =IF($K$24>0,IF(X506<$K$21,$K$20*X506,IF(X506<$K$24,($K$22*X506)+$K$23,($K$25*X506)+$K$26)),IF(X506<$K$21,$K$20*X506,($K$22*X506)+$K$23)) -> 23.626

Sheet 120.A0
J2: 120.A0 | K2: =VLOOKUP(J2,'Calcul financement'!B5:F100,2,FALSE) -> Techniques de diététique
J4: =MAX(IF(K24=0,IF(K21=0,1000,K21*4),K24*2),K9:K15) -> 4040 | K4: PES utilisées pour ajuster le graphique
J5: =IF($K$24>0,IF(J4<$K$21,$K$20*J4,IF(J4<$K$24,($K$22*J4)+$K$23,($K$25*J4)+$K$26)),IF(J4<$K$21,$K$20*J4,($K$22*J4)+$K$23)) -> 7.8194 | K5: =CONCATENATE("ÉTC seront financés par les ",J4," PES ","du programme ",LEFT(J2,6)) -> ÉTC seront financés par les 4040 PES du programme 120.A0 | X5: PES | Y5: ÉTC | AB5: Incrément PES | AC5: =ROUNDUP(J4/450,0) -> 9
X6: 0 | Y6: =IF($K$24>0,IF(X6<$K$21,$K$20*X6,IF(X6<$K$24,($K$22*X6)+$K$23,($K$25*X6)+$K$26)),IF(X6<$K$21,$K$20*X6,($K$22*X6)+$K$23)) -> 0
X7: =X6+$AC$5 -> 9 | Y7: =IF($K$24>0,IF(X7<$K$21,$K$20*X7,IF(X7<$K$24,($K$22*X7)+$K$23,($K$25*X7)+$K$26)),IF(X7<$K$21,$K$20*X7,($K$22*X7)+$K$23)) -> 0.013905
K8: PES | L8: ÉTC | M8: ÉTC/1000 PES | X8: =X7+$AC$5 -> 18 | Y8: =IF($K$24>0,IF(X8<$K$21,$K$20*X8,IF(X8<$K$24,($K$22*X8)+$K$23,($K$25*X8)+$K$26)),IF(X8<$K$21,$K$20*X8,($K$22*X8)+$K$23)) -> 0.02781
I9: A | J9: ='Points graphiques'!C4 -> 2016-2017 | K9: =_xlfn.IFNA(VLOOKUP($J$2,'Données PES'!$A$2:$AA$101,MATCH(J9,'Données PES'!$2:$2),FALSE),0) -> 0 | L9: =IF(K9>0,IF($K$24>0,IF(K9<$K$21,$K$20*K9,IF(K9<$K$24,($K$22*K9)+$K$23,($K$25*K9)+$K$26)),IF(K9<$K$21,$K$20*K9,($K$22*K9)+$K$23)),"") | M9: =IF(K9>0,L9/K9*1000,"") | X9: =X8+$AC$5 -> 27 | Y9: =IF($K$24>0,IF(X9<$K$21,$K$20*X9,IF(X9<$K$24,($K$22*X9)+$K$23,($K$25*X9)+$K$26)),IF(X9<$K$21,$K$20*X9,($K$22*X9)+$K$23)) -> 0.041715
I10: B | J10: ='Points graphiques'!C5 -> 2017-2018 | K10: =_xlfn.IFNA(VLOOKUP($J$2,'Données PES'!$A$2:$AA$101,MATCH(J10,'Données PES'!$2:$2),FALSE),0) -> 0 | L10: =IF(K10>0,IF($K$24>0,IF(K10<$K$21,$K$20*K10,IF(K10<$K$24,($K$22*K10)+$K$23,($K$25*K10)+$K$26)),IF(K10<$K$21,$K$20*K10,($K$22*K10)+$K$23)),"") | M10: =IF(K10>0,L10/K10*1000,"") | X10: =X9+$AC$5 -> 36 | Y10: =IF($K$24>0,IF(X10<$K$21,$K$20*X10,IF(X10<$K$24,($K$22*X10)+$K$23,($K$25*X10)+$K$26)),IF(X10<$K$21,$K$20*X10,($K$22*X10)+$K$23)) -> 0.05562
I11: C | J11: ='Points graphiques'!C6 -> 2018-2019 | K11: =_xlfn.IFNA(VLOOKUP($J$2,'Données PES'!$A$2:$AA$101,MATCH(J11,'Données PES'!$2:$2),FALSE),0) -> 0 | L11: =IF(K11>0,IF($K$24>0,IF(K11<$K$21,$K$20*K11,IF(K11<$K$24,($K$22*K11)+$K$23,($K$25*K11)+$K$26)),IF(K11<$K$21,$K$20*K11,($K$22*K11)+$K$23)),"") | M11: =IF(K11>0,L11/K11*1000,"") | X11: =X10+$AC$5 -> 45 | Y11: =IF($K$24>0,IF(X11<$K$21,$K$20*X11,IF(X11<$K$24,($K$22*X11)+$K$23,($K$25*X11)+$K$26)),IF(X11<$K$21,$K$20*X11,($K$22*X11)+$K$23)) -> 0.069525
I12: D | J12: ='Points graphiques'!C7 -> 2019-2020 | K12: =_xlfn.IFNA(VLOOKUP($J$2,'Données PES'!$A$2:$AA$101,MATCH(J12,'Données PES'!$2:$2),FALSE),0) -> 835 | L12: =IF(K12>0,IF($K$24>0,IF(K12<$K$21,$K$20*K12,IF(K12<$K$24,($K$22*K12)+$K$23,($K$25*K12)+$K$26)),IF(K12<$K$21,$K$20*K12,($K$22*K12)+$K$23)),"") -> 1.290075 | M12: =IF(K12>0,L12/K12*1000,"") -> 1.545 | X12: =X11+$AC$5 -> 54 | Y12: =IF($K$24>0,IF(X12<$K$21,$K$20*X12,IF(X12<$K$24,($K$22*X12)+$K$23,($K$25*X12)+$K$26)),IF(X12<$K$21,$K$20*X12,($K$22*X12)+$K$23)) -> 0.08343
I13: E | J13: Manuel | L13: =IF(K13>0,IF($K$24>0,IF(K13<$K$21,$K$20*K13,IF(K13<$K$24,($K$22*K13)+$K$23,($K$25*K13)+$K$26)),IF(K13<$K$21,$K$20*K13,($K$22*K13)+$K$23)),"") | M13: =IF(K13>0,L13/K13*1000,"") | X13: =X12+$AC$5 -> 63 | Y13: =IF($K$24>0,IF(X13<$K$21,$K$20*X13,IF(X13<$K$24,($K$22*X13)+$K$23,($K$25*X13)+$K$26)),IF(X13<$K$21,$K$20*X13,($K$22*X13)+$K$23)) -> 0.097335
I14: F | J14: Manuel | L14: =IF(K14>0,IF($K$24>0,IF(K14<$K$21,$K$20*K14,IF(K14<$K$24,($K$22*K14)+$K$23,($K$25*K14)+$K$26)),IF(K14<$K$21,$K$20*K14,($K$22*K14)+$K$23)),"") | M14: =IF(K14>0,L14/K14*1000,"") | X14: =X13+$AC$5 -> 72 | Y14: =IF($K$24>0,IF(X14<$K$21,$K$20*X14,IF(X14<$K$24,($K$22*X14)+$K$23,($K$25*X14)+$K$26)),IF(X14<$K$21,$K$20*X14,($K$22*X14)+$K$23)) -> 0.11124
I15: G | J15: Manuel | L15: =IF(K15>0,IF($K$24>0,IF(K15<$K$21,$K$20*K15,IF(K15<$K$24,($K$22*K15)+$K$23,($K$25*K15)+$K$26)),IF(K15<$K$21,$K$20*K15,($K$22*K15)+$K$23)),"") | M15: =IF(K15>0,L15/K15*1000,"") | X15: =X14+$AC$5 -> 81 | Y15: =IF($K$24>0,IF(X15<$K$21,$K$20*X15,IF(X15<$K$24,($K$22*X15)+$K$23,($K$25*X15)+$K$26)),IF(X15<$K$21,$K$20*X15,($K$22*X15)+$K$23)) -> 0.125145
X16: =X15+$AC$5 -> 90 | Y16: =IF($K$24>0,IF(X16<$K$21,$K$20*X16,IF(X16<$K$24,($K$22*X16)+$K$23,($K$25*X16)+$K$26)),IF(X16<$K$21,$K$20*X16,($K$22*X16)+$K$23)) -> 0.13905
J17: Cliquez ici pour modifier les points affichées sur graphique. | X17: =X16+$AC$5 -> 99 | Y17: =IF($K$24>0,IF(X17<$K$21,$K$20*X17,IF(X17<$K$24,($K$22*X17)+$K$23,($K$25*X17)+$K$26)),IF(X17<$K$21,$K$20*X17,($K$22*X17)+$K$23)) -> 0.152955
X18: =X17+$AC$5 -> 108 | Y18: =IF($K$24>0,IF(X18<$K$21,$K$20*X18,IF(X18<$K$24,($K$22*X18)+$K$23,($K$25*X18)+$K$26)),IF(X18<$K$21,$K$20*X18,($K$22*X18)+$K$23)) -> 0.16686
X19: =X18+$AC$5 -> 117 | Y19: =IF($K$24>0,IF(X19<$K$21,$K$20*X19,IF(X19<$K$24,($K$22*X19)+$K$23,($K$25*X19)+$K$26)),IF(X19<$K$21,$K$20*X19,($K$22*X19)+$K$23)) -> 0.180765
J20: norme0 | K20: =VLOOKUP($J$2,Tableau_fin[],7,FALSE) -> 0.001545 | X20: =X19+$AC$5 -> 126 | Y20: =IF($K$24>0,IF(X20<$K$21,$K$20*X20,IF(X20<$K$24,($K$22*X20)+$K$23,($K$25*X20)+$K$26)),IF(X20<$K$21,$K$20*X20,($K$22*X20)+$K$23)) -> 0.19467
J21: pesmin | K21: =VLOOKUP($J$2,Tableau_fin[],8,FALSE) -> 1010 | X21: =X20+$AC$5 -> 135 | Y21: =IF($K$24>0,IF(X21<$K$21,$K$20*X21,IF(X21<$K$24,($K$22*X21)+$K$23,($K$25*X21)+$K$26)),IF(X21<$K$21,$K$20*X21,($K$22*X21)+$K$23)) -> 0.208575
J22: norme1 | K22: =VLOOKUP($J$2,Tableau_fin[],9,FALSE) -> 0.001485 | X22: =X21+$AC$5 -> 144 | Y22: =IF($K$24>0,IF(X22<$K$21,$K$20*X22,IF(X22<$K$24,($K$22*X22)+$K$23,($K$25*X22)+$K$26)),IF(X22<$K$21,$K$20*X22,($K$22*X22)+$K$23)) -> 0.22248
J23: constante1 | K23: =VLOOKUP($J$2,Tableau_fin[],10,FALSE) -> 1.82 | X23: =X22+$AC$5 -> 153 | Y23: =IF($K$24>0,IF(X23<$K$21,$K$20*X23,IF(X23<$K$24,($K$22*X23)+$K$23,($K$25*X23)+$K$26)),IF(X23<$K$21,$K$20*X23,($K$22*X23)+$K$23)) -> 0.236385
J24: intersection | K24: =VLOOKUP($J$2,Tableau_fin[],11,FALSE) -> 0 | X24: =X23+$AC$5 -> 162 | Y24: =IF($K$24>0,IF(X24<$K$21,$K$20*X24,IF(X24<$K$24,($K$22*X24)+$K$23,($K$25*X24)+$K$26)),IF(X24<$K$21,$K$20*X24,($K$22*X24)+$K$23)) -> 0.25029
J25: norme2 | K25: =VLOOKUP($J$2,Tableau_fin[],12,FALSE) -> 0 | X25: =X24+$AC$5 -> 171 | Y25: =IF($K$24>0,IF(X25<$K$21,$K$20*X25,IF(X25<$K$24,($K$22*X25)+$K$23,($K$25*X25)+$K$26)),IF(X25<$K$21,$K$20*X25,($K$22*X25)+$K$23)) -> 0.264195
J26: constante2 | K26: =VLOOKUP($J$2,Tableau_fin[],13,FALSE) -> 0 | X26: =X25+$AC$5 -> 180 | Y26: =IF($K$24>0,IF(X26<$K$21,$K$20*X26,IF(X26<$K$24,($K$22*X26)+$K$23,($K$25*X26)+$K$26)),IF(X26<$K$21,$K$20*X26,($K$22*X26)+$K$23)) -> 0.2781
X27: =X26+$AC$5 -> 189 | Y27: =IF($K$24>0,IF(X27<$K$21,$K$20*X27,IF(X27<$K$24,($K$22*X27)+$K$23,($K$25*X27)+$K$26)),IF(X27<$K$21,$K$20*X27,($K$22*X27)+$K$23)) -> 0.292005
X28: =X27+$AC$5 -> 198 | Y28: =IF($K$24>0,IF(X28<$K$21,$K$20*X28,IF(X28<$K$24,($K$22*X28)+$K$23,($K$25*X28)+$K$26)),IF(X28<$K$21,$K$20*X28,($K$22*X28)+$K$23)) -> 0.30591
X29: =X28+$AC$5 -> 207 | Y29: =IF($K$24>0,IF(X29<$K$21,$K$20*X29,IF(X29<$K$24,($K$22*X29)+$K$23,($K$25*X29)+$K$26)),IF(X29<$K$21,$K$20*X29,($K$22*X29)+$K$23)) -> 0.319815
X30: =X29+$AC$5 -> 216 | Y30: =IF($K$24>0,IF(X30<$K$21,$K$20*X30,IF(X30<$K$24,($K$22*X30)+$K$23,($K$25*X30)+$K$26)),IF(X30<$K$21,$K$20*X30,($K$22*X30)+$K$23)) -> 0.33372
X31: =X30+$AC$5 -> 225 | Y31: =IF($K$24>0,IF(X31<$K$21,$K$20*X31,IF(X31<$K$24,($K$22*X31)+$K$23,($K$25*X31)+$K$26)),IF(X31<$K$21,$K$20*X31,($K$22*X31)+$K$23)) -> 0.347625
X32: =X31+$AC$5 -> 234 | Y32: =IF($K$24>0,IF(X32<$K$21,$K$20*X32,IF(X32<$K$24,($K$22*X32)+$K$23,($K$25*X32)+$K$26)),IF(X32<$K$21,$K$20*X32,($K$22*X32)+$K$23)) -> 0.36153
X33: =X32+$AC$5 -> 243 | Y33: =IF($K$24>0,IF(X33<$K$21,$K$20*X33,IF(X33<$K$24,($K$22*X33)+$K$23,($K$25*X33)+$K$26)),IF(X33<$K$21,$K$20*X33,($K$22*X33)+$K$23)) -> 0.375435
X34: =X33+$AC$5 -> 252 | Y34: =IF($K$24>0,IF(X34<$K$21,$K$20*X34,IF(X34<$K$24,($K$22*X34)+$K$23,($K$25*X34)+$K$26)),IF(X34<$K$21,$K$20*X34,($K$22*X34)+$K$23)) -> 0.38934
X35: =X34+$AC$5 -> 261 | Y35: =IF($K$24>0,IF(X35<$K$21,$K$20*X35,IF(X35<$K$24,($K$22*X35)+$K$23,($K$25*X35)+$K$26)),IF(X35<$K$21,$K$20*X35,($K$22*X35)+$K$23)) -> 0.403245
X36: =X35+$AC$5 -> 270 | Y36: =IF($K$24>0,IF(X36<$K$21,$K$20*X36,IF(X36<$K$24,($K$22*X36)+$K$23,($K$25*X36)+$K$26)),IF(X36<$K$21,$K$20*X36,($K$22*X36)+$K$23)) -> 0.41715
X37: =X36+$AC$5 -> 279 | Y37: =IF($K$24>0,IF(X37<$K$21,$K$20*X37,IF(X37<$K$24,($K$22*X37)+$K$23,($K$25*X37)+$K$26)),IF(X37<$K$21,$K$20*X37,($K$22*X37)+$K$23)) -> 0.431055
X38: =X37+$AC$5 -> 288 | Y38: =IF($K$24>0,IF(X38<$K$21,$K$20*X38,IF(X38<$K$24,($K$22*X38)+$K$23,($K$25*X38)+$K$26)),IF(X38<$K$21,$K$20*X38,($K$22*X38)+$K$23)) -> 0.44496
... X506: =X505+$AC$5 -> 4500 | Y506: =IF($K$24>0,IF(X506<$K$21,$K$20*X506,IF(X506<$K$24,($K$22*X506)+$K$23,($K$25*X506)+$K$26)),IF(X506<$K$21,$K$20*X506,($K$22*X506)+$K$23)) -> 8.5025

Sheet 140.C0
J2: 140.C0 | K2: =VLOOKUP(J2,'Calcul financement'!B5:F100,2,FALSE) -> Technologie d'analyses biomédicales
J4: =MAX(IF(K24=0,IF(K21=0,1000,K21*4),K24*2),K9:K15) -> 3725 | K4: PES utilisées pour ajuster le graphique
J5: =IF($K$24>0,IF(J4<$K$21,$K$20*J4,IF(J4<$K$24,($K$22*J4)+$K$23,($K$25*J4)+$K$26)),IF(J4<$K$21,$K$20*J4,($K$22*J4)+$K$23)) -> 6.168775 | K5: =CONCATENATE("ÉTC seront financés par les ",J4," PES ","du programme ",LEFT(J2,6)) -> ÉTC seront financés par les 3725 PES du programme 140.C0 | X5: PES | Y5: ÉTC | AB5: Incrément PES | AC5: =ROUNDUP(J4/450,0) -> 9
X6: 0 | Y6: =IF($K$24>0,IF(X6<$K$21,$K$20*X6,IF(X6<$K$24,($K$22*X6)+$K$23,($K$25*X6)+$K$26)),IF(X6<$K$21,$K$20*X6,($K$22*X6)+$K$23)) -> 0
X7: =X6+$AC$5 -> 9 | Y7: =IF($K$24>0,IF(X7<$K$21,$K$20*X7,IF(X7<$K$24,($K$22*X7)+$K$23,($K$25*X7)+$K$26)),IF(X7<$K$21,$K$20*X7,($K$22*X7)+$K$23)) -> 0.013905
K8: PES | L8: ÉTC | M8: ÉTC/1000 PES | X8: =X7+$AC$5 -> 18 | Y8: =IF($K$24>0,IF(X8<$K$21,$K$20*X8,IF(X8<$K$24,($K$22*X8)+$K$23,($K$25*X8)+$K$26)),IF(X8<$K$21,$K$20*X8,($K$22*X8)+$K$23)) -> 0.02781
I9: A | J9: ='Points graphiques'!C4 -> 2016-2017 | K9: =_xlfn.IFNA(VLOOKUP($J$2,'Données PES'!$A$2:$AA$101,MATCH(J9,'Données PES'!$2:$2),FALSE),0) -> 3725 | L9: =IF(K9>0,IF($K$24>0,IF(K9<$K$21,$K$20*K9,IF(K9<$K$24,($K$22*K9)+$K$23,($K$25*K9)+$K$26)),IF(K9<$K$21,$K$20*K9,($K$22*K9)+$K$23)),"") -> 6.168775 | M9: =IF(K9>0,L9/K9*1000,"") -> 1.656047 | X9: =X8+$AC$5 -> 27 | Y9: =IF($K$24>0,IF(X9<$K$21,$K$20*X9,IF(X9<$K$24,($K$22*X9)+$K$23,($K$25*X9)+$K$26)),IF(X9<$K$21,$K$20*X9,($K$22*X9)+$K$23)) -> 0.041715
I10: B | J10: ='Points graphiques'!C5 -> 2017-2018 | K10: =_xlfn.IFNA(VLOOKUP($J$2,'Données PES'!$A$2:$AA$101,MATCH(J10,'Données PES'!$2:$2),FALSE),0) -> 3419 | L10: =IF(K10>0,IF($K$24>0,IF(K10<$K$21,$K$20*K10,IF(K10<$K$24,($K$22*K10)+$K$23,($K$25*K10)+$K$26)),IF(K10<$K$21,$K$20*K10,($K$22*K10)+$K$23)),"") -> 5.771281 | M10: =IF(K10>0,L10/K10*1000,"") -> 1.6880026 | X10: =X9+$AC$5 -> 36 | Y10: =IF($K$24>0,IF(X10<$K$21,$K$20*X10,IF(X10<$K$24,($K$22*X10)+$K$23,($K$25*X10)+$K$26)),IF(X10<$K$21,$K$20*X10,($K$22*X10)+$K$23)) -> 0.05562
I11: C | J11: ='Points graphiques'!C6 -> 2018-2019 | K11: =_xlfn.IFNA(VLOOKUP($J$2,'Données PES'!$A$2:$AA$101,MATCH(J11,'Données PES'!$2:$2),FALSE),0) -> 3346 | L11: =IF(K11>0,IF($K$24>0,IF(K11<$K$21,$K$20*K11,IF(K11<$K$24,($K$22*K11)+$K$23,($K$25*K11)+$K$26)),IF(K11<$K$21,$K$20*K11,($K$22*K11)+$K$23)),"") -> 5.676454 | M11: =IF(K11>0,L11/K11*1000,"") -> 1.6964895 | X11: =X10+$AC$5 -> 45 | Y11: =IF($K$24>0,IF(X11<$K$21,$K$20*X11,IF(X11<$K$24,($K$22*X11)+$K$23,($K$25*X11)+$K$26)),IF(X11<$K$21,$K$20*X11,($K$22*X11)+$K$23)) -> 0.069525
I12: D | J12: ='Points graphiques'!C7 -> 2019-2020 | K12: =_xlfn.IFNA(VLOOKUP($J$2,'Données PES'!$A$2:$AA$101,MATCH(J12,'Données PES'!$2:$2),FALSE),0) -> 2699 | L12: =IF(K12>0,IF($K$24>0,IF(K12<$K$21,$K$20*K12,IF(K12<$K$24,($K$22*K12)+$K$23,($K$25*K12)+$K$26)),IF(K12<$K$21,$K$20*K12,($K$22*K12)+$K$23)),"") -> 4.836001 | M12: =IF(K12>0,L12/K12*1000,"") -> 1.7917751 | X12: =X11+$AC$5 -> 54 | Y12: =IF($K$24>0,IF(X12<$K$21,$K$20*X12,IF(X12<$K$24,($K$22*X12)+$K$23,($K$25*X12)+$K$26)),IF(X12<$K$21,$K$20*X12,($K$22*X12)+$K$23)) -> 0.08343
I13: E | J13: Manuel | L13: =IF(K13>0,IF($K$24>0,IF(K13<$K$21,$K$20*K13,IF(K13<$K$24,($K$22*K13)+$K$23,($K$25*K13)+$K$26)),IF(K13<$K$21,$K$20*K13,($K$22*K13)+$K$23)),"") | M13: =IF(K13>0,L13/K13*1000,"") | X13: =X12+$AC$5 -> 63 | Y13: =IF($K$24>0,IF(X13<$K$21,$K$20*X13,IF(X13<$K$24,($K$22*X13)+$K$23,($K$25*X13)+$K$26)),IF(X13<$K$21,$K$20*X13,($K$22*X13)+$K$23)) -> 0.097335
I14: F | J14: Manuel | L14: =IF(K14>0,IF($K$24>0,IF(K14<$K$21,$K$20*K14,IF(K14<$K$24,($K$22*K14)+$K$23,($K$25*K14)+$K$26)),IF(K14<$K$21,$K$20*K14,($K$22*K14)+$K$23)),"") | M14: =IF(K14>0,L14/K14*1000,"") | X14: =X13+$AC$5 -> 72 | Y14: =IF($K$24>0,IF(X14<$K$21,$K$20*X14,IF(X14<$K$24,($K$22*X14)+$K$23,($K$25*X14)+$K$26)),IF(X14<$K$21,$K$20*X14,($K$22*X14)+$K$23)) -> 0.11124
I15: G | J15: Manuel | L15: =IF(K15>0,IF($K$24>0,IF(K15<$K$21,$K$20*K15,IF(K15<$K$24,($K$22*K15)+$K$23,($K$25*K15)+$K$26)),IF(K15<$K$21,$K$20*K15,($K$22*K15)+$K$23)),"") | M15: =IF(K15>0,L15/K15*1000,"") | X15: =X14+$AC$5 -> 81 | Y15: =IF($K$24>0,IF(X15<$K$21,$K$20*X15,IF(X15<$K$24,($K$22*X15)+$K$23,($K$25*X15)+$K$26)),IF(X15<$K$21,$K$20*X15,($K$22*X15)+$K$23)) -> 0.125145
X16: =X15+$AC$5 -> 90 | Y16: =IF($K$24>0,IF(X16<$K$21,$K$20*X16,IF(X16<$K$24,($K$22*X16)+$K$23,($K$25*X16)+$K$26)),IF(X16<$K$21,$K$20*X16,($K$22*X16)+$K$23)) -> 0.13905
J17: Cliquez ici pour modifier les points affichées sur graphique. | X17: =X16+$AC$5 -> 99 | Y17: =IF($K$24>0,IF(X17<$K$21,$K$20*X17,IF(X17<$K$24,($K$22*X17)+$K$23,($K$25*X17)+$K$26)),IF(X17<$K$21,$K$20*X17,($K$22*X17)+$K$23)) -> 0.152955
X18: =X17+$AC$5 -> 108 | Y18: =IF($K$24>0,IF(X18<$K$21,$K$20*X18,IF(X18<$K$24,($K$22*X18)+$K$23,($K$25*X18)+$K$26)),IF(X18<$K$21,$K$20*X18,($K$22*X18)+$K$23)) -> 0.16686
X19: =X18+$AC$5 -> 117 | Y19: =IF($K$24>0,IF(X19<$K$21,$K$20*X19,IF(X19<$K$24,($K$22*X19)+$K$23,($K$25*X19)+$K$26)),IF(X19<$K$21,$K$20*X19,($K$22*X19)+$K$23)) -> 0.180765
J20: norme0 | K20: =VLOOKUP($J$2,Tableau_fin[],7,FALSE) -> 0.001545 | X20: =X19+$AC$5 -> 126 | Y20: =IF($K$24>0,IF(X20<$K$21,$K$20*X20,IF(X20<$K$24,($K$22*X20)+$K$23,($K$25*X20)+$K$26)),IF(X20<$K$21,$K$20*X20,($K$22*X20)+$K$23)) -> 0.19467
J21: pesmin | K21: =VLOOKUP($J$2,Tableau_fin[],8,FALSE) -> 870 | X21: =X20+$AC$5 -> 135 | Y21: =IF($K$24>0,IF(X21<$K$21,$K$20*X21,IF(X21<$K$24,($K$22*X21)+$K$23,($K$25*X21)+$K$26)),IF(X21<$K$21,$K$20*X21,($K$22*X21)+$K$23)) -> 0.208575
J22: norme1 | K22: =VLOOKUP($J$2,Tableau_fin[],9,FALSE) -> 0.001299 | X22: =X21+$AC$5 -> 144 | Y22: =IF($K$24>0,IF(X22<$K$21,$K$20*X22,IF(X22<$K$24,($K$22*X22)+$K$23,($K$25*X22)+$K$26)),IF(X22<$K$21,$K$20*X22,($K$22*X22)+$K$23)) -> 0.22248
J23: constante1 | K23: =VLOOKUP($J$2,Tableau_fin[],10,FALSE) -> 1.33 | X23: =X22+$AC$5 -> 153 | Y23: =IF($K$24>0,IF(X23<$K$21,$K$20*X23,IF(X23<$K$24,($K$22*X23)+$K$23,($K$25*X23)+$K$26)),IF(X23<$K$21,$K$20*X23,($K$22*X23)+$K$23)) -> 0.236385
J24: intersection | K24: =VLOOKUP($J$2,Tableau_fin[],11,FALSE) -> 0 | X24: =X23+$AC$5 -> 162 | Y24: =IF($K$24>0,IF(X24<$K$21,$K$20*X24,IF(X24<$K$24,($K$22*X24)+$K$23,($K$25*X24)+$K$26)),IF(X24<$K$21,$K$20*X24,($K$22*X24)+$K$23)) -> 0.25029
J25: norme2 | K25: =VLOOKUP($J$2,Tableau_fin[],12,FALSE) -> 0 | X25: =X24+$AC$5 -> 171 | Y25: =IF($K$24>0,IF(X25<$K$21,$K$20*X25,IF(X25<$K$24,($K$22*X25)+$K$23,($K$25*X25)+$K$26)),IF(X25<$K$21,$K$20*X25,($K$22*X25)+$K$23)) -> 0.264195
J26: constante2 | K26: =VLOOKUP($J$2,Tableau_fin[],13,FALSE) -> 0 | X26: =X25+$AC$5 -> 180 | Y26: =IF($K$24>0,IF(X26<$K$21,$K$20*X26,IF(X26<$K$24,($K$22*X26)+$K$23,($K$25*X26)+$K$26)),IF(X26<$K$21,$K$20*X26,($K$22*X26)+$K$23)) -> 0.2781
X27: =X26+$AC$5 -> 189 | Y27: =IF($K$24>0,IF(X27<$K$21,$K$20*X27,IF(X27<$K$24,($K$22*X27)+$K$23,($K$25*X27)+$K$26)),IF(X27<$K$21,$K$20*X27,($K$22*X27)+$K$23)) -> 0.292005
X28: =X27+$AC$5 -> 198 | Y28: =IF($K$24>0,IF(X28<$K$21,$K$20*X28,IF(X28<$K$24,($K$22*X28)+$K$23,($K$25*X28)+$K$26)),IF(X28<$K$21,$K$20*X28,($K$22*X28)+$K$23)) -> 0.30591
X29: =X28+$AC$5 -> 207 | Y29: =IF($K$24>0,IF(X29<$K$21,$K$20*X29,IF(X29<$K$24,($K$22*X29)+$K$23,($K$25*X29)+$K$26)),IF(X29<$K$21,$K$20*X29,($K$22*X29)+$K$23)) -> 0.319815
X30: =X29+$AC$5 -> 216 | Y30: =IF($K$24>0,IF(X30<$K$21,$K$20*X30,IF(X30<$K$24,($K$22*X30)+$K$23,($K$25*X30)+$K$26)),IF(X30<$K$21,$K$20*X30,($K$22*X30)+$K$23)) -> 0.33372
X31: =X30+$AC$5 -> 225 | Y31: =IF($K$24>0,IF(X31<$K$21,$K$20*X31,IF(X31<$K$24,($K$22*X31)+$K$23,($K$25*X31)+$K$26)),IF(X31<$K$21,$K$20*X31,($K$22*X31)+$K$23)) -> 0.347625
X32: =X31+$AC$5 -> 234 | Y32: =IF($K$24>0,IF(X32<$K$21,$K$20*X32,IF(X32<$K$24,($K$22*X32)+$K$23,($K$25*X32)+$K$26)),IF(X32<$K$21,$K$20*X32,($K$22*X32)+$K$23)) -> 0.36153
X33: =X32+$AC$5 -> 243 | Y33: =IF($K$24>0,IF(X33<$K$21,$K$20*X33,IF(X33<$K$24,($K$22*X33)+$K$23,($K$25*X33)+$K$26)),IF(X33<$K$21,$K$20*X33,($K$22*X33)+$K$23)) -> 0.375435
X34: =X33+$AC$5 -> 252 | Y34: =IF($K$24>0,IF(X34<$K$21,$K$20*X34,IF(X34<$K$24,($K$22*X34)+$K$23,($K$25*X34)+$K$26)),IF(X34<$K$21,$K$20*X34,($K$22*X34)+$K$23)) -> 0.38934
X35: =X34+$AC$5 -> 261 | Y35: =IF($K$24>0,IF(X35<$K$21,$K$20*X35,IF(X35<$K$24,($K$22*X35)+$K$23,($K$25*X35)+$K$26)),IF(X35<$K$21,$K$20*X35,($K$22*X35)+$K$23)) -> 0.403245
X36: =X35+$AC$5 -> 270 | Y36: =IF($K$24>0,IF(X36<$K$21,$K$20*X36,IF(X36<$K$24,($K$22*X36)+$K$23,($K$25*X36)+$K$26)),IF(X36<$K$21,$K$20*X36,($K$22*X36)+$K$23)) -> 0.41715
X37: =X36+$AC$5 -> 279 | Y37: =IF($K$24>0,IF(X37<$K$21,$K$20*X37,IF(X37<$K$24,($K$22*X37)+$K$23,($K$25*X37)+$K$26)),IF(X37<$K$21,$K$20*X37,($K$22*X37)+$K$23)) -> 0.431055
X38: =X37+$AC$5 -> 288 | Y38: =IF($K$24>0,IF(X38<$K$21,$K$20*X38,IF(X38<$K$24,($K$22*X38)+$K$23,($K$25*X38)+$K$26)),IF(X38<$K$21,$K$20*X38,($K$22*X38)+$K$23)) -> 0.44496
... X506: =X505+$AC$5 -> 4500 | Y506: =IF($K$24>0,IF(X506<$K$21,$K$20*X506,IF(X506<$K$24,($K$22*X506)+$K$23,($K$25*X506)+$K$26)),IF(X506<$K$21,$K$20*X506,($K$22*X506)+$K$23)) -> 7.1755

Sheet 141.A0
J2: 141.A0 | K2: =VLOOKUP(J2,'Calcul financement'!B5:F100,2,FALSE) -> Techniques d'inhalothérapie
J4: =MAX(IF(K24=0,IF(K21=0,1000,K21*4),K24*2),K9:K15) -> 6680 | K4: PES utilisées pour ajuster le graphique
J5: =IF($K$24>0,IF(J4<$K$21,$K$20*J4,IF(J4<$K$24,($K$22*J4)+$K$23,($K$25*J4)+$K$26)),IF(J4<$K$21,$K$20*J4,($K$22*J4)+$K$23)) -> 11.28084 | K5: =CONCATENATE("ÉTC seront financés par les ",J4," PES ","du programme ",LEFT(J2,6)) -> ÉTC seront financés par les 6680 PES du programme 141.A0 | X5: PES | Y5: ÉTC | AB5: Incrément PES | AC5: =ROUNDUP(J4/450,0) -> 15
X6: 0 | Y6: =IF($K$24>0,IF(X6<$K$21,$K$20*X6,IF(X6<$K$24,($K$22*X6)+$K$23,($K$25*X6)+$K$26)),IF(X6<$K$21,$K$20*X6,($K$22*X6)+$K$23)) -> 0
X7: =X6+$AC$5 -> 15 | Y7: =IF($K$24>0,IF(X7<$K$21,$K$20*X7,IF(X7<$K$24,($K$22*X7)+$K$23,($K$25*X7)+$K$26)),IF(X7<$K$21,$K$20*X7,($K$22*X7)+$K$23)) -> 0.023175
K8: PES | L8: ÉTC | M8: ÉTC/1000 PES | X8: =X7+$AC$5 -> 30 | Y8: =IF($K$24>0,IF(X8<$K$21,$K$20*X8,IF(X8<$K$24,($K$22*X8)+$K$23,($K$25*X8)+$K$26)),IF(X8<$K$21,$K$20*X8,($K$22*X8)+$K$23)) -> 0.04635
I9: A | J9: ='Points graphiques'!C4 -> 2016-2017 | K9: =_xlfn.IFNA(VLOOKUP($J$2,'Données PES'!$A$2:$AA$101,MATCH(J9,'Données PES'!$2:$2),FALSE),0) -> 2082 | L9: =IF(K9>0,IF($K$24>0,IF(K9<$K$21,$K$20*K9,IF(K9<$K$24,($K$22*K9)+$K$23,($K$25*K9)+$K$26)),IF(K9<$K$21,$K$20*K9,($K$22*K9)+$K$23)),"") -> 4.094166 | M9: =IF(K9>0,L9/K9*1000,"") -> 1.9664582 | X9: =X8+$AC$5 -> 45 | Y9: =IF($K$24>0,IF(X9<$K$21,$K$20*X9,IF(X9<$K$24,($K$22*X9)+$K$23,($K$25*X9)+$K$26)),IF(X9<$K$21,$K$20*X9,($K$22*X9)+$K$23)) -> 0.069525
I10: B | J10: ='Points graphiques'!C5 -> 2017-2018 | K10: =_xlfn.IFNA(VLOOKUP($J$2,'Données PES'!$A$2:$AA$101,MATCH(J10,'Données PES'!$2:$2),FALSE),0) -> 2329 | L10: =IF(K10>0,IF($K$24>0,IF(K10<$K$21,$K$20*K10,IF(K10<$K$24,($K$22*K10)+$K$23,($K$25*K10)+$K$26)),IF(K10<$K$21,$K$20*K10,($K$22*K10)+$K$23)),"") -> 4.480227 | M10: =IF(K10>0,L10/K10*1000,"") -> 1.9236698 | X10: =X9+$AC$5 -> 60 | Y10: =IF($K$24>0,IF(X10<$K$21,$K$20*X10,IF(X10<$K$24,($K$22*X10)+$K$23,($K$25*X10)+$K$26)),IF(X10<$K$21,$K$20*X10,($K$22*X10)+$K$23)) -> 0.0927
I11: C | J11: ='Points graphiques'!C6 -> 2018-2019 | K11: =_xlfn.IFNA(VLOOKUP($J$2,'Données PES'!$A$2:$AA$101,MATCH(J11,'Données PES'!$2:$2),FALSE),0) -> 2087 | L11: =IF(K11>0,IF($K$24>0,IF(K11<$K$21,$K$20*K11,IF(K11<$K$24,($K$22*K11)+$K$23,($K$25*K11)+$K$26)),IF(K11<$K$21,$K$20*K11,($K$22*K11)+$K$23)),"") -> 4.101981 | M11: =IF(K11>0,L11/K11*1000,"") -> 1.9654916 | X11: =X10+$AC$5 -> 75 | Y11: =IF($K$24>0,IF(X11<$K$21,$K$20*X11,IF(X11<$K$24,($K$22*X11)+$K$23,($K$25*X11)+$K$26)),IF(X11<$K$21,$K$20*X11,($K$22*X11)+$K$23)) -> 0.115875
I12: D | J12: ='Points graphiques'!C7 -> 2019-2020 | K12: =_xlfn.IFNA(VLOOKUP($J$2,'Données PES'!$A$2:$AA$101,MATCH(J12,'Données PES'!$2:$2),FALSE),0) -> 1553 | L12: =IF(K12>0,IF($K$24>0,IF(K12<$K$21,$K$20*K12,IF(K12<$K$24,($K$22*K12)+$K$23,($K$25*K12)+$K$26)),IF(K12<$K$21,$K$20*K12,($K$22*K12)+$K$23)),"") -> 2.399385 | M12: =IF(K12>0,L12/K12*1000,"") -> 1.545 | X12: =X11+$AC$5 -> 90 | Y12: =IF($K$24>0,IF(X12<$K$21,$K$20*X12,IF(X12<$K$24,($K$22*X12)+$K$23,($K$25*X12)+$K$26)),IF(X12<$K$21,$K$20*X12,($K$22*X12)+$K$23)) -> 0.13905
I13: E | J13: Manuel | L13: =IF(K13>0,IF($K$24>0,IF(K13<$K$21,$K$20*K13,IF(K13<$K$24,($K$22*K13)+$K$23,($K$25*K13)+$K$26)),IF(K13<$K$21,$K$20*K13,($K$22*K13)+$K$23)),"") | M13: =IF(K13>0,L13/K13*1000,"") | X13: =X12+$AC$5 -> 105 | Y13: =IF($K$24>0,IF(X13<$K$21,$K$20*X13,IF(X13<$K$24,($K$22*X13)+$K$23,($K$25*X13)+$K$26)),IF(X13<$K$21,$K$20*X13,($K$22*X13)+$K$23)) -> 0.162225
I14: F | J14: Manuel | L14: =IF(K14>0,IF($K$24>0,IF(K14<$K$21,$K$20*K14,IF(K14<$K$24,($K$22*K14)+$K$23,($K$25*K14)+$K$26)),IF(K14<$K$21,$K$20*K14,($K$22*K14)+$K$23)),"") | M14: =IF(K14>0,L14/K14*1000,"") | X14: =X13+$AC$5 -> 120 | Y14: =IF($K$24>0,IF(X14<$K$21,$K$20*X14,IF(X14<$K$24,($K$22*X14)+$K$23,($K$25*X14)+$K$26)),IF(X14<$K$21,$K$20*X14,($K$22*X14)+$K$23)) -> 0.1854
I15: G | J15: Manuel | L15: =IF(K15>0,IF($K$24>0,IF(K15<$K$21,$K$20*K15,IF(K15<$K$24,($K$22*K15)+$K$23,($K$25*K15)+$K$26)),IF(K15<$K$21,$K$20*K15,($K$22*K15)+$K$23)),"") | M15: =IF(K15>0,L15/K15*1000,"") | X15: =X14+$AC$5 -> 135 | Y15: =IF($K$24>0,IF(X15<$K$21,$K$20*X15,IF(X15<$K$24,($K$22*X15)+$K$23,($K$25*X15)+$K$26)),IF(X15<$K$21,$K$20*X15,($K$22*X15)+$K$23)) -> 0.208575
X16: =X15+$AC$5 -> 150 | Y16: =IF($K$24>0,IF(X16<$K$21,$K$20*X16,IF(X16<$K$24,($K$22*X16)+$K$23,($K$25*X16)+$K$26)),IF(X16<$K$21,$K$20*X16,($K$22*X16)+$K$23)) -> 0.23175
J17: Cliquez ici pour modifier les points affichées sur graphique. | X17: =X16+$AC$5 -> 165 | Y17: =IF($K$24>0,IF(X17<$K$21,$K$20*X17,IF(X17<$K$24,($K$22*X17)+$K$23,($K$25*X17)+$K$26)),IF(X17<$K$21,$K$20*X17,($K$22*X17)+$K$23)) -> 0.254925
X18: =X17+$AC$5 -> 180 | Y18: =IF($K$24>0,IF(X18<$K$21,$K$20*X18,IF(X18<$K$24,($K$22*X18)+$K$23,($K$25*X18)+$K$26)),IF(X18<$K$21,$K$20*X18,($K$22*X18)+$K$23)) -> 0.2781
X19: =X18+$AC$5 -> 195 | Y19: =IF($K$24>0,IF(X19<$K$21,$K$20*X19,IF(X19<$K$24,($K$22*X19)+$K$23,($K$25*X19)+$K$26)),IF(X19<$K$21,$K$20*X19,($K$22*X19)+$K$23)) -> 0.301275
J20: norme0 | K20: =VLOOKUP($J$2,Tableau_fin[],7,FALSE) -> 0.001545 | X20: =X19+$AC$5 -> 210 | Y20: =IF($K$24>0,IF(X20<$K$21,$K$20*X20,IF(X20<$K$24,($K$22*X20)+$K$23,($K$25*X20)+$K$26)),IF(X20<$K$21,$K$20*X20,($K$22*X20)+$K$23)) -> 0.32445
J21: pesmin | K21: =VLOOKUP($J$2,Tableau_fin[],8,FALSE) -> 1670 | X21: =X20+$AC$5 -> 225 | Y21: =IF($K$24>0,IF(X21<$K$21,$K$20*X21,IF(X21<$K$24,($K$22*X21)+$K$23,($K$25*X21)+$K$26)),IF(X21<$K$21,$K$20*X21,($K$22*X21)+$K$23)) -> 0.347625
J22: norme1 | K22: =VLOOKUP($J$2,Tableau_fin[],9,FALSE) -> 0.001563 | X22: =X21+$AC$5 -> 240 | Y22: =IF($K$24>0,IF(X22<$K$21,$K$20*X22,IF(X22<$K$24,($K$22*X22)+$K$23,($K$25*X22)+$K$26)),IF(X22<$K$21,$K$20*X22,($K$22*X22)+$K$23)) -> 0.3708
J23: constante1 | K23: =VLOOKUP($J$2,Tableau_fin[],10,FALSE) -> 0.84 | X23: =X22+$AC$5 -> 255 | Y23: =IF($K$24>0,IF(X23<$K$21,$K$20*X23,IF(X23<$K$24,($K$22*X23)+$K$23,($K$25*X23)+$K$26)),IF(X23<$K$21,$K$20*X23,($K$22*X23)+$K$23)) -> 0.393975
J24: intersection | K24: =VLOOKUP($J$2,Tableau_fin[],11,FALSE) -> 0 | X24: =X23+$AC$5 -> 270 | Y24: =IF($K$24>0,IF(X24<$K$21,$K$20*X24,IF(X24<$K$24,($K$22*X24)+$K$23,($K$25*X24)+$K$26)),IF(X24<$K$21,$K$20*X24,($K$22*X24)+$K$23)) -> 0.41715
J25: norme2 | K25: =VLOOKUP($J$2,Tableau_fin[],12,FALSE) -> 0 | X25: =X24+$AC$5 -> 285 | Y25: =IF($K$24>0,IF(X25<$K$21,$K$20*X25,IF(X25<$K$24,($K$22*X25)+$K$23,($K$25*X25)+$K$26)),IF(X25<$K$21,$K$20*X25,($K$22*X25)+$K$23)) -> 0.440325
J26: constante2 | K26: =VLOOKUP($J$2,Tableau_fin[],13,FALSE) -> 0 | X26: =X25+$AC$5 -> 300 | Y26: =IF($K$24>0,IF(X26<$K$21,$K$20*X26,IF(X26<$K$24,($K$22*X26)+$K$23,($K$25*X26)+$K$26)),IF(X26<$K$21,$K$20*X26,($K$22*X26)+$K$23)) -> 0.4635
X27: =X26+$AC$5 -> 315 | Y27: =IF($K$24>0,IF(X27<$K$21,$K$20*X27,IF(X27<$K$24,($K$22*X27)+$K$23,($K$25*X27)+$K$26)),IF(X27<$K$21,$K$20*X27,($K$22*X27)+$K$23)) -> 0.486675
X28: =X27+$AC$5 -> 330 | Y28: =IF($K$24>0,IF(X28<$K$21,$K$20*X28,IF(X28<$K$24,($K$22*X28)+$K$23,($K$25*X28)+$K$26)),IF(X28<$K$21,$K$20*X28,($K$22*X28)+$K$23)) -> 0.50985
X29: =X28+$AC$5 -> 345 | Y29: =IF($K$24>0,IF(X29<$K$21,$K$20*X29,IF(X29<$K$24,($K$22*X29)+$K$23,($K$25*X29)+$K$26)),IF(X29<$K$21,$K$20*X29,($K$22*X29)+$K$23)) -> 0.533025
X30: =X29+$AC$5 -> 360 | Y30: =IF($K$24>0,IF(X30<$K$21,$K$20*X30,IF(X30<$K$24,($K$22*X30)+$K$23,($K$25*X30)+$K$26)),IF(X30<$K$21,$K$20*X30,($K$22*X30)+$K$23)) -> 0.5562
X31: =X30+$AC$5 -> 375 | Y31: =IF($K$24>0,IF(X31<$K$21,$K$20*X31,IF(X31<$K$24,($K$22*X31)+$K$23,($K$25*X31)+$K$26)),IF(X31<$K$21,$K$20*X31,($K$22*X31)+$K$23)) -> 0.579375
X32: =X31+$AC$5 -> 390 | Y32: =IF($K$24>0,IF(X32<$K$21,$K$20*X32,IF(X32<$K$24,($K$22*X32)+$K$23,($K$25*X32)+$K$26)),IF(X32<$K$21,$K$20*X32,($K$22*X32)+$K$23)) -> 0.60255
X33: =X32+$AC$5 -> 405 | Y33: =IF($K$24>0,IF(X33<$K$21,$K$20*X33,IF(X33<$K$24,($K$22*X33)+$K$23,($K$25*X33)+$K$26)),IF(X33<$K$21,$K$20*X33,($K$22*X33)+$K$23)) -> 0.625725
X34: =X33+$AC$5 -> 420 | Y34: =IF($K$24>0,IF(X34<$K$21,$K$20*X34,IF(X34<$K$24,($K$22*X34)+$K$23,($K$25*X34)+$K$26)),IF(X34<$K$21,$K$20*X34,($K$22*X34)+$K$23)) -> 0.6489
X35: =X34+$AC$5 -> 435 | Y35: =IF($K$24>0,IF(X35<$K$21,$K$20*X35,IF(X35<$K$24,($K$22*X35)+$K$23,($K$25*X35)+$K$26)),IF(X35<$K$21,$K$20*X35,($K$22*X35)+$K$23)) -> 0.672075
X36: =X35+$AC$5 -> 450 | Y36: =IF($K$24>0,IF(X36<$K$21,$K$20*X36,IF(X36<$K$24,($K$22*X36)+$K$23,($K$25*X36)+$K$26)),IF(X36<$K$21,$K$20*X36,($K$22*X36)+$K$23)) -> 0.69525
X37: =X36+$AC$5 -> 465 | Y37: =IF($K$24>0,IF(X37<$K$21,$K$20*X37,IF(X37<$K$24,($K$22*X37)+$K$23,($K$25*X37)+$K$26)),IF(X37<$K$21,$K$20*X37,($K$22*X37)+$K$23)) -> 0.718425
X38: =X37+$AC$5 -> 480 | Y38: =IF($K$24>0,IF(X38<$K$21,$K$20*X38,IF(X38<$K$24,($K$22*X38)+$K$23,($K$25*X38)+$K$26)),IF(X38<$K$21,$K$20*X38,($K$22*X38)+$K$23)) -> 0.7416
... X506: =X505+$AC$5 -> 7500 | Y506: =IF($K$24>0,IF(X506<$K$21,$K$20*X506,IF(X506<$K$24,($K$22*X506)+$K$23,($K$25*X506)+$K$26)),IF(X506<$K$21,$K$20*X506,($K$22*X506)+$K$23)) -> 12.5625

Sheet 180.A0
J2: 180.A0 | K2: =VLOOKUP(J2,'Calcul financement'!B5:F100,2,FALSE) -> Soins infirmiers
J4: =MAX(IF(K24=0,IF(K21=0,1000,K21*4),K24*2),K9:K15) -> 12074 | K4: PES utilisées pour ajuster le graphique
J5: =IF($K$24>0,IF(J4<$K$21,$K$20*J4,IF(J4<$K$24,($K$22*J4)+$K$23,($K$25*J4)+$K$26)),IF(J4<$K$21,$K$20*J4,($K$22*J4)+$K$23)) -> 33.542692 | K5: =CONCATENATE("ÉTC seront financés par les ",J4," PES ","du programme ",LEFT(J2,6)) -> ÉTC seront financés par les 12074 PES du programme 180.A0 | X5: PES | Y5: ÉTC | AB5: Incrément PES | AC5: =ROUNDUP(J4/450,0) -> 27
X6: 0 | Y6: =IF($K$24>0,IF(X6<$K$21,$K$20*X6,IF(X6<$K$24,($K$22*X6)+$K$23,($K$25*X6)+$K$26)),IF(X6<$K$21,$K$20*X6,($K$22*X6)+$K$23)) -> 0
X7: =X6+$AC$5 -> 27 | Y7: =IF($K$24>0,IF(X7<$K$21,$K$20*X7,IF(X7<$K$24,($K$22*X7)+$K$23,($K$25*X7)+$K$26)),IF(X7<$K$21,$K$20*X7,($K$22*X7)+$K$23)) -> 0.041715
K8: PES | L8: ÉTC | M8: ÉTC/1000 PES | X8: =X7+$AC$5 -> 54 | Y8: =IF($K$24>0,IF(X8<$K$21,$K$20*X8,IF(X8<$K$24,($K$22*X8)+$K$23,($K$25*X8)+$K$26)),IF(X8<$K$21,$K$20*X8,($K$22*X8)+$K$23)) -> 0.08343
I9: A | J9: ='Points graphiques'!C4 -> 2016-2017 | K9: =_xlfn.IFNA(VLOOKUP($J$2,'Données PES'!$A$2:$AA$101,MATCH(J9,'Données PES'!$2:$2),FALSE),0) -> 9557 | L9: =IF(K9>0,IF($K$24>0,IF(K9<$K$21,$K$20*K9,IF(K9<$K$24,($K$22*K9)+$K$23,($K$25*K9)+$K$26)),IF(K9<$K$21,$K$20*K9,($K$22*K9)+$K$23)),"") -> 26.852506 | M9: =IF(K9>0,L9/K9*1000,"") -> 2.8097213 | X9: =X8+$AC$5 -> 81 | Y9: =IF($K$24>0,IF(X9<$K$21,$K$20*X9,IF(X9<$K$24,($K$22*X9)+$K$23,($K$25*X9)+$K$26)),IF(X9<$K$21,$K$20*X9,($K$22*X9)+$K$23)) -> 0.125145
I10: B | J10: ='Points graphiques'!C5 -> 2017-2018 | K10: =_xlfn.IFNA(VLOOKUP($J$2,'Données PES'!$A$2:$AA$101,MATCH(J10,'Données PES'!$2:$2),FALSE),0) -> 9572 | L10: =IF(K10>0,IF($K$24>0,IF(K10<$K$21,$K$20*K10,IF(K10<$K$24,($K$22*K10)+$K$23,($K$25*K10)+$K$26)),IF(K10<$K$21,$K$20*K10,($K$22*K10)+$K$23)),"") -> 26.892376 | M10: =IF(K10>0,L10/K10*1000,"") -> 2.8094835 | X10: =X9+$AC$5 -> 108 | Y10: =IF($K$24>0,IF(X10<$K$21,$K$20*X10,IF(X10<$K$24,($K$22*X10)+$K$23,($K$25*X10)+$K$26)),IF(X10<$K$21,$K$20*X10,($K$22*X10)+$K$23)) -> 0.16686
I11: C | J11: ='Points graphiques'!C6 -> 2018-2019 | K11: =_xlfn.IFNA(VLOOKUP($J$2,'Données PES'!$A$2:$AA$101,MATCH(J11,'Données PES'!$2:$2),FALSE),0) -> 12074 | L11: =IF(K11>0,IF($K$24>0,IF(K11<$K$21,$K$20*K11,IF(K11<$K$24,($K$22*K11)+$K$23,($K$25*K11)+$K$26)),IF(K11<$K$21,$K$20*K11,($K$22*K11)+$K$23)),"") -> 33.542692 | M11: =IF(K11>0,L11/K11*1000,"") -> 2.7780928 | X11: =X10+$AC$5 -> 135 | Y11: =IF($K$24>0,IF(X11<$K$21,$K$20*X11,IF(X11<$K$24,($K$22*X11)+$K$23,($K$25*X11)+$K$26)),IF(X11<$K$21,$K$20*X11,($K$22*X11)+$K$23)) -> 0.208575
I12: D | J12: ='Points graphiques'!C7 -> 2019-2020 | K12: =_xlfn.IFNA(VLOOKUP($J$2,'Données PES'!$A$2:$AA$101,MATCH(J12,'Données PES'!$2:$2),FALSE),0) -> 10336 | L12: =IF(K12>0,IF($K$24>0,IF(K12<$K$21,$K$20*K12,IF(K12<$K$24,($K$22*K12)+$K$23,($K$25*K12)+$K$26)),IF(K12<$K$21,$K$20*K12,($K$22*K12)+$K$23)),"") -> 28.923088 | M12: =IF(K12>0,L12/K12*1000,"") -> 2.7982864 | X12: =X11+$AC$5 -> 162 | Y12: =IF($K$24>0,IF(X12<$K$21,$K$20*X12,IF(X12<$K$24,($K$22*X12)+$K$23,($K$25*X12)+$K$26)),IF(X12<$K$21,$K$20*X12,($K$22*X12)+$K$23)) -> 0.25029
I13: E | J13: Manuel | L13: =IF(K13>0,IF($K$24>0,IF(K13<$K$21,$K$20*K13,IF(K13<$K$24,($K$22*K13)+$K$23,($K$25*K13)+$K$26)),IF(K13<$K$21,$K$20*K13,($K$22*K13)+$K$23)),"") | M13: =IF(K13>0,L13/K13*1000,"") | X13: =X12+$AC$5 -> 189 | Y13: =IF($K$24>0,IF(X13<$K$21,$K$20*X13,IF(X13<$K$24,($K$22*X13)+$K$23,($K$25*X13)+$K$26)),IF(X13<$K$21,$K$20*X13,($K$22*X13)+$K$23)) -> 0.292005
I14: F | J14: Manuel | L14: =IF(K14>0,IF($K$24>0,IF(K14<$K$21,$K$20*K14,IF(K14<$K$24,($K$22*K14)+$K$23,($K$25*K14)+$K$26)),IF(K14<$K$21,$K$20*K14,($K$22*K14)+$K$23)),"") | M14: =IF(K14>0,L14/K14*1000,"") | X14: =X13+$AC$5 -> 216 | Y14: =IF($K$24>0,IF(X14<$K$21,$K$20*X14,IF(X14<$K$24,($K$22*X14)+$K$23,($K$25*X14)+$K$26)),IF(X14<$K$21,$K$20*X14,($K$22*X14)+$K$23)) -> 0.33372
I15: G | J15: Manuel | L15: =IF(K15>0,IF($K$24>0,IF(K15<$K$21,$K$20*K15,IF(K15<$K$24,($K$22*K15)+$K$23,($K$25*K15)+$K$26)),IF(K15<$K$21,$K$20*K15,($K$22*K15)+$K$23)),"") | M15: =IF(K15>0,L15/K15*1000,"") | X15: =X14+$AC$5 -> 243 | Y15: =IF($K$24>0,IF(X15<$K$21,$K$20*X15,IF(X15<$K$24,($K$22*X15)+$K$23,($K$25*X15)+$K$26)),IF(X15<$K$21,$K$20*X15,($K$22*X15)+$K$23)) -> 0.375435
X16: =X15+$AC$5 -> 270 | Y16: =IF($K$24>0,IF(X16<$K$21,$K$20*X16,IF(X16<$K$24,($K$22*X16)+$K$23,($K$25*X16)+$K$26)),IF(X16<$K$21,$K$20*X16,($K$22*X16)+$K$23)) -> 0.41715
J17: Cliquez ici pour modifier les points affichées sur graphique. | X17: =X16+$AC$5 -> 297 | Y17: =IF($K$24>0,IF(X17<$K$21,$K$20*X17,IF(X17<$K$24,($K$22*X17)+$K$23,($K$25*X17)+$K$26)),IF(X17<$K$21,$K$20*X17,($K$22*X17)+$K$23)) -> 0.458865
X18: =X17+$AC$5 -> 324 | Y18: =IF($K$24>0,IF(X18<$K$21,$K$20*X18,IF(X18<$K$24,($K$22*X18)+$K$23,($K$25*X18)+$K$26)),IF(X18<$K$21,$K$20*X18,($K$22*X18)+$K$23)) -> 0.50058
X19: =X18+$AC$5 -> 351 | Y19: =IF($K$24>0,IF(X19<$K$21,$K$20*X19,IF(X19<$K$24,($K$22*X19)+$K$23,($K$25*X19)+$K$26)),IF(X19<$K$21,$K$20*X19,($K$22*X19)+$K$23)) -> 0.542295
J20: norme0 | K20: =VLOOKUP($J$2,Tableau_fin[],7,FALSE) -> 0.001545 | X20: =X19+$AC$5 -> 378 | Y20: =IF($K$24>0,IF(X20<$K$21,$K$20*X20,IF(X20<$K$24,($K$22*X20)+$K$23,($K$25*X20)+$K$26)),IF(X20<$K$21,$K$20*X20,($K$22*X20)+$K$23)) -> 0.58401
J21: pesmin | K21: =VLOOKUP($J$2,Tableau_fin[],8,FALSE) -> 1197 | X21: =X20+$AC$5 -> 405 | Y21: =IF($K$24>0,IF(X21<$K$21,$K$20*X21,IF(X21<$K$24,($K$22*X21)+$K$23,($K$25*X21)+$K$26)),IF(X21<$K$21,$K$20*X21,($K$22*X21)+$K$23)) -> 0.625725
J22: norme1 | K22: =VLOOKUP($J$2,Tableau_fin[],9,FALSE) -> 0.002658 | X22: =X21+$AC$5 -> 432 | Y22: =IF($K$24>0,IF(X22<$K$21,$K$20*X22,IF(X22<$K$24,($K$22*X22)+$K$23,($K$25*X22)+$K$26)),IF(X22<$K$21,$K$20*X22,($K$22*X22)+$K$23)) -> 0.66744
J23: constante1 | K23: =VLOOKUP($J$2,Tableau_fin[],10,FALSE) -> 1.45 | X23: =X22+$AC$5 -> 459 | Y23: =IF($K$24>0,IF(X23<$K$21,$K$20*X23,IF(X23<$K$24,($K$22*X23)+$K$23,($K$25*X23)+$K$26)),IF(X23<$K$21,$K$20*X23,($K$22*X23)+$K$23)) -> 0.709155
J24: intersection | K24: =VLOOKUP($J$2,Tableau_fin[],11,FALSE) -> 0 | X24: =X23+$AC$5 -> 486 | Y24: =IF($K$24>0,IF(X24<$K$21,$K$20*X24,IF(X24<$K$24,($K$22*X24)+$K$23,($K$25*X24)+$K$26)),IF(X24<$K$21,$K$20*X24,($K$22*X24)+$K$23)) -> 0.75087
J25: norme2 | K25: =VLOOKUP($J$2,Tableau_fin[],12,FALSE) -> 0 | X25: =X24+$AC$5 -> 513 | Y25: =IF($K$24>0,IF(X25<$K$21,$K$20*X25,IF(X25<$K$24,($K$22*X25)+$K$23,($K$25*X25)+$K$26)),IF(X25<$K$21,$K$20*X25,($K$22*X25)+$K$23)) -> 0.792585
J26: constante2 | K26: =VLOOKUP($J$2,Tableau_fin[],13,FALSE) -> 0 | X26: =X25+$AC$5 -> 540 | Y26: =IF($K$24>0,IF(X26<$K$21,$K$20*X26,IF(X26<$K$24,($K$22*X26)+$K$23,($K$25*X26)+$K$26)),IF(X26<$K$21,$K$20*X26,($K$22*X26)+$K$23)) -> 0.8343
X27: =X26+$AC$5 -> 567 | Y27: =IF($K$24>0,IF(X27<$K$21,$K$20*X27,IF(X27<$K$24,($K$22*X27)+$K$23,($K$25*X27)+$K$26)),IF(X27<$K$21,$K$20*X27,($K$22*X27)+$K$23)) -> 0.876015
X28: =X27+$AC$5 -> 594 | Y28: =IF($K$24>0,IF(X28<$K$21,$K$20*X28,IF(X28<$K$24,($K$22*X28)+$K$23,($K$25*X28)+$K$26)),IF(X28<$K$21,$K$20*X28,($K$22*X28)+$K$23)) -> 0.91773
X29: =X28+$AC$5 -> 621 | Y29: =IF($K$24>0,IF(X29<$K$21,$K$20*X29,IF(X29<$K$24,($K$22*X29)+$K$23,($K$25*X29)+$K$26)),IF(X29<$K$21,$K$20*X29,($K$22*X29)+$K$23)) -> 0.959445
X30: =X29+$AC$5 -> 648 | Y30: =IF($K$24>0,IF(X30<$K$21,$K$20*X30,IF(X30<$K$24,($K$22*X30)+$K$23,($K$25*X30)+$K$26)),IF(X30<$K$21,$K$20*X30,($K$22*X30)+$K$23)) -> 1.00116
X31: =X30+$AC$5 -> 675 | Y31: =IF($K$24>0,IF(X31<$K$21,$K$20*X31,IF(X31<$K$24,($K$22*X31)+$K$23,($K$25*X31)+$K$26)),IF(X31<$K$21,$K$20*X31,($K$22*X31)+$K$23)) -> 1.042875
X32: =X31+$AC$5 -> 702 | Y32: =IF($K$24>0,IF(X32<$K$21,$K$20*X32,IF(X32<$K$24,($K$22*X32)+$K$23,($K$25*X32)+$K$26)),IF(X32<$K$21,$K$20*X32,($K$22*X32)+$K$23)) -> 1.08459
X33: =X32+$AC$5 -> 729 | Y33: =IF($K$24>0,IF(X33<$K$21,$K$20*X33,IF(X33<$K$24,($K$22*X33)+$K$23,($K$25*X33)+$K$26)),IF(X33<$K$21,$K$20*X33,($K$22*X33)+$K$23)) -> 1.126305
X34: =X33+$AC$5 -> 756 | Y34: =IF($K$24>0,IF(X34<$K$21,$K$20*X34,IF(X34<$K$24,($K$22*X34)+$K$23,($K$25*X34)+$K$26)),IF(X34<$K$21,$K$20*X34,($K$22*X34)+$K$23)) -> 1.16802
X35: =X34+$AC$5 -> 783 | Y35: =IF($K$24>0,IF(X35<$K$21,$K$20*X35,IF(X35<$K$24,($K$22*X35)+$K$23,($K$25*X35)+$K$26)),IF(X35<$K$21,$K$20*X35,($K$22*X35)+$K$23)) -> 1.209735
X36: =X35+$AC$5 -> 810 | Y36: =IF($K$24>0,IF(X36<$K$21,$K$20*X36,IF(X36<$K$24,($K$22*X36)+$K$23,($K$25*X36)+$K$26)),IF(X36<$K$21,$K$20*X36,($K$22*X36)+$K$23)) -> 1.25145
X37: =X36+$AC$5 -> 837 | Y37: =IF($K$24>0,IF(X37<$K$21,$K$20*X37,IF(X37<$K$24,($K$22*X37)+$K$23,($K$25*X37)+$K$26)),IF(X37<$K$21,$K$20*X37,($K$22*X37)+$K$23)) -> 1.293165
X38: =X37+$AC$5 -> 864 | Y38: =IF($K$24>0,IF(X38<$K$21,$K$20*X38,IF(X38<$K$24,($K$22*X38)+$K$23,($K$25*X38)+$K$26)),IF(X38<$K$21,$K$20*X38,($K$22*X38)+$K$23)) -> 1.33488
... X506: =X505+$AC$5 -> 13500 | Y506: =IF($K$24>0,IF(X506<$K$21,$K$20*X506,IF(X506<$K$24,($K$22*X506)+$K$23,($K$25*X506)+$K$26)),IF(X506<$K$21,$K$20*X506,($K$22*X506)+$K$23)) -> 37.333

Sheet 181.A0
J2: 181.A0 | K2: =VLOOKUP(J2,'Calcul financement'!B5:F100,2,FALSE) -> Soins préhospitaliers d'urgence
J4: =MAX(IF(K24=0,IF(K21=0,1000,K21*4),K24*2),K9:K15) -> 8280 | K4: PES utilisées pour ajuster le graphique
J5: =IF($K$24>0,IF(J4<$K$21,$K$20*J4,IF(J4<$K$24,($K$22*J4)+$K$23,($K$25*J4)+$K$26)),IF(J4<$K$21,$K$20*J4,($K$22*J4)+$K$23)) -> 15.93128 | K5: =CONCATENATE("ÉTC seront financés par les ",J4," PES ","du programme ",LEFT(J2,6)) -> ÉTC seront financés par les 8280 PES du programme 181.A0 | X5: PES | Y5: ÉTC | AB5: Incrément PES | AC5: =ROUNDUP(J4/450,0) -> 19
X6: 0 | Y6: =IF($K$24>0,IF(X6<$K$21,$K$20*X6,IF(X6<$K$24,($K$22*X6)+$K$23,($K$25*X6)+$K$26)),IF(X6<$K$21,$K$20*X6,($K$22*X6)+$K$23)) -> 0
X7: =X6+$AC$5 -> 19 | Y7: =IF($K$24>0,IF(X7<$K$21,$K$20*X7,IF(X7<$K$24,($K$22*X7)+$K$23,($K$25*X7)+$K$26)),IF(X7<$K$21,$K$20*X7,($K$22*X7)+$K$23)) -> 0.029355
K8: PES | L8: ÉTC | M8: ÉTC/1000 PES | X8: =X7+$AC$5 -> 38 | Y8: =IF($K$24>0,IF(X8<$K$21,$K$20*X8,IF(X8<$K$24,($K$22*X8)+$K$23,($K$25*X8)+$K$26)),IF(X8<$K$21,$K$20*X8,($K$22*X8)+$K$23)) -> 0.05871
I9: A | J9: ='Points graphiques'!C4 -> 2016-2017 | K9: =_xlfn.IFNA(VLOOKUP($J$2,'Données PES'!$A$2:$AA$101,MATCH(J9,'Données PES'!$2:$2),FALSE),0) -> 2419 | L9: =IF(K9>0,IF($K$24>0,IF(K9<$K$21,$K$20*K9,IF(K9<$K$24,($K$22*K9)+$K$23,($K$25*K9)+$K$26)),IF(K9<$K$21,$K$20*K9,($K$22*K9)+$K$23)),"") -> 5.815194 | M9: =IF(K9>0,L9/K9*1000,"") -> 2.4039661 | X9: =X8+$AC$5 -> 57 | Y9: =IF($K$24>0,IF(X9<$K$21,$K$20*X9,IF(X9<$K$24,($K$22*X9)+$K$23,($K$25*X9)+$K$26)),IF(X9<$K$21,$K$20*X9,($K$22*X9)+$K$23)) -> 0.088065
I10: B | J10: ='Points graphiques'!C5 -> 2017-2018 | K10: =_xlfn.IFNA(VLOOKUP($J$2,'Données PES'!$A$2:$AA$101,MATCH(J10,'Données PES'!$2:$2),FALSE),0) -> 2523 | L10: =IF(K10>0,IF($K$24>0,IF(K10<$K$21,$K$20*K10,IF(K10<$K$24,($K$22*K10)+$K$23,($K$25*K10)+$K$26)),IF(K10<$K$21,$K$20*K10,($K$22*K10)+$K$23)),"") -> 5.994698 | M10: =IF(K10>0,L10/K10*1000,"") -> 2.3760198 | X10: =X9+$AC$5 -> 76 | Y10: =IF($K$24>0,IF(X10<$K$21,$K$20*X10,IF(X10<$K$24,($K$22*X10)+$K$23,($K$25*X10)+$K$26)),IF(X10<$K$21,$K$20*X10,($K$22*X10)+$K$23)) -> 0.11742
I11: C | J11: ='Points graphiques'!C6 -> 2018-2019 | K11: =_xlfn.IFNA(VLOOKUP($J$2,'Données PES'!$A$2:$AA$101,MATCH(J11,'Données PES'!$2:$2),FALSE),0) -> 2563 | L11: =IF(K11>0,IF($K$24>0,IF(K11<$K$21,$K$20*K11,IF(K11<$K$24,($K$22*K11)+$K$23,($K$25*K11)+$K$26)),IF(K11<$K$21,$K$20*K11,($K$22*K11)+$K$23)),"") -> 6.063738 | M11: =IF(K11>0,L11/K11*1000,"") -> 2.3658751 | X11: =X10+$AC$5 -> 95 | Y11: =IF($K$24>0,IF(X11<$K$21,$K$20*X11,IF(X11<$K$24,($K$22*X11)+$K$23,($K$25*X11)+$K$26)),IF(X11<$K$21,$K$20*X11,($K$22*X11)+$K$23)) -> 0.146775
I12: D | J12: ='Points graphiques'!C7 -> 2019-2020 | K12: =_xlfn.IFNA(VLOOKUP($J$2,'Données PES'!$A$2:$AA$101,MATCH(J12,'Données PES'!$2:$2),FALSE),0) -> 3121 | L12: =IF(K12>0,IF($K$24>0,IF(K12<$K$21,$K$20*K12,IF(K12<$K$24,($K$22*K12)+$K$23,($K$25*K12)+$K$26)),IF(K12<$K$21,$K$20*K12,($K$22*K12)+$K$23)),"") -> 7.026846 | M12: =IF(K12>0,L12/K12*1000,"") -> 2.2514726 | X12: =X11+$AC$5 -> 114 | Y12: =IF($K$24>0,IF(X12<$K$21,$K$20*X12,IF(X12<$K$24,($K$22*X12)+$K$23,($K$25*X12)+$K$26)),IF(X12<$K$21,$K$20*X12,($K$22*X12)+$K$23)) -> 0.17613
I13: E | J13: Manuel | L13: =IF(K13>0,IF($K$24>0,IF(K13<$K$21,$K$20*K13,IF(K13<$K$24,($K$22*K13)+$K$23,($K$25*K13)+$K$26)),IF(K13<$K$21,$K$20*K13,($K$22*K13)+$K$23)),"") | M13: =IF(K13>0,L13/K13*1000,"") | X13: =X12+$AC$5 -> 133 | Y13: =IF($K$24>0,IF(X13<$K$21,$K$20*X13,IF(X13<$K$24,($K$22*X13)+$K$23,($K$25*X13)+$K$26)),IF(X13<$K$21,$K$20*X13,($K$22*X13)+$K$23)) -> 0.205485
I14: F | J14: Manuel | L14: =IF(K14>0,IF($K$24>0,IF(K14<$K$21,$K$20*K14,IF(K14<$K$24,($K$22*K14)+$K$23,($K$25*K14)+$K$26)),IF(K14<$K$21,$K$20*K14,($K$22*K14)+$K$23)),"") | M14: =IF(K14>0,L14/K14*1000,"") | X14: =X13+$AC$5 -> 152 | Y14: =IF($K$24>0,IF(X14<$K$21,$K$20*X14,IF(X14<$K$24,($K$22*X14)+$K$23,($K$25*X14)+$K$26)),IF(X14<$K$21,$K$20*X14,($K$22*X14)+$K$23)) -> 0.23484
I15: G | J15: Manuel | L15: =IF(K15>0,IF($K$24>0,IF(K15<$K$21,$K$20*K15,IF(K15<$K$24,($K$22*K15)+$K$23,($K$25*K15)+$K$26)),IF(K15<$K$21,$K$20*K15,($K$22*K15)+$K$23)),"") | M15: =IF(K15>0,L15/K15*1000,"") | X15: =X14+$AC$5 -> 171 | Y15: =IF($K$24>0,IF(X15<$K$21,$K$20*X15,IF(X15<$K$24,($K$22*X15)+$K$23,($K$25*X15)+$K$26)),IF(X15<$K$21,$K$20*X15,($K$22*X15)+$K$23)) -> 0.264195
X16: =X15+$AC$5 -> 190 | Y16: =IF($K$24>0,IF(X16<$K$21,$K$20*X16,IF(X16<$K$24,($K$22*X16)+$K$23,($K$25*X16)+$K$26)),IF(X16<$K$21,$K$20*X16,($K$22*X16)+$K$23)) -> 0.29355
J17: Cliquez ici pour modifier les points affichées sur graphique. | X17: =X16+$AC$5 -> 209 | Y17: =IF($K$24>0,IF(X17<$K$21,$K$20*X17,IF(X17<$K$24,($K$22*X17)+$K$23,($K$25*X17)+$K$26)),IF(X17<$K$21,$K$20*X17,($K$22*X17)+$K$23)) -> 0.322905
X18: =X17+$AC$5 -> 228 | Y18: =IF($K$24>0,IF(X18<$K$21,$K$20*X18,IF(X18<$K$24,($K$22*X18)+$K$23,($K$25*X18)+$K$26)),IF(X18<$K$21,$K$20*X18,($K$22*X18)+$K$23)) -> 0.35226
X19: =X18+$AC$5 -> 247 | Y19: =IF($K$24>0,IF(X19<$K$21,$K$20*X19,IF(X19<$K$24,($K$22*X19)+$K$23,($K$25*X19)+$K$26)),IF(X19<$K$21,$K$20*X19,($K$22*X19)+$K$23)) -> 0.381615
J20: norme0 | K20: =VLOOKUP($J$2,Tableau_fin[],7,FALSE) -> 0.001545 | X20: =X19+$AC$5 -> 266 | Y20: =IF($K$24>0,IF(X20<$K$21,$K$20*X20,IF(X20<$K$24,($K$22*X20)+$K$23,($K$25*X20)+$K$26)),IF(X20<$K$21,$K$20*X20,($K$22*X20)+$K$23)) -> 0.41097
J21: pesmin | K21: =VLOOKUP($J$2,Tableau_fin[],8,FALSE) -> 2070 | X21: =X20+$AC$5 -> 285 | Y21: =IF($K$24>0,IF(X21<$K$21,$K$20*X21,IF(X21<$K$24,($K$22*X21)+$K$23,($K$25*X21)+$K$26)),IF(X21<$K$21,$K$20*X21,($K$22*X21)+$K$23)) -> 0.440325
J22: norme1 | K22: =VLOOKUP($J$2,Tableau_fin[],9,FALSE) -> 0.001726 | X22: =X21+$AC$5 -> 304 | Y22: =IF($K$24>0,IF(X22<$K$21,$K$20*X22,IF(X22<$K$24,($K$22*X22)+$K$23,($K$25*X22)+$K$26)),IF(X22<$K$21,$K$20*X22,($K$22*X22)+$K$23)) -> 0.46968
J23: constante1 | K23: =VLOOKUP($J$2,Tableau_fin[],10,FALSE) -> 1.64 | X23: =X22+$AC$5 -> 323 | Y23: =IF($K$24>0,IF(X23<$K$21,$K$20*X23,IF(X23<$K$24,($K$22*X23)+$K$23,($K$25*X23)+$K$26)),IF(X23<$K$21,$K$20*X23,($K$22*X23)+$K$23)) -> 0.499035
J24: intersection | K24: =VLOOKUP($J$2,Tableau_fin[],11,FALSE) -> 0 | X24: =X23+$AC$5 -> 342 | Y24: =IF($K$24>0,IF(X24<$K$21,$K$20*X24,IF(X24<$K$24,($K$22*X24)+$K$23,($K$25*X24)+$K$26)),IF(X24<$K$21,$K$20*X24,($K$22*X24)+$K$23)) -> 0.52839
J25: norme2 | K25: =VLOOKUP($J$2,Tableau_fin[],12,FALSE) -> 0 | X25: =X24+$AC$5 -> 361 | Y25: =IF($K$24>0,IF(X25<$K$21,$K$20*X25,IF(X25<$K$24,($K$22*X25)+$K$23,($K$25*X25)+$K$26)),IF(X25<$K$21,$K$20*X25,($K$22*X25)+$K$23)) -> 0.557745
J26: constante2 | K26: =VLOOKUP($J$2,Tableau_fin[],13,FALSE) -> 0 | X26: =X25+$AC$5 -> 380 | Y26: =IF($K$24>0,IF(X26<$K$21,$K$20*X26,IF(X26<$K$24,($K$22*X26)+$K$23,($K$25*X26)+$K$26)),IF(X26<$K$21,$K$20*X26,($K$22*X26)+$K$23)) -> 0.5871
X27: =X26+$AC$5 -> 399 | Y27: =IF($K$24>0,IF(X27<$K$21,$K$20*X27,IF(X27<$K$24,($K$22*X27)+$K$23,($K$25*X27)+$K$26)),IF(X27<$K$21,$K$20*X27,($K$22*X27)+$K$23)) -> 0.616455
X28: =X27+$AC$5 -> 418 | Y28: =IF($K$24>0,IF(X28<$K$21,$K$20*X28,IF(X28<$K$24,($K$22*X28)+$K$23,($K$25*X28)+$K$26)),IF(X28<$K$21,$K$20*X28,($K$22*X28)+$K$23)) -> 0.64581
X29: =X28+$AC$5 -> 437 | Y29: =IF($K$24>0,IF(X29<$K$21,$K$20*X29,IF(X29<$K$24,($K$22*X29)+$K$23,($K$25*X29)+$K$26)),IF(X29<$K$21,$K$20*X29,($K$22*X29)+$K$23)) -> 0.675165
X30: =X29+$AC$5 -> 456 | Y30: =IF($K$24>0,IF(X30<$K$21,$K$20*X30,IF(X30<$K$24,($K$22*X30)+$K$23,($K$25*X30)+$K$26)),IF(X30<$K$21,$K$20*X30,($K$22*X30)+$K$23)) -> 0.70452
X31: =X30+$AC$5 -> 475 | Y31: =IF($K$24>0,IF(X31<$K$21,$K$20*X31,IF(X31<$K$24,($K$22*X31)+$K$23,($K$25*X31)+$K$26)),IF(X31<$K$21,$K$20*X31,($K$22*X31)+$K$23)) -> 0.733875
X32: =X31+$AC$5 -> 494 | Y32: =IF($K$24>0,IF(X32<$K$21,$K$20*X32,IF(X32<$K$24,($K$22*X32)+$K$23,($K$25*X32)+$K$26)),IF(X32<$K$21,$K$20*X32,($K$22*X32)+$K$23)) -> 0.76323
X33: =X32+$AC$5 -> 513 | Y33: =IF($K$24>0,IF(X33<$K$21,$K$20*X33,IF(X33<$K$24,($K$22*X33)+$K$23,($K$25*X33)+$K$26)),IF(X33<$K$21,$K$20*X33,($K$22*X33)+$K$23)) -> 0.792585
X34: =X33+$AC$5 -> 532 | Y34: =IF($K$24>0,IF(X34<$K$21,$K$20*X34,IF(X34<$K$24,($K$22*X34)+$K$23,($K$25*X34)+$K$26)),IF(X34<$K$21,$K$20*X34,($K$22*X34)+$K$23)) -> 0.82194
X35: =X34+$AC$5 -> 551 | Y35: =IF($K$24>0,IF(X35<$K$21,$K$20*X35,IF(X35<$K$24,($K$22*X35)+$K$23,($K$25*X35)+$K$26)),IF(X35<$K$21,$K$20*X35,($K$22*X35)+$K$23)) -> 0.851295
X36: =X35+$AC$5 -> 570 | Y36: =IF($K$24>0,IF(X36<$K$21,$K$20*X36,IF(X36<$K$24,($K$22*X36)+$K$23,($K$25*X36)+$K$26)),IF(X36<$K$21,$K$20*X36,($K$22*X36)+$K$23)) -> 0.88065
X37: =X36+$AC$5 -> 589 | Y37: =IF($K$24>0,IF(X37<$K$21,$K$20*X37,IF(X37<$K$24,($K$22*X37)+$K$23,($K$25*X37)+$K$26)),IF(X37<$K$21,$K$20*X37,($K$22*X37)+$K$23)) -> 0.910005
X38: =X37+$AC$5 -> 608 | Y38: =IF($K$24>0,IF(X38<$K$21,$K$20*X38,IF(X38<$K$24,($K$22*X38)+$K$23,($K$25*X38)+$K$26)),IF(X38<$K$21,$K$20*X38,($K$22*X38)+$K$23)) -> 0.93936
... X506: =X505+$AC$5 -> 9500 | Y506: =IF($K$24>0,IF(X506<$K$21,$K$20*X506,IF(X506<$K$24,($K$22*X506)+$K$23,($K$25*X506)+$K$26)),IF(X506<$K$21,$K$20*X506,($K$22*X506)+$K$23)) -> 18.037

Sheet 200.B0
J2: 200.B0 | K2: =VLOOKUP(J2,'Calcul financement'!B5:F100,2,FALSE) -> Sciences de la nature
J4: =MAX(IF(K24=0,IF(K21=0,1000,K21*4),K24*2),K9:K15) -> 18406 | K4: PES utilisées pour ajuster le graphique
J5: =IF($K$24>0,IF(J4<$K$21,$K$20*J4,IF(J4<$K$24,($K$22*J4)+$K$23,($K$25*J4)+$K$26)),IF(J4<$K$21,$K$20*J4,($K$22*J4)+$K$23)) -> 24.808958 | K5: =CONCATENATE("ÉTC seront financés par les ",J4," PES ","du programme ",LEFT(J2,6)) -> ÉTC seront financés par les 18406 PES du programme 200.B0 | X5: PES | Y5: ÉTC | AB5: Incrément PES | AC5: =ROUNDUP(J4/450,0) -> 41
X6: 0 | Y6: =IF($K$24>0,IF(X6<$K$21,$K$20*X6,IF(X6<$K$24,($K$22*X6)+$K$23,($K$25*X6)+$K$26)),IF(X6<$K$21,$K$20*X6,($K$22*X6)+$K$23)) -> 0
X7: =X6+$AC$5 -> 41 | Y7: =IF($K$24>0,IF(X7<$K$21,$K$20*X7,IF(X7<$K$24,($K$22*X7)+$K$23,($K$25*X7)+$K$26)),IF(X7<$K$21,$K$20*X7,($K$22*X7)+$K$23)) -> 0.063345
K8: PES | L8: ÉTC | M8: ÉTC/1000 PES | X8: =X7+$AC$5 -> 82 | Y8: =IF($K$24>0,IF(X8<$K$21,$K$20*X8,IF(X8<$K$24,($K$22*X8)+$K$23,($K$25*X8)+$K$26)),IF(X8<$K$21,$K$20*X8,($K$22*X8)+$K$23)) -> 0.12669
I9: A | J9: ='Points graphiques'!C4 -> 2016-2017 | K9: =_xlfn.IFNA(VLOOKUP($J$2,'Données PES'!$A$2:$AA$101,MATCH(J9,'Données PES'!$2:$2),FALSE),0) -> 18406 | L9: =IF(K9>0,IF($K$24>0,IF(K9<$K$21,$K$20*K9,IF(K9<$K$24,($K$22*K9)+$K$23,($K$25*K9)+$K$26)),IF(K9<$K$21,$K$20*K9,($K$22*K9)+$K$23)),"") -> 24.808958 | M9: =IF(K9>0,L9/K9*1000,"") -> 1.3478734 | X9: =X8+$AC$5 -> 123 | Y9: =IF($K$24>0,IF(X9<$K$21,$K$20*X9,IF(X9<$K$24,($K$22*X9)+$K$23,($K$25*X9)+$K$26)),IF(X9<$K$21,$K$20*X9,($K$22*X9)+$K$23)) -> 0.190035
I10: B | J10: ='Points graphiques'!C5 -> 2017-2018 | K10: =_xlfn.IFNA(VLOOKUP($J$2,'Données PES'!$A$2:$AA$101,MATCH(J10,'Données PES'!$2:$2),FALSE),0) -> 17769 | L10: =IF(K10>0,IF($K$24>0,IF(K10<$K$21,$K$20*K10,IF(K10<$K$24,($K$22*K10)+$K$23,($K$25*K10)+$K$26)),IF(K10<$K$21,$K$20*K10,($K$22*K10)+$K$23)),"") -> 23.985317 | M10: =IF(K10>0,L10/K10*1000,"") -> 1.3498406 | X10: =X9+$AC$5 -> 164 | Y10: =IF($K$24>0,IF(X10<$K$21,$K$20*X10,IF(X10<$K$24,($K$22*X10)+$K$23,($K$25*X10)+$K$26)),IF(X10<$K$21,$K$20*X10,($K$22*X10)+$K$23)) -> 0.25338
I11: C | J11: ='Points graphiques'!C6 -> 2018-2019 | K11: =_xlfn.IFNA(VLOOKUP($J$2,'Données PES'!$A$2:$AA$101,MATCH(J11,'Données PES'!$2:$2),FALSE),0) -> 16491 | L11: =IF(K11>0,IF($K$24>0,IF(K11<$K$21,$K$20*K11,IF(K11<$K$24,($K$22*K11)+$K$23,($K$25*K11)+$K$26)),IF(K11<$K$21,$K$20*K11,($K$22*K11)+$K$23)),"") -> 22.332863 | M11: =IF(K11>0,L11/K11*1000,"") -> 1.3542455 | X11: =X10+$AC$5 -> 205 | Y11: =IF($K$24>0,IF(X11<$K$21,$K$20*X11,IF(X11<$K$24,($K$22*X11)+$K$23,($K$25*X11)+$K$26)),IF(X11<$K$21,$K$20*X11,($K$22*X11)+$K$23)) -> 1.275065
I12: D | J12: ='Points graphiques'!C7 -> 2019-2020 | K12: =_xlfn.IFNA(VLOOKUP($J$2,'Données PES'!$A$2:$AA$101,MATCH(J12,'Données PES'!$2:$2),FALSE),0) -> 15603 | L12: =IF(K12>0,IF($K$24>0,IF(K12<$K$21,$K$20*K12,IF(K12<$K$24,($K$22*K12)+$K$23,($K$25*K12)+$K$26)),IF(K12<$K$21,$K$20*K12,($K$22*K12)+$K$23)),"") -> 21.184679 | M12: =IF(K12>0,L12/K12*1000,"") -> 1.3577311 | X12: =X11+$AC$5 -> 246 | Y12: =IF($K$24>0,IF(X12<$K$21,$K$20*X12,IF(X12<$K$24,($K$22*X12)+$K$23,($K$25*X12)+$K$26)),IF(X12<$K$21,$K$20*X12,($K$22*X12)+$K$23)) -> 1.328078
I13: E | J13: Manuel | L13: =IF(K13>0,IF($K$24>0,IF(K13<$K$21,$K$20*K13,IF(K13<$K$24,($K$22*K13)+$K$23,($K$25*K13)+$K$26)),IF(K13<$K$21,$K$20*K13,($K$22*K13)+$K$23)),"") | M13: =IF(K13>0,L13/K13*1000,"") | X13: =X12+$AC$5 -> 287 | Y13: =IF($K$24>0,IF(X13<$K$21,$K$20*X13,IF(X13<$K$24,($K$22*X13)+$K$23,($K$25*X13)+$K$26)),IF(X13<$K$21,$K$20*X13,($K$22*X13)+$K$23)) -> 1.381091
I14: F | J14: Manuel | L14: =IF(K14>0,IF($K$24>0,IF(K14<$K$21,$K$20*K14,IF(K14<$K$24,($K$22*K14)+$K$23,($K$25*K14)+$K$26)),IF(K14<$K$21,$K$20*K14,($K$22*K14)+$K$23)),"") | M14: =IF(K14>0,L14/K14*1000,"") | X14: =X13+$AC$5 -> 328 | Y14: =IF($K$24>0,IF(X14<$K$21,$K$20*X14,IF(X14<$K$24,($K$22*X14)+$K$23,($K$25*X14)+$K$26)),IF(X14<$K$21,$K$20*X14,($K$22*X14)+$K$23)) -> 1.434104
I15: G | J15: Manuel | L15: =IF(K15>0,IF($K$24>0,IF(K15<$K$21,$K$20*K15,IF(K15<$K$24,($K$22*K15)+$K$23,($K$25*K15)+$K$26)),IF(K15<$K$21,$K$20*K15,($K$22*K15)+$K$23)),"") | M15: =IF(K15>0,L15/K15*1000,"") | X15: =X14+$AC$5 -> 369 | Y15: =IF($K$24>0,IF(X15<$K$21,$K$20*X15,IF(X15<$K$24,($K$22*X15)+$K$23,($K$25*X15)+$K$26)),IF(X15<$K$21,$K$20*X15,($K$22*X15)+$K$23)) -> 1.487117
X16: =X15+$AC$5 -> 410 | Y16: =IF($K$24>0,IF(X16<$K$21,$K$20*X16,IF(X16<$K$24,($K$22*X16)+$K$23,($K$25*X16)+$K$26)),IF(X16<$K$21,$K$20*X16,($K$22*X16)+$K$23)) -> 1.54013
J17: Cliquez ici pour modifier les points affichées sur graphique. | X17: =X16+$AC$5 -> 451 | Y17: =IF($K$24>0,IF(X17<$K$21,$K$20*X17,IF(X17<$K$24,($K$22*X17)+$K$23,($K$25*X17)+$K$26)),IF(X17<$K$21,$K$20*X17,($K$22*X17)+$K$23)) -> 1.593143
X18: =X17+$AC$5 -> 492 | Y18: =IF($K$24>0,IF(X18<$K$21,$K$20*X18,IF(X18<$K$24,($K$22*X18)+$K$23,($K$25*X18)+$K$26)),IF(X18<$K$21,$K$20*X18,($K$22*X18)+$K$23)) -> 1.646156
X19: =X18+$AC$5 -> 533 | Y19: =IF($K$24>0,IF(X19<$K$21,$K$20*X19,IF(X19<$K$24,($K$22*X19)+$K$23,($K$25*X19)+$K$26)),IF(X19<$K$21,$K$20*X19,($K$22*X19)+$K$23)) -> 1.699169
J20: norme0 | K20: =VLOOKUP($J$2,Tableau_fin[],7,FALSE) -> 0.001545 | X20: =X19+$AC$5 -> 574 | Y20: =IF($K$24>0,IF(X20<$K$21,$K$20*X20,IF(X20<$K$24,($K$22*X20)+$K$23,($K$25*X20)+$K$26)),IF(X20<$K$21,$K$20*X20,($K$22*X20)+$K$23)) -> 1.752182
J21: pesmin | K21: =VLOOKUP($J$2,Tableau_fin[],8,FALSE) -> 200 | X21: =X20+$AC$5 -> 615 | Y21: =IF($K$24>0,IF(X21<$K$21,$K$20*X21,IF(X21<$K$24,($K$22*X21)+$K$23,($K$25*X21)+$K$26)),IF(X21<$K$21,$K$20*X21,($K$22*X21)+$K$23)) -> 1.805195
J22: norme1 | K22: =VLOOKUP($J$2,Tableau_fin[],9,FALSE) -> 0.001293 | X22: =X21+$AC$5 -> 656 | Y22: =IF($K$24>0,IF(X22<$K$21,$K$20*X22,IF(X22<$K$24,($K$22*X22)+$K$23,($K$25*X22)+$K$26)),IF(X22<$K$21,$K$20*X22,($K$22*X22)+$K$23)) -> 1.858208
J23: constante1 | K23: =VLOOKUP($J$2,Tableau_fin[],10,FALSE) -> 1.01 | X23: =X22+$AC$5 -> 697 | Y23: =IF($K$24>0,IF(X23<$K$21,$K$20*X23,IF(X23<$K$24,($K$22*X23)+$K$23,($K$25*X23)+$K$26)),IF(X23<$K$21,$K$20*X23,($K$22*X23)+$K$23)) -> 1.911221
J24: intersection | K24: =VLOOKUP($J$2,Tableau_fin[],11,FALSE) -> 0 | X24: =X23+$AC$5 -> 738 | Y24: =IF($K$24>0,IF(X24<$K$21,$K$20*X24,IF(X24<$K$24,($K$22*X24)+$K$23,($K$25*X24)+$K$26)),IF(X24<$K$21,$K$20*X24,($K$22*X24)+$K$23)) -> 1.964234
J25: norme2 | K25: =VLOOKUP($J$2,Tableau_fin[],12,FALSE) -> 0 | X25: =X24+$AC$5 -> 779 | Y25: =IF($K$24>0,IF(X25<$K$21,$K$20*X25,IF(X25<$K$24,($K$22*X25)+$K$23,($K$25*X25)+$K$26)),IF(X25<$K$21,$K$20*X25,($K$22*X25)+$K$23)) -> 2.017247
J26: constante2 | K26: =VLOOKUP($J$2,Tableau_fin[],13,FALSE) -> 0 | X26: =X25+$AC$5 -> 820 | Y26: =IF($K$24>0,IF(X26<$K$21,$K$20*X26,IF(X26<$K$24,($K$22*X26)+$K$23,($K$25*X26)+$K$26)),IF(X26<$K$21,$K$20*X26,($K$22*X26)+$K$23)) -> 2.07026
X27: =X26+$AC$5 -> 861 | Y27: =IF($K$24>0,IF(X27<$K$21,$K$20*X27,IF(X27<$K$24,($K$22*X27)+$K$23,($K$25*X27)+$K$26)),IF(X27<$K$21,$K$20*X27,($K$22*X27)+$K$23)) -> 2.123273
X28: =X27+$AC$5 -> 902 | Y28: =IF($K$24>0,IF(X28<$K$21,$K$20*X28,IF(X28<$K$24,($K$22*X28)+$K$23,($K$25*X28)+$K$26)),IF(X28<$K$21,$K$20*X28,($K$22*X28)+$K$23)) -> 2.176286
X29: =X28+$AC$5 -> 943 | Y29: =IF($K$24>0,IF(X29<$K$21,$K$20*X29,IF(X29<$K$24,($K$22*X29)+$K$23,($K$25*X29)+$K$26)),IF(X29<$K$21,$K$20*X29,($K$22*X29)+$K$23)) -> 2.229299
X30: =X29+$AC$5 -> 984 | Y30: =IF($K$24>0,IF(X30<$K$21,$K$20*X30,IF(X30<$K$24,($K$22*X30)+$K$23,($K$25*X30)+$K$26)),IF(X30<$K$21,$K$20*X30,($K$22*X30)+$K$23)) -> 2.282312
X31: =X30+$AC$5 -> 1025 | Y31: =IF($K$24>0,IF(X31<$K$21,$K$20*X31,IF(X31<$K$24,($K$22*X31)+$K$23,($K$25*X31)+$K$26)),IF(X31<$K$21,$K$20*X31,($K$22*X31)+$K$23)) -> 2.335325
X32: =X31+$AC$5 -> 1066 | Y32: =IF($K$24>0,IF(X32<$K$21,$K$20*X32,IF(X32<$K$24,($K$22*X32)+$K$23,($K$25*X32)+$K$26)),IF(X32<$K$21,$K$20*X32,($K$22*X32)+$K$23)) -> 2.388338
X33: =X32+$AC$5 -> 1107 | Y33: =IF($K$24>0,IF(X33<$K$21,$K$20*X33,IF(X33<$K$24,($K$22*X33)+$K$23,($K$25*X33)+$K$26)),IF(X33<$K$21,$K$20*X33,($K$22*X33)+$K$23)) -> 2.441351
X34: =X33+$AC$5 -> 1148 | Y34: =IF($K$24>0,IF(X34<$K$21,$K$20*X34,IF(X34<$K$24,($K$22*X34)+$K$23,($K$25*X34)+$K$26)),IF(X34<$K$21,$K$20*X34,($K$22*X34)+$K$23)) -> 2.494364
X35: =X34+$AC$5 -> 1189 | Y35: =IF($K$24>0,IF(X35<$K$21,$K$20*X35,IF(X35<$K$24,($K$22*X35)+$K$23,($K$25*X35)+$K$26)),IF(X35<$K$21,$K$20*X35,($K$22*X35)+$K$23)) -> 2.547377
X36: =X35+$AC$5 -> 1230 | Y36: =IF($K$24>0,IF(X36<$K$21,$K$20*X36,IF(X36<$K$24,($K$22*X36)+$K$23,($K$25*X36)+$K$26)),IF(X36<$K$21,$K$20*X36,($K$22*X36)+$K$23)) -> 2.60039
X37: =X36+$AC$5 -> 1271 | Y37: =IF($K$24>0,IF(X37<$K$21,$K$20*X37,IF(X37<$K$24,($K$22*X37)+$K$23,($K$25*X37)+$K$26)),IF(X37<$K$21,$K$20*X37,($K$22*X37)+$K$23)) -> 2.653403
X38: =X37+$AC$5 -> 1312 | Y38: =IF($K$24>0,IF(X38<$K$21,$K$20*X38,IF(X38<$K$24,($K$22*X38)+$K$23,($K$25*X38)+$K$26)),IF(X38<$K$21,$K$20*X38,($K$22*X38)+$K$23)) -> 2.706416
... X506: =X505+$AC$5 -> 20500 | Y506: =IF($K$24>0,IF(X506<$K$21,$K$20*X506,IF(X506<$K$24,($K$22*X506)+$K$23,($K$25*X506)+$K$26)),IF(X506<$K$21,$K$20*X506,($K$22*X506)+$K$23)) -> 27.5165

Sheet 210.A0
J2: 210.A0 | K2: =VLOOKUP(J2,'Calcul financement'!B5:F100,2,FALSE) -> Techniques de laboratoire
J4: =MAX(IF(K24=0,IF(K21=0,1000,K21*4),K24*2),K9:K15) -> 1760 | K4: PES utilisées pour ajuster le graphique
J5: =IF($K$24>0,IF(J4<$K$21,$K$20*J4,IF(J4<$K$24,($K$22*J4)+$K$23,($K$25*J4)+$K$26)),IF(J4<$K$21,$K$20*J4,($K$22*J4)+$K$23)) -> 4.14384 | K5: =CONCATENATE("ÉTC seront financés par les ",J4," PES ","du programme ",LEFT(J2,6)) -> ÉTC seront financés par les 1760 PES du programme 210.A0 | X5: PES | Y5: ÉTC | AB5: Incrément PES | AC5: =ROUNDUP(J4/450,0) -> 4
X6: 0 | Y6: =IF($K$24>0,IF(X6<$K$21,$K$20*X6,IF(X6<$K$24,($K$22*X6)+$K$23,($K$25*X6)+$K$26)),IF(X6<$K$21,$K$20*X6,($K$22*X6)+$K$23)) -> 0
X7: =X6+$AC$5 -> 4 | Y7: =IF($K$24>0,IF(X7<$K$21,$K$20*X7,IF(X7<$K$24,($K$22*X7)+$K$23,($K$25*X7)+$K$26)),IF(X7<$K$21,$K$20*X7,($K$22*X7)+$K$23)) -> 0.00618
K8: PES | L8: ÉTC | M8: ÉTC/1000 PES | X8: =X7+$AC$5 -> 8 | Y8: =IF($K$24>0,IF(X8<$K$21,$K$20*X8,IF(X8<$K$24,($K$22*X8)+$K$23,($K$25*X8)+$K$26)),IF(X8<$K$21,$K$20*X8,($K$22*X8)+$K$23)) -> 0.01236
I9: A | J9: ='Points graphiques'!C4 -> 2016-2017 | K9: =_xlfn.IFNA(VLOOKUP($J$2,'Données PES'!$A$2:$AA$101,MATCH(J9,'Données PES'!$2:$2),FALSE),0) -> 1431 | L9: =IF(K9>0,IF($K$24>0,IF(K9<$K$21,$K$20*K9,IF(K9<$K$24,($K$22*K9)+$K$23,($K$25*K9)+$K$26)),IF(K9<$K$21,$K$20*K9,($K$22*K9)+$K$23)),"") -> 3.672054 | M9: =IF(K9>0,L9/K9*1000,"") -> 2.5660755 | X9: =X8+$AC$5 -> 12 | Y9: =IF($K$24>0,IF(X9<$K$21,$K$20*X9,IF(X9<$K$24,($K$22*X9)+$K$23,($K$25*X9)+$K$26)),IF(X9<$K$21,$K$20*X9,($K$22*X9)+$K$23)) -> 0.01854
I10: B | J10: ='Points graphiques'!C5 -> 2017-2018 | K10: =_xlfn.IFNA(VLOOKUP($J$2,'Données PES'!$A$2:$AA$101,MATCH(J10,'Données PES'!$2:$2),FALSE),0) -> 1478 | L10: =IF(K10>0,IF($K$24>0,IF(K10<$K$21,$K$20*K10,IF(K10<$K$24,($K$22*K10)+$K$23,($K$25*K10)+$K$26)),IF(K10<$K$21,$K$20*K10,($K$22*K10)+$K$23)),"") -> 3.739452 | M10: =IF(K10>0,L10/K10*1000,"") -> 2.5300758 | X10: =X9+$AC$5 -> 16 | Y10: =IF($K$24>0,IF(X10<$K$21,$K$20*X10,IF(X10<$K$24,($K$22*X10)+$K$23,($K$25*X10)+$K$26)),IF(X10<$K$21,$K$20*X10,($K$22*X10)+$K$23)) -> 0.02472
I11: C | J11: ='Points graphiques'!C6 -> 2018-2019 | K11: =_xlfn.IFNA(VLOOKUP($J$2,'Données PES'!$A$2:$AA$101,MATCH(J11,'Données PES'!$2:$2),FALSE),0) -> 1506 | L11: =IF(K11>0,IF($K$24>0,IF(K11<$K$21,$K$20*K11,IF(K11<$K$24,($K$22*K11)+$K$23,($K$25*K11)+$K$26)),IF(K11<$K$21,$K$20*K11,($K$22*K11)+$K$23)),"") -> 3.779604 | M11: =IF(K11>0,L11/K11*1000,"") -> 2.5096972 | X11: =X10+$AC$5 -> 20 | Y11: =IF($K$24>0,IF(X11<$K$21,$K$20*X11,IF(X11<$K$24,($K$22*X11)+$K$23,($K$25*X11)+$K$26)),IF(X11<$K$21,$K$20*X11,($K$22*X11)+$K$23)) -> 0.0309
I12: D | J12: ='Points graphiques'!C7 -> 2019-2020 | K12: =_xlfn.IFNA(VLOOKUP($J$2,'Données PES'!$A$2:$AA$101,MATCH(J12,'Données PES'!$2:$2),FALSE),0) -> 1409 | L12: =IF(K12>0,IF($K$24>0,IF(K12<$K$21,$K$20*K12,IF(K12<$K$24,($K$22*K12)+$K$23,($K$25*K12)+$K$26)),IF(K12<$K$21,$K$20*K12,($K$22*K12)+$K$23)),"") -> 3.640506 | M12: =IF(K12>0,L12/K12*1000,"") -> 2.5837516 | X12: =X11+$AC$5 -> 24 | Y12: =IF($K$24>0,IF(X12<$K$21,$K$20*X12,IF(X12<$K$24,($K$22*X12)+$K$23,($K$25*X12)+$K$26)),IF(X12<$K$21,$K$20*X12,($K$22*X12)+$K$23)) -> 0.03708
I13: E | J13: Manuel | L13: =IF(K13>0,IF($K$24>0,IF(K13<$K$21,$K$20*K13,IF(K13<$K$24,($K$22*K13)+$K$23,($K$25*K13)+$K$26)),IF(K13<$K$21,$K$20*K13,($K$22*K13)+$K$23)),"") | M13: =IF(K13>0,L13/K13*1000,"") | X13: =X12+$AC$5 -> 28 | Y13: =IF($K$24>0,IF(X13<$K$21,$K$20*X13,IF(X13<$K$24,($K$22*X13)+$K$23,($K$25*X13)+$K$26)),IF(X13<$K$21,$K$20*X13,($K$22*X13)+$K$23)) -> 0.04326
I14: F | J14: Manuel | L14: =IF(K14>0,IF($K$24>0,IF(K14<$K$21,$K$20*K14,IF(K14<$K$24,($K$22*K14)+$K$23,($K$25*K14)+$K$26)),IF(K14<$K$21,$K$20*K14,($K$22*K14)+$K$23)),"") | M14: =IF(K14>0,L14/K14*1000,"") | X14: =X13+$AC$5 -> 32 | Y14: =IF($K$24>0,IF(X14<$K$21,$K$20*X14,IF(X14<$K$24,($K$22*X14)+$K$23,($K$25*X14)+$K$26)),IF(X14<$K$21,$K$20*X14,($K$22*X14)+$K$23)) -> 0.04944
I15: G | J15: Manuel | L15: =IF(K15>0,IF($K$24>0,IF(K15<$K$21,$K$20*K15,IF(K15<$K$24,($K$22*K15)+$K$23,($K$25*K15)+$K$26)),IF(K15<$K$21,$K$20*K15,($K$22*K15)+$K$23)),"") | M15: =IF(K15>0,L15/K15*1000,"") | X15: =X14+$AC$5 -> 36 | Y15: =IF($K$24>0,IF(X15<$K$21,$K$20*X15,IF(X15<$K$24,($K$22*X15)+$K$23,($K$25*X15)+$K$26)),IF(X15<$K$21,$K$20*X15,($K$22*X15)+$K$23)) -> 0.05562
X16: =X15+$AC$5 -> 40 | Y16: =IF($K$24>0,IF(X16<$K$21,$K$20*X16,IF(X16<$K$24,($K$22*X16)+$K$23,($K$25*X16)+$K$26)),IF(X16<$K$21,$K$20*X16,($K$22*X16)+$K$23)) -> 0.0618
J17: Cliquez ici pour modifier les points affichées sur graphique. | X17: =X16+$AC$5 -> 44 | Y17: =IF($K$24>0,IF(X17<$K$21,$K$20*X17,IF(X17<$K$24,($K$22*X17)+$K$23,($K$25*X17)+$K$26)),IF(X17<$K$21,$K$20*X17,($K$22*X17)+$K$23)) -> 0.06798
X18: =X17+$AC$5 -> 48 | Y18: =IF($K$24>0,IF(X18<$K$21,$K$20*X18,IF(X18<$K$24,($K$22*X18)+$K$23,($K$25*X18)+$K$26)),IF(X18<$K$21,$K$20*X18,($K$22*X18)+$K$23)) -> 0.07416
X19: =X18+$AC$5 -> 52 | Y19: =IF($K$24>0,IF(X19<$K$21,$K$20*X19,IF(X19<$K$24,($K$22*X19)+$K$23,($K$25*X19)+$K$26)),IF(X19<$K$21,$K$20*X19,($K$22*X19)+$K$23)) -> 0.08034
J20: norme0 | K20: =VLOOKUP($J$2,Tableau_fin[],7,FALSE) -> 0.001545 | X20: =X19+$AC$5 -> 56 | Y20: =IF($K$24>0,IF(X20<$K$21,$K$20*X20,IF(X20<$K$24,($K$22*X20)+$K$23,($K$25*X20)+$K$26)),IF(X20<$K$21,$K$20*X20,($K$22*X20)+$K$23)) -> 0.08652
J21: pesmin | K21: =VLOOKUP($J$2,Tableau_fin[],8,FALSE) -> 440 | X21: =X20+$AC$5 -> 60 | Y21: =IF($K$24>0,IF(X21<$K$21,$K$20*X21,IF(X21<$K$24,($K$22*X21)+$K$23,($K$25*X21)+$K$26)),IF(X21<$K$21,$K$20*X21,($K$22*X21)+$K$23)) -> 0.0927
J22: norme1 | K22: =VLOOKUP($J$2,Tableau_fin[],9,FALSE) -> 0.001434 | X22: =X21+$AC$5 -> 64 | Y22: =IF($K$24>0,IF(X22<$K$21,$K$20*X22,IF(X22<$K$24,($K$22*X22)+$K$23,($K$25*X22)+$K$26)),IF(X22<$K$21,$K$20*X22,($K$22*X22)+$K$23)) -> 0.09888
J23: constante1 | K23: =VLOOKUP($J$2,Tableau_fin[],10,FALSE) -> 1.62 | X23: =X22+$AC$5 -> 68 | Y23: =IF($K$24>0,IF(X23<$K$21,$K$20*X23,IF(X23<$K$24,($K$22*X23)+$K$23,($K$25*X23)+$K$26)),IF(X23<$K$21,$K$20*X23,($K$22*X23)+$K$23)) -> 0.10506
J24: intersection | K24: =VLOOKUP($J$2,Tableau_fin[],11,FALSE) -> 0 | X24: =X23+$AC$5 -> 72 | Y24: =IF($K$24>0,IF(X24<$K$21,$K$20*X24,IF(X24<$K$24,($K$22*X24)+$K$23,($K$25*X24)+$K$26)),IF(X24<$K$21,$K$20*X24,($K$22*X24)+$K$23)) -> 0.11124
J25: norme2 | K25: =VLOOKUP($J$2,Tableau_fin[],12,FALSE) -> 0 | X25: =X24+$AC$5 -> 76 | Y25: =IF($K$24>0,IF(X25<$K$21,$K$20*X25,IF(X25<$K$24,($K$22*X25)+$K$23,($K$25*X25)+$K$26)),IF(X25<$K$21,$K$20*X25,($K$22*X25)+$K$23)) -> 0.11742
J26: constante2 | K26: =VLOOKUP($J$2,Tableau_fin[],13,FALSE) -> 0 | X26: =X25+$AC$5 -> 80 | Y26: =IF($K$24>0,IF(X26<$K$21,$K$20*X26,IF(X26<$K$24,($K$22*X26)+$K$23,($K$25*X26)+$K$26)),IF(X26<$K$21,$K$20*X26,($K$22*X26)+$K$23)) -> 0.1236
X27: =X26+$AC$5 -> 84 | Y27: =IF($K$24>0,IF(X27<$K$21,$K$20*X27,IF(X27<$K$24,($K$22*X27)+$K$23,($K$25*X27)+$K$26)),IF(X27<$K$21,$K$20*X27,($K$22*X27)+$K$23)) -> 0.12978
X28: =X27+$AC$5 -> 88 | Y28: =IF($K$24>0,IF(X28<$K$21,$K$20*X28,IF(X28<$K$24,($K$22*X28)+$K$23,($K$25*X28)+$K$26)),IF(X28<$K$21,$K$20*X28,($K$22*X28)+$K$23)) -> 0.13596
X29: =X28+$AC$5 -> 92 | Y29: =IF($K$24>0,IF(X29<$K$21,$K$20*X29,IF(X29<$K$24,($K$22*X29)+$K$23,($K$25*X29)+$K$26)),IF(X29<$K$21,$K$20*X29,($K$22*X29)+$K$23)) -> 0.14214
X30: =X29+$AC$5 -> 96 | Y30: =IF($K$24>0,IF(X30<$K$21,$K$20*X30,IF(X30<$K$24,($K$22*X30)+$K$23,($K$25*X30)+$K$26)),IF(X30<$K$21,$K$20*X30,($K$22*X30)+$K$23)) -> 0.14832
X31: =X30+$AC$5 -> 100 | Y31: =IF($K$24>0,IF(X31<$K$21,$K$20*X31,IF(X31<$K$24,($K$22*X31)+$K$23,($K$25*X31)+$K$26)),IF(X31<$K$21,$K$20*X31,($K$22*X31)+$K$23)) -> 0.1545
X32: =X31+$AC$5 -> 104 | Y32: =IF($K$24>0,IF(X32<$K$21,$K$20*X32,IF(X32<$K$24,($K$22*X32)+$K$23,($K$25*X32)+$K$26)),IF(X32<$K$21,$K$20*X32,($K$22*X32)+$K$23)) -> 0.16068
X33: =X32+$AC$5 -> 108 | Y33: =IF($K$24>0,IF(X33<$K$21,$K$20*X33,IF(X33<$K$24,($K$22*X33)+$K$23,($K$25*X33)+$K$26)),IF(X33<$K$21,$K$20*X33,($K$22*X33)+$K$23)) -> 0.16686
X34: =X33+$AC$5 -> 112 | Y34: =IF($K$24>0,IF(X34<$K$21,$K$20*X34,IF(X34<$K$24,($K$22*X34)+$K$23,($K$25*X34)+$K$26)),IF(X34<$K$21,$K$20*X34,($K$22*X34)+$K$23)) -> 0.17304
X35: =X34+$AC$5 -> 116 | Y35: =IF($K$24>0,IF(X35<$K$21,$K$20*X35,IF(X35<$K$24,($K$22*X35)+$K$23,($K$25*X35)+$K$26)),IF(X35<$K$21,$K$20*X35,($K$22*X35)+$K$23)) -> 0.17922
X36: =X35+$AC$5 -> 120 | Y36: =IF($K$24>0,IF(X36<$K$21,$K$20*X36,IF(X36<$K$24,($K$22*X36)+$K$23,($K$25*X36)+$K$26)),IF(X36<$K$21,$K$20*X36,($K$22*X36)+$K$23)) -> 0.1854
X37: =X36+$AC$5 -> 124 | Y37: =IF($K$24>0,IF(X37<$K$21,$K$20*X37,IF(X37<$K$24,($K$22*X37)+$K$23,($K$25*X37)+$K$26)),IF(X37<$K$21,$K$20*X37,($K$22*X37)+$K$23)) -> 0.19158
X38: =X37+$AC$5 -> 128 | Y38: =IF($K$24>0,IF(X38<$K$21,$K$20*X38,IF(X38<$K$24,($K$22*X38)+$K$23,($K$25*X38)+$K$26)),IF(X38<$K$21,$K$20*X38,($K$22*X38)+$K$23)) -> 0.19776
... X506: =X505+$AC$5 -> 2000 | Y506: =IF($K$24>0,IF(X506<$K$21,$K$20*X506,IF(X506<$K$24,($K$22*X506)+$K$23,($K$25*X506)+$K$26)),IF(X506<$K$21,$K$20*X506,($K$22*X506)+$K$23)) -> 4.488

Sheet 221.A0
J2: 221.A0 | K2: =VLOOKUP(J2,'Calcul financement'!B5:F100,2,FALSE) -> Technologie de l'architecture
J4: =MAX(IF(K24=0,IF(K21=0,1000,K21*4),K24*2),K9:K15) -> 4316 | K4: PES utilisées pour ajuster le graphique
J5: =IF($K$24>0,IF(J4<$K$21,$K$20*J4,IF(J4<$K$24,($K$22*J4)+$K$23,($K$25*J4)+$K$26)),IF(J4<$K$21,$K$20*J4,($K$22*J4)+$K$23)) -> 7.225252 | K5: =CONCATENATE("ÉTC seront financés par les ",J4," PES ","du programme ",LEFT(J2,6)) -> ÉTC seront financés par les 4316 PES du programme 221.A0 | X5: PES | Y5: ÉTC | AB5: Incrément PES | AC5: =ROUNDUP(J4/450,0) -> 10
X6: 0 | Y6: =IF($K$24>0,IF(X6<$K$21,$K$20*X6,IF(X6<$K$24,($K$22*X6)+$K$23,($K$25*X6)+$K$26)),IF(X6<$K$21,$K$20*X6,($K$22*X6)+$K$23)) -> 0
X7: =X6+$AC$5 -> 10 | Y7: =IF($K$24>0,IF(X7<$K$21,$K$20*X7,IF(X7<$K$24,($K$22*X7)+$K$23,($K$25*X7)+$K$26)),IF(X7<$K$21,$K$20*X7,($K$22*X7)+$K$23)) -> 0.01545
K8: PES | L8: ÉTC | M8: ÉTC/1000 PES | X8: =X7+$AC$5 -> 20 | Y8: =IF($K$24>0,IF(X8<$K$21,$K$20*X8,IF(X8<$K$24,($K$22*X8)+$K$23,($K$25*X8)+$K$26)),IF(X8<$K$21,$K$20*X8,($K$22*X8)+$K$23)) -> 0.0309
I9: A | J9: ='Points graphiques'!C4 -> 2016-2017 | K9: =_xlfn.IFNA(VLOOKUP($J$2,'Données PES'!$A$2:$AA$101,MATCH(J9,'Données PES'!$2:$2),FALSE),0) -> 0 | L9: =IF(K9>0,IF($K$24>0,IF(K9<$K$21,$K$20*K9,IF(K9<$K$24,($K$22*K9)+$K$23,($K$25*K9)+$K$26)),IF(K9<$K$21,$K$20*K9,($K$22*K9)+$K$23)),"") | M9: =IF(K9>0,L9/K9*1000,"") | X9: =X8+$AC$5 -> 30 | Y9: =IF($K$24>0,IF(X9<$K$21,$K$20*X9,IF(X9<$K$24,($K$22*X9)+$K$23,($K$25*X9)+$K$26)),IF(X9<$K$21,$K$20*X9,($K$22*X9)+$K$23)) -> 0.04635
I10: B | J10: ='Points graphiques'!C5 -> 2017-2018 | K10: =_xlfn.IFNA(VLOOKUP($J$2,'Données PES'!$A$2:$AA$101,MATCH(J10,'Données PES'!$2:$2),FALSE),0) -> 1026 | L10: =IF(K10>0,IF($K$24>0,IF(K10<$K$21,$K$20*K10,IF(K10<$K$24,($K$22*K10)+$K$23,($K$25*K10)+$K$26)),IF(K10<$K$21,$K$20*K10,($K$22*K10)+$K$23)),"") -> 1.58517 | M10: =IF(K10>0,L10/K10*1000,"") -> 1.545 | X10: =X9+$AC$5 -> 40 | Y10: =IF($K$24>0,IF(X10<$K$21,$K$20*X10,IF(X10<$K$24,($K$22*X10)+$K$23,($K$25*X10)+$K$26)),IF(X10<$K$21,$K$20*X10,($K$22*X10)+$K$23)) -> 0.0618
I11: C | J11: ='Points graphiques'!C6 -> 2018-2019 | K11: =_xlfn.IFNA(VLOOKUP($J$2,'Données PES'!$A$2:$AA$101,MATCH(J11,'Données PES'!$2:$2),FALSE),0) -> 2143 | L11: =IF(K11>0,IF($K$24>0,IF(K11<$K$21,$K$20*K11,IF(K11<$K$24,($K$22*K11)+$K$23,($K$25*K11)+$K$26)),IF(K11<$K$21,$K$20*K11,($K$22*K11)+$K$23)),"") -> 4.080921 | M11: =IF(K11>0,L11/K11*1000,"") -> 1.9043028 | X11: =X10+$AC$5 -> 50 | Y11: =IF($K$24>0,IF(X11<$K$21,$K$20*X11,IF(X11<$K$24,($K$22*X11)+$K$23,($K$25*X11)+$K$26)),IF(X11<$K$21,$K$20*X11,($K$22*X11)+$K$23)) -> 0.07725
I12: D | J12: ='Points graphiques'!C7 -> 2019-2020 | K12: =_xlfn.IFNA(VLOOKUP($J$2,'Données PES'!$A$2:$AA$101,MATCH(J12,'Données PES'!$2:$2),FALSE),0) -> 2781 | L12: =IF(K12>0,IF($K$24>0,IF(K12<$K$21,$K$20*K12,IF(K12<$K$24,($K$22*K12)+$K$23,($K$25*K12)+$K$26)),IF(K12<$K$21,$K$20*K12,($K$22*K12)+$K$23)),"") -> 5.004107 | M12: =IF(K12>0,L12/K12*1000,"") -> 1.7993912 | X12: =X11+$AC$5 -> 60 | Y12: =IF($K$24>0,IF(X12<$K$21,$K$20*X12,IF(X12<$K$24,($K$22*X12)+$K$23,($K$25*X12)+$K$26)),IF(X12<$K$21,$K$20*X12,($K$22*X12)+$K$23)) -> 0.0927
I13: E | J13: Manuel | L13: =IF(K13>0,IF($K$24>0,IF(K13<$K$21,$K$20*K13,IF(K13<$K$24,($K$22*K13)+$K$23,($K$25*K13)+$K$26)),IF(K13<$K$21,$K$20*K13,($K$22*K13)+$K$23)),"") | M13: =IF(K13>0,L13/K13*1000,"") | X13: =X12+$AC$5 -> 70 | Y13: =IF($K$24>0,IF(X13<$K$21,$K$20*X13,IF(X13<$K$24,($K$22*X13)+$K$23,($K$25*X13)+$K$26)),IF(X13<$K$21,$K$20*X13,($K$22*X13)+$K$23)) -> 0.10815
I14: F | J14: Manuel | L14: =IF(K14>0,IF($K$24>0,IF(K14<$K$21,$K$20*K14,IF(K14<$K$24,($K$22*K14)+$K$23,($K$25*K14)+$K$26)),IF(K14<$K$21,$K$20*K14,($K$22*K14)+$K$23)),"") | M14: =IF(K14>0,L14/K14*1000,"") | X14: =X13+$AC$5 -> 80 | Y14: =IF($K$24>0,IF(X14<$K$21,$K$20*X14,IF(X14<$K$24,($K$22*X14)+$K$23,($K$25*X14)+$K$26)),IF(X14<$K$21,$K$20*X14,($K$22*X14)+$K$23)) -> 0.1236
I15: G | J15: Manuel | L15: =IF(K15>0,IF($K$24>0,IF(K15<$K$21,$K$20*K15,IF(K15<$K$24,($K$22*K15)+$K$23,($K$25*K15)+$K$26)),IF(K15<$K$21,$K$20*K15,($K$22*K15)+$K$23)),"") | M15: =IF(K15>0,L15/K15*1000,"") | X15: =X14+$AC$5 -> 90 | Y15: =IF($K$24>0,IF(X15<$K$21,$K$20*X15,IF(X15<$K$24,($K$22*X15)+$K$23,($K$25*X15)+$K$26)),IF(X15<$K$21,$K$20*X15,($K$22*X15)+$K$23)) -> 0.13905
X16: =X15+$AC$5 -> 100 | Y16: =IF($K$24>0,IF(X16<$K$21,$K$20*X16,IF(X16<$K$24,($K$22*X16)+$K$23,($K$25*X16)+$K$26)),IF(X16<$K$21,$K$20*X16,($K$22*X16)+$K$23)) -> 0.1545
J17: Cliquez ici pour modifier les points affichées sur graphique. | X17: =X16+$AC$5 -> 110 | Y17: =IF($K$24>0,IF(X17<$K$21,$K$20*X17,IF(X17<$K$24,($K$22*X17)+$K$23,($K$25*X17)+$K$26)),IF(X17<$K$21,$K$20*X17,($K$22*X17)+$K$23)) -> 0.16995
X18: =X17+$AC$5 -> 120 | Y18: =IF($K$24>0,IF(X18<$K$21,$K$20*X18,IF(X18<$K$24,($K$22*X18)+$K$23,($K$25*X18)+$K$26)),IF(X18<$K$21,$K$20*X18,($K$22*X18)+$K$23)) -> 0.1854
X19: =X18+$AC$5 -> 130 | Y19: =IF($K$24>0,IF(X19<$K$21,$K$20*X19,IF(X19<$K$24,($K$22*X19)+$K$23,($K$25*X19)+$K$26)),IF(X19<$K$21,$K$20*X19,($K$22*X19)+$K$23)) -> 0.20085
J20: norme0 | K20: =VLOOKUP($J$2,Tableau_fin[],7,FALSE) -> 0.001545 | X20: =X19+$AC$5 -> 140 | Y20: =IF($K$24>0,IF(X20<$K$21,$K$20*X20,IF(X20<$K$24,($K$22*X20)+$K$23,($K$25*X20)+$K$26)),IF(X20<$K$21,$K$20*X20,($K$22*X20)+$K$23)) -> 0.2163
J21: pesmin | K21: =VLOOKUP($J$2,Tableau_fin[],8,FALSE) -> 1079 | X21: =X20+$AC$5 -> 150 | Y21: =IF($K$24>0,IF(X21<$K$21,$K$20*X21,IF(X21<$K$24,($K$22*X21)+$K$23,($K$25*X21)+$K$26)),IF(X21<$K$21,$K$20*X21,($K$22*X21)+$K$23)) -> 0.23175
J22: norme1 | K22: =VLOOKUP($J$2,Tableau_fin[],9,FALSE) -> 0.001447 | X22: =X21+$AC$5 -> 160 | Y22: =IF($K$24>0,IF(X22<$K$21,$K$20*X22,IF(X22<$K$24,($K$22*X22)+$K$23,($K$25*X22)+$K$26)),IF(X22<$K$21,$K$20*X22,($K$22*X22)+$K$23)) -> 0.2472
J23: constante1 | K23: =VLOOKUP($J$2,Tableau_fin[],10,FALSE) -> 0.98 | X23: =X22+$AC$5 -> 170 | Y23: =IF($K$24>0,IF(X23<$K$21,$K$20*X23,IF(X23<$K$24,($K$22*X23)+$K$23,($K$25*X23)+$K$26)),IF(X23<$K$21,$K$20*X23,($K$22*X23)+$K$23)) -> 0.26265
J24: intersection | K24: =VLOOKUP($J$2,Tableau_fin[],11,FALSE) -> 0 | X24: =X23+$AC$5 -> 180 | Y24: =IF($K$24>0,IF(X24<$K$21,$K$20*X24,IF(X24<$K$24,($K$22*X24)+$K$23,($K$25*X24)+$K$26)),IF(X24<$K$21,$K$20*X24,($K$22*X24)+$K$23)) -> 0.2781
J25: norme2 | K25: =VLOOKUP($J$2,Tableau_fin[],12,FALSE) -> 0 | X25: =X24+$AC$5 -> 190 | Y25: =IF($K$24>0,IF(X25<$K$21,$K$20*X25,IF(X25<$K$24,($K$22*X25)+$K$23,($K$25*X25)+$K$26)),IF(X25<$K$21,$K$20*X25,($K$22*X25)+$K$23)) -> 0.29355
J26: constante2 | K26: =VLOOKUP($J$2,Tableau_fin[],13,FALSE) -> 0 | X26: =X25+$AC$5 -> 200 | Y26: =IF($K$24>0,IF(X26<$K$21,$K$20*X26,IF(X26<$K$24,($K$22*X26)+$K$23,($K$25*X26)+$K$26)),IF(X26<$K$21,$K$20*X26,($K$22*X26)+$K$23)) -> 0.309
X27: =X26+$AC$5 -> 210 | Y27: =IF($K$24>0,IF(X27<$K$21,$K$20*X27,IF(X27<$K$24,($K$22*X27)+$K$23,($K$25*X27)+$K$26)),IF(X27<$K$21,$K$20*X27,($K$22*X27)+$K$23)) -> 0.32445
X28: =X27+$AC$5 -> 220 | Y28: =IF($K$24>0,IF(X28<$K$21,$K$20*X28,IF(X28<$K$24,($K$22*X28)+$K$23,($K$25*X28)+$K$26)),IF(X28<$K$21,$K$20*X28,($K$22*X28)+$K$23)) -> 0.3399
X29: =X28+$AC$5 -> 230 | Y29: =IF($K$24>0,IF(X29<$K$21,$K$20*X29,IF(X29<$K$24,($K$22*X29)+$K$23,($K$25*X29)+$K$26)),IF(X29<$K$21,$K$20*X29,($K$22*X29)+$K$23)) -> 0.35535
X30: =X29+$AC$5 -> 240 | Y30: =IF($K$24>0,IF(X30<$K$21,$K$20*X30,IF(X30<$K$24,($K$22*X30)+$K$23,($K$25*X30)+$K$26)),IF(X30<$K$21,$K$20*X30,($K$22*X30)+$K$23)) -> 0.3708
X31: =X30+$AC$5 -> 250 | Y31: =IF($K$24>0,IF(X31<$K$21,$K$20*X31,IF(X31<$K$24,($K$22*X31)+$K$23,($K$25*X31)+$K$26)),IF(X31<$K$21,$K$20*X31,($K$22*X31)+$K$23)) -> 0.38625
X32: =X31+$AC$5 -> 260 | Y32: =IF($K$24>0,IF(X32<$K$21,$K$20*X32,IF(X32<$K$24,($K$22*X32)+$K$23,($K$25*X32)+$K$26)),IF(X32<$K$21,$K$20*X32,($K$22*X32)+$K$23)) -> 0.4017
X33: =X32+$AC$5 -> 270 | Y33: =IF($K$24>0,IF(X33<$K$21,$K$20*X33,IF(X33<$K$24,($K$22*X33)+$K$23,($K$25*X33)+$K$26)),IF(X33<$K$21,$K$20*X33,($K$22*X33)+$K$23)) -> 0.41715
X34: =X33+$AC$5 -> 280 | Y34: =IF($K$24>0,IF(X34<$K$21,$K$20*X34,IF(X34<$K$24,($K$22*X34)+$K$23,($K$25*X34)+$K$26)),IF(X34<$K$21,$K$20*X34,($K$22*X34)+$K$23)) -> 0.4326
X35: =X34+$AC$5 -> 290 | Y35: =IF($K$24>0,IF(X35<$K$21,$K$20*X35,IF(X35<$K$24,($K$22*X35)+$K$23,($K$25*X35)+$K$26)),IF(X35<$K$21,$K$20*X35,($K$22*X35)+$K$23)) -> 0.44805
X36: =X35+$AC$5 -> 300 | Y36: =IF($K$24>0,IF(X36<$K$21,$K$20*X36,IF(X36<$K$24,($K$22*X36)+$K$23,($K$25*X36)+$K$26)),IF(X36<$K$21,$K$20*X36,($K$22*X36)+$K$23)) -> 0.4635
X37: =X36+$AC$5 -> 310 | Y37: =IF($K$24>0,IF(X37<$K$21,$K$20*X37,IF(X37<$K$24,($K$22*X37)+$K$23,($K$25*X37)+$K$26)),IF(X37<$K$21,$K$20*X37,($K$22*X37)+$K$23)) -> 0.47895
X38: =X37+$AC$5 -> 320 | Y38: =IF($K$24>0,IF(X38<$K$21,$K$20*X38,IF(X38<$K$24,($K$22*X38)+$K$23,($K$25*X38)+$K$26)),IF(X38<$K$21,$K$20*X38,($K$22*X38)+$K$23)) -> 0.4944
... X506: =X505+$AC$5 -> 5000 | Y506: =IF($K$24>0,IF(X506<$K$21,$K$20*X506,IF(X506<$K$24,($K$22*X506)+$K$23,($K$25*X506)+$K$26)),IF(X506<$K$21,$K$20*X506,($K$22*X506)+$K$23)) -> 8.215

Sheet 221.B0
J2: 221.B0 | K2: =VLOOKUP(J2,'Calcul financement'!B5:F100,2,FALSE) -> Technologie du génie civil
J4: =MAX(IF(K24=0,IF(K21=0,1000,K21*4),K24*2),K9:K15) -> 2825 | K4: PES utilisées pour ajuster le graphique
J5: =IF($K$24>0,IF(J4<$K$21,$K$20*J4,IF(J4<$K$24,($K$22*J4)+$K$23,($K$25*J4)+$K$26)),IF(J4<$K$21,$K$20*J4,($K$22*J4)+$K$23)) -> 5.4303 | K5: =CONCATENATE("ÉTC seront financés par les ",J4," PES ","du programme ",LEFT(J2,6)) -> ÉTC seront financés par les 2825 PES du programme 221.B0 | X5: PES | Y5: ÉTC | AB5: Incrément PES | AC5: =ROUNDUP(J4/450,0) -> 7
X6: 0 | Y6: =IF($K$24>0,IF(X6<$K$21,$K$20*X6,IF(X6<$K$24,($K$22*X6)+$K$23,($K$25*X6)+$K$26)),IF(X6<$K$21,$K$20*X6,($K$22*X6)+$K$23)) -> 0
X7: =X6+$AC$5 -> 7 | Y7: =IF($K$24>0,IF(X7<$K$21,$K$20*X7,IF(X7<$K$24,($K$22*X7)+$K$23,($K$25*X7)+$K$26)),IF(X7<$K$21,$K$20*X7,($K$22*X7)+$K$23)) -> 0.010815
K8: PES | L8: ÉTC | M8: ÉTC/1000 PES | X8: =X7+$AC$5 -> 14 | Y8: =IF($K$24>0,IF(X8<$K$21,$K$20*X8,IF(X8<$K$24,($K$22*X8)+$K$23,($K$25*X8)+$K$26)),IF(X8<$K$21,$K$20*X8,($K$22*X8)+$K$23)) -> 0.02163
I9: A | J9: ='Points graphiques'!C4 -> 2016-2017 | K9: =_xlfn.IFNA(VLOOKUP($J$2,'Données PES'!$A$2:$AA$101,MATCH(J9,'Données PES'!$2:$2),FALSE),0) -> 2825 | L9: =IF(K9>0,IF($K$24>0,IF(K9<$K$21,$K$20*K9,IF(K9<$K$24,($K$22*K9)+$K$23,($K$25*K9)+$K$26)),IF(K9<$K$21,$K$20*K9,($K$22*K9)+$K$23)),"") -> 5.4303 | M9: =IF(K9>0,L9/K9*1000,"") -> 1.9222301 | X9: =X8+$AC$5 -> 21 | Y9: =IF($K$24>0,IF(X9<$K$21,$K$20*X9,IF(X9<$K$24,($K$22*X9)+$K$23,($K$25*X9)+$K$26)),IF(X9<$K$21,$K$20*X9,($K$22*X9)+$K$23)) -> 0.032445
I10: B | J10: ='Points graphiques'!C5 -> 2017-2018 | K10: =_xlfn.IFNA(VLOOKUP($J$2,'Données PES'!$A$2:$AA$101,MATCH(J10,'Données PES'!$2:$2),FALSE),0) -> 2415 | L10: =IF(K10>0,IF($K$24>0,IF(K10<$K$21,$K$20*K10,IF(K10<$K$24,($K$22*K10)+$K$23,($K$25*K10)+$K$26)),IF(K10<$K$21,$K$20*K10,($K$22*K10)+$K$23)),"") -> 4.88746 | M10: =IF(K10>0,L10/K10*1000,"") -> 2.023793 | X10: =X9+$AC$5 -> 28 | Y10: =IF($K$24>0,IF(X10<$K$21,$K$20*X10,IF(X10<$K$24,($K$22*X10)+$K$23,($K$25*X10)+$K$26)),IF(X10<$K$21,$K$20*X10,($K$22*X10)+$K$23)) -> 0.04326
I11: C | J11: ='Points graphiques'!C6 -> 2018-2019 | K11: =_xlfn.IFNA(VLOOKUP($J$2,'Données PES'!$A$2:$AA$101,MATCH(J11,'Données PES'!$2:$2),FALSE),0) -> 2507 | L11: =IF(K11>0,IF($K$24>0,IF(K11<$K$21,$K$20*K11,IF(K11<$K$24,($K$22*K11)+$K$23,($K$25*K11)+$K$26)),IF(K11<$K$21,$K$20*K11,($K$22*K11)+$K$23)),"") -> 5.009268 | M11: =IF(K11>0,L11/K11*1000,"") -> 1.9981125 | X11: =X10+$AC$5 -> 35 | Y11: =IF($K$24>0,IF(X11<$K$21,$K$20*X11,IF(X11<$K$24,($K$22*X11)+$K$23,($K$25*X11)+$K$26)),IF(X11<$K$21,$K$20*X11,($K$22*X11)+$K$23)) -> 0.054075
I12: D | J12: ='Points graphiques'!C7 -> 2019-2020 | K12: =_xlfn.IFNA(VLOOKUP($J$2,'Données PES'!$A$2:$AA$101,MATCH(J12,'Données PES'!$2:$2),FALSE),0) -> 1625 | L12: =IF(K12>0,IF($K$24>0,IF(K12<$K$21,$K$20*K12,IF(K12<$K$24,($K$22*K12)+$K$23,($K$25*K12)+$K$26)),IF(K12<$K$21,$K$20*K12,($K$22*K12)+$K$23)),"") -> 3.8415 | M12: =IF(K12>0,L12/K12*1000,"") -> 2.364 | X12: =X11+$AC$5 -> 42 | Y12: =IF($K$24>0,IF(X12<$K$21,$K$20*X12,IF(X12<$K$24,($K$22*X12)+$K$23,($K$25*X12)+$K$26)),IF(X12<$K$21,$K$20*X12,($K$22*X12)+$K$23)) -> 0.06489
I13: E | J13: Manuel | L13: =IF(K13>0,IF($K$24>0,IF(K13<$K$21,$K$20*K13,IF(K13<$K$24,($K$22*K13)+$K$23,($K$25*K13)+$K$26)),IF(K13<$K$21,$K$20*K13,($K$22*K13)+$K$23)),"") | M13: =IF(K13>0,L13/K13*1000,"") | X13: =X12+$AC$5 -> 49 | Y13: =IF($K$24>0,IF(X13<$K$21,$K$20*X13,IF(X13<$K$24,($K$22*X13)+$K$23,($K$25*X13)+$K$26)),IF(X13<$K$21,$K$20*X13,($K$22*X13)+$K$23)) -> 0.075705
I14: F | J14: Manuel | L14: =IF(K14>0,IF($K$24>0,IF(K14<$K$21,$K$20*K14,IF(K14<$K$24,($K$22*K14)+$K$23,($K$25*K14)+$K$26)),IF(K14<$K$21,$K$20*K14,($K$22*K14)+$K$23)),"") | M14: =IF(K14>0,L14/K14*1000,"") | X14: =X13+$AC$5 -> 56 | Y14: =IF($K$24>0,IF(X14<$K$21,$K$20*X14,IF(X14<$K$24,($K$22*X14)+$K$23,($K$25*X14)+$K$26)),IF(X14<$K$21,$K$20*X14,($K$22*X14)+$K$23)) -> 0.08652
I15: G | J15: Manuel | L15: =IF(K15>0,IF($K$24>0,IF(K15<$K$21,$K$20*K15,IF(K15<$K$24,($K$22*K15)+$K$23,($K$25*K15)+$K$26)),IF(K15<$K$21,$K$20*K15,($K$22*K15)+$K$23)),"") | M15: =IF(K15>0,L15/K15*1000,"") | X15: =X14+$AC$5 -> 63 | Y15: =IF($K$24>0,IF(X15<$K$21,$K$20*X15,IF(X15<$K$24,($K$22*X15)+$K$23,($K$25*X15)+$K$26)),IF(X15<$K$21,$K$20*X15,($K$22*X15)+$K$23)) -> 0.097335
X16: =X15+$AC$5 -> 70 | Y16: =IF($K$24>0,IF(X16<$K$21,$K$20*X16,IF(X16<$K$24,($K$22*X16)+$K$23,($K$25*X16)+$K$26)),IF(X16<$K$21,$K$20*X16,($K$22*X16)+$K$23)) -> 0.10815
J17: Cliquez ici pour modifier les points affichées sur graphique. | X17: =X16+$AC$5 -> 77 | Y17: =IF($K$24>0,IF(X17<$K$21,$K$20*X17,IF(X17<$K$24,($K$22*X17)+$K$23,($K$25*X17)+$K$26)),IF(X17<$K$21,$K$20*X17,($K$22*X17)+$K$23)) -> 0.118965
X18: =X17+$AC$5 -> 84 | Y18: =IF($K$24>0,IF(X18<$K$21,$K$20*X18,IF(X18<$K$24,($K$22*X18)+$K$23,($K$25*X18)+$K$26)),IF(X18<$K$21,$K$20*X18,($K$22*X18)+$K$23)) -> 0.12978
X19: =X18+$AC$5 -> 91 | Y19: =IF($K$24>0,IF(X19<$K$21,$K$20*X19,IF(X19<$K$24,($K$22*X19)+$K$23,($K$25*X19)+$K$26)),IF(X19<$K$21,$K$20*X19,($K$22*X19)+$K$23)) -> 0.140595
J20: norme0 | K20: =VLOOKUP($J$2,Tableau_fin[],7,FALSE) -> 0.001545 | X20: =X19+$AC$5 -> 98 | Y20: =IF($K$24>0,IF(X20<$K$21,$K$20*X20,IF(X20<$K$24,($K$22*X20)+$K$23,($K$25*X20)+$K$26)),IF(X20<$K$21,$K$20*X20,($K$22*X20)+$K$23)) -> 0.15141
J21: pesmin | K21: =VLOOKUP($J$2,Tableau_fin[],8,FALSE) -> 400 | X21: =X20+$AC$5 -> 105 | Y21: =IF($K$24>0,IF(X21<$K$21,$K$20*X21,IF(X21<$K$24,($K$22*X21)+$K$23,($K$25*X21)+$K$26)),IF(X21<$K$21,$K$20*X21,($K$22*X21)+$K$23)) -> 0.162225
J22: norme1 | K22: =VLOOKUP($J$2,Tableau_fin[],9,FALSE) -> 0.001324 | X22: =X21+$AC$5 -> 112 | Y22: =IF($K$24>0,IF(X22<$K$21,$K$20*X22,IF(X22<$K$24,($K$22*X22)+$K$23,($K$25*X22)+$K$26)),IF(X22<$K$21,$K$20*X22,($K$22*X22)+$K$23)) -> 0.17304
J23: constante1 | K23: =VLOOKUP($J$2,Tableau_fin[],10,FALSE) -> 1.69 | X23: =X22+$AC$5 -> 119 | Y23: =IF($K$24>0,IF(X23<$K$21,$K$20*X23,IF(X23<$K$24,($K$22*X23)+$K$23,($K$25*X23)+$K$26)),IF(X23<$K$21,$K$20*X23,($K$22*X23)+$K$23)) -> 0.183855
J24: intersection | K24: =VLOOKUP($J$2,Tableau_fin[],11,FALSE) -> 0 | X24: =X23+$AC$5 -> 126 | Y24: =IF($K$24>0,IF(X24<$K$21,$K$20*X24,IF(X24<$K$24,($K$22*X24)+$K$23,($K$25*X24)+$K$26)),IF(X24<$K$21,$K$20*X24,($K$22*X24)+$K$23)) -> 0.19467
J25: norme2 | K25: =VLOOKUP($J$2,Tableau_fin[],12,FALSE) -> 0 | X25: =X24+$AC$5 -> 133 | Y25: =IF($K$24>0,IF(X25<$K$21,$K$20*X25,IF(X25<$K$24,($K$22*X25)+$K$23,($K$25*X25)+$K$26)),IF(X25<$K$21,$K$20*X25,($K$22*X25)+$K$23)) -> 0.205485
J26: constante2 | K26: =VLOOKUP($J$2,Tableau_fin[],13,FALSE) -> 0 | X26: =X25+$AC$5 -> 140 | Y26: =IF($K$24>0,IF(X26<$K$21,$K$20*X26,IF(X26<$K$24,($K$22*X26)+$K$23,($K$25*X26)+$K$26)),IF(X26<$K$21,$K$20*X26,($K$22*X26)+$K$23)) -> 0.2163
X27: =X26+$AC$5 -> 147 | Y27: =IF($K$24>0,IF(X27<$K$21,$K$20*X27,IF(X27<$K$24,($K$22*X27)+$K$23,($K$25*X27)+$K$26)),IF(X27<$K$21,$K$20*X27,($K$22*X27)+$K$23)) -> 0.227115
X28: =X27+$AC$5 -> 154 | Y28: =IF($K$24>0,IF(X28<$K$21,$K$20*X28,IF(X28<$K$24,($K$22*X28)+$K$23,($K$25*X28)+$K$26)),IF(X28<$K$21,$K$20*X28,($K$22*X28)+$K$23)) -> 0.23793
X29: =X28+$AC$5 -> 161 | Y29: =IF($K$24>0,IF(X29<$K$21,$K$20*X29,IF(X29<$K$24,($K$22*X29)+$K$23,($K$25*X29)+$K$26)),IF(X29<$K$21,$K$20*X29,($K$22*X29)+$K$23)) -> 0.248745
X30: =X29+$AC$5 -> 168 | Y30: =IF($K$24>0,IF(X30<$K$21,$K$20*X30,IF(X30<$K$24,($K$22*X30)+$K$23,($K$25*X30)+$K$26)),IF(X30<$K$21,$K$20*X30,($K$22*X30)+$K$23)) -> 0.25956
X31: =X30+$AC$5 -> 175 | Y31: =IF($K$24>0,IF(X31<$K$21,$K$20*X31,IF(X31<$K$24,($K$22*X31)+$K$23,($K$25*X31)+$K$26)),IF(X31<$K$21,$K$20*X31,($K$22*X31)+$K$23)) -> 0.270375
X32: =X31+$AC$5 -> 182 | Y32: =IF($K$24>0,IF(X32<$K$21,$K$20*X32,IF(X32<$K$24,($K$22*X32)+$K$23,($K$25*X32)+$K$26)),IF(X32<$K$21,$K$20*X32,($K$22*X32)+$K$23)) -> 0.28119
X33: =X32+$AC$5 -> 189 | Y33: =IF($K$24>0,IF(X33<$K$21,$K$20*X33,IF(X33<$K$24,($K$22*X33)+$K$23,($K$25*X33)+$K$26)),IF(X33<$K$21,$K$20*X33,($K$22*X33)+$K$23)) -> 0.292005
X34: =X33+$AC$5 -> 196 | Y34: =IF($K$24>0,IF(X34<$K$21,$K$20*X34,IF(X34<$K$24,($K$22*X34)+$K$23,($K$25*X34)+$K$26)),IF(X34<$K$21,$K$20*X34,($K$22*X34)+$K$23)) -> 0.30282
X35: =X34+$AC$5 -> 203 | Y35: =IF($K$24>0,IF(X35<$K$21,$K$20*X35,IF(X35<$K$24,($K$22*X35)+$K$23,($K$25*X35)+$K$26)),IF(X35<$K$21,$K$20*X35,($K$22*X35)+$K$23)) -> 0.313635
X36: =X35+$AC$5 -> 210 | Y36: =IF($K$24>0,IF(X36<$K$21,$K$20*X36,IF(X36<$K$24,($K$22*X36)+$K$23,($K$25*X36)+$K$26)),IF(X36<$K$21,$K$20*X36,($K$22*X36)+$K$23)) -> 0.32445
X37: =X36+$AC$5 -> 217 | Y37: =IF($K$24>0,IF(X37<$K$21,$K$20*X37,IF(X37<$K$24,($K$22*X37)+$K$23,($K$25*X37)+$K$26)),IF(X37<$K$21,$K$20*X37,($K$22*X37)+$K$23)) -> 0.335265
X38: =X37+$AC$5 -> 224 | Y38: =IF($K$24>0,IF(X38<$K$21,$K$20*X38,IF(X38<$K$24,($K$22*X38)+$K$23,($K$25*X38)+$K$26)),IF(X38<$K$21,$K$20*X38,($K$22*X38)+$K$23)) -> 0.34608
... X506: =X505+$AC$5 -> 3500 | Y506: =IF($K$24>0,IF(X506<$K$21,$K$20*X506,IF(X506<$K$24,($K$22*X506)+$K$23,($K$25*X506)+$K$26)),IF(X506<$K$21,$K$20*X506,($K$22*X506)+$K$23)) -> 6.324

Sheet 221.C0
J2: 221.C0 | K2: =VLOOKUP(J2,'Calcul financement'!B5:F100,2,FALSE) -> Technologie de la mécanique du bâtiment
J4: =MAX(IF(K24=0,IF(K21=0,1000,K21*4),K24*2),K9:K15) -> 1744 | K4: PES utilisées pour ajuster le graphique
J5: =IF($K$24>0,IF(J4<$K$21,$K$20*J4,IF(J4<$K$24,($K$22*J4)+$K$23,($K$25*J4)+$K$26)),IF(J4<$K$21,$K$20*J4,($K$22*J4)+$K$23)) -> 3.998944 | K5: =CONCATENATE("ÉTC seront financés par les ",J4," PES ","du programme ",LEFT(J2,6)) -> ÉTC seront financés par les 1744 PES du programme 221.C0 | X5: PES | Y5: ÉTC | AB5: Incrément PES | AC5: =ROUNDUP(J4/450,0) -> 4
X6: 0 | Y6: =IF($K$24>0,IF(X6<$K$21,$K$20*X6,IF(X6<$K$24,($K$22*X6)+$K$23,($K$25*X6)+$K$26)),IF(X6<$K$21,$K$20*X6,($K$22*X6)+$K$23)) -> 0
X7: =X6+$AC$5 -> 4 | Y7: =IF($K$24>0,IF(X7<$K$21,$K$20*X7,IF(X7<$K$24,($K$22*X7)+$K$23,($K$25*X7)+$K$26)),IF(X7<$K$21,$K$20*X7,($K$22*X7)+$K$23)) -> 0.00618
K8: PES | L8: ÉTC | M8: ÉTC/1000 PES | X8: =X7+$AC$5 -> 8 | Y8: =IF($K$24>0,IF(X8<$K$21,$K$20*X8,IF(X8<$K$24,($K$22*X8)+$K$23,($K$25*X8)+$K$26)),IF(X8<$K$21,$K$20*X8,($K$22*X8)+$K$23)) -> 0.01236
I9: A | J9: ='Points graphiques'!C4 -> 2016-2017 | K9: =_xlfn.IFNA(VLOOKUP($J$2,'Données PES'!$A$2:$AA$101,MATCH(J9,'Données PES'!$2:$2),FALSE),0) -> 1469 | L9: =IF(K9>0,IF($K$24>0,IF(K9<$K$21,$K$20*K9,IF(K9<$K$24,($K$22*K9)+$K$23,($K$25*K9)+$K$26)),IF(K9<$K$21,$K$20*K9,($K$22*K9)+$K$23)),"") -> 3.641169 | M9: =IF(K9>0,L9/K9*1000,"") -> 2.4786719 | X9: =X8+$AC$5 -> 12 | Y9: =IF($K$24>0,IF(X9<$K$21,$K$20*X9,IF(X9<$K$24,($K$22*X9)+$K$23,($K$25*X9)+$K$26)),IF(X9<$K$21,$K$20*X9,($K$22*X9)+$K$23)) -> 0.01854
I10: B | J10: ='Points graphiques'!C5 -> 2017-2018 | K10: =_xlfn.IFNA(VLOOKUP($J$2,'Données PES'!$A$2:$AA$101,MATCH(J10,'Données PES'!$2:$2),FALSE),0) -> 1239 | L10: =IF(K10>0,IF($K$24>0,IF(K10<$K$21,$K$20*K10,IF(K10<$K$24,($K$22*K10)+$K$23,($K$25*K10)+$K$26)),IF(K10<$K$21,$K$20*K10,($K$22*K10)+$K$23)),"") -> 3.341939 | M10: =IF(K10>0,L10/K10*1000,"") -> 2.6972873 | X10: =X9+$AC$5 -> 16 | Y10: =IF($K$24>0,IF(X10<$K$21,$K$20*X10,IF(X10<$K$24,($K$22*X10)+$K$23,($K$25*X10)+$K$26)),IF(X10<$K$21,$K$20*X10,($K$22*X10)+$K$23)) -> 0.02472
I11: C | J11: ='Points graphiques'!C6 -> 2018-2019 | K11: =_xlfn.IFNA(VLOOKUP($J$2,'Données PES'!$A$2:$AA$101,MATCH(J11,'Données PES'!$2:$2),FALSE),0) -> 1290 | L11: =IF(K11>0,IF($K$24>0,IF(K11<$K$21,$K$20*K11,IF(K11<$K$24,($K$22*K11)+$K$23,($K$25*K11)+$K$26)),IF(K11<$K$21,$K$20*K11,($K$22*K11)+$K$23)),"") -> 3.40829 | M11: =IF(K11>0,L11/K11*1000,"") -> 2.6420853 | X11: =X10+$AC$5 -> 20 | Y11: =IF($K$24>0,IF(X11<$K$21,$K$20*X11,IF(X11<$K$24,($K$22*X11)+$K$23,($K$25*X11)+$K$26)),IF(X11<$K$21,$K$20*X11,($K$22*X11)+$K$23)) -> 0.0309
I12: D | J12: ='Points graphiques'!C7 -> 2019-2020 | K12: =_xlfn.IFNA(VLOOKUP($J$2,'Données PES'!$A$2:$AA$101,MATCH(J12,'Données PES'!$2:$2),FALSE),0) -> 1065 | L12: =IF(K12>0,IF($K$24>0,IF(K12<$K$21,$K$20*K12,IF(K12<$K$24,($K$22*K12)+$K$23,($K$25*K12)+$K$26)),IF(K12<$K$21,$K$20*K12,($K$22*K12)+$K$23)),"") -> 3.115565 | M12: =IF(K12>0,L12/K12*1000,"") -> 2.9254131 | X12: =X11+$AC$5 -> 24 | Y12: =IF($K$24>0,IF(X12<$K$21,$K$20*X12,IF(X12<$K$24,($K$22*X12)+$K$23,($K$25*X12)+$K$26)),IF(X12<$K$21,$K$20*X12,($K$22*X12)+$K$23)) -> 0.03708
I13: E | J13: Manuel | L13: =IF(K13>0,IF($K$24>0,IF(K13<$K$21,$K$20*K13,IF(K13<$K$24,($K$22*K13)+$K$23,($K$25*K13)+$K$26)),IF(K13<$K$21,$K$20*K13,($K$22*K13)+$K$23)),"") | M13: =IF(K13>0,L13/K13*1000,"") | X13: =X12+$AC$5 -> 28 | Y13: =IF($K$24>0,IF(X13<$K$21,$K$20*X13,IF(X13<$K$24,($K$22*X13)+$K$23,($K$25*X13)+$K$26)),IF(X13<$K$21,$K$20*X13,($K$22*X13)+$K$23)) -> 0.04326
I14: F | J14: Manuel | L14: =IF(K14>0,IF($K$24>0,IF(K14<$K$21,$K$20*K14,IF(K14<$K$24,($K$22*K14)+$K$23,($K$25*K14)+$K$26)),IF(K14<$K$21,$K$20*K14,($K$22*K14)+$K$23)),"") | M14: =IF(K14>0,L14/K14*1000,"") | X14: =X13+$AC$5 -> 32 | Y14: =IF($K$24>0,IF(X14<$K$21,$K$20*X14,IF(X14<$K$24,($K$22*X14)+$K$23,($K$25*X14)+$K$26)),IF(X14<$K$21,$K$20*X14,($K$22*X14)+$K$23)) -> 0.04944
I15: G | J15: Manuel | L15: =IF(K15>0,IF($K$24>0,IF(K15<$K$21,$K$20*K15,IF(K15<$K$24,($K$22*K15)+$K$23,($K$25*K15)+$K$26)),IF(K15<$K$21,$K$20*K15,($K$22*K15)+$K$23)),"") | M15: =IF(K15>0,L15/K15*1000,"") | X15: =X14+$AC$5 -> 36 | Y15: =IF($K$24>0,IF(X15<$K$21,$K$20*X15,IF(X15<$K$24,($K$22*X15)+$K$23,($K$25*X15)+$K$26)),IF(X15<$K$21,$K$20*X15,($K$22*X15)+$K$23)) -> 0.05562
X16: =X15+$AC$5 -> 40 | Y16: =IF($K$24>0,IF(X16<$K$21,$K$20*X16,IF(X16<$K$24,($K$22*X16)+$K$23,($K$25*X16)+$K$26)),IF(X16<$K$21,$K$20*X16,($K$22*X16)+$K$23)) -> 0.0618
J17: Cliquez ici pour modifier les points affichées sur graphique. | X17: =X16+$AC$5 -> 44 | Y17: =IF($K$24>0,IF(X17<$K$21,$K$20*X17,IF(X17<$K$24,($K$22*X17)+$K$23,($K$25*X17)+$K$26)),IF(X17<$K$21,$K$20*X17,($K$22*X17)+$K$23)) -> 0.06798
X18: =X17+$AC$5 -> 48 | Y18: =IF($K$24>0,IF(X18<$K$21,$K$20*X18,IF(X18<$K$24,($K$22*X18)+$K$23,($K$25*X18)+$K$26)),IF(X18<$K$21,$K$20*X18,($K$22*X18)+$K$23)) -> 0.07416
X19: =X18+$AC$5 -> 52 | Y19: =IF($K$24>0,IF(X19<$K$21,$K$20*X19,IF(X19<$K$24,($K$22*X19)+$K$23,($K$25*X19)+$K$26)),IF(X19<$K$21,$K$20*X19,($K$22*X19)+$K$23)) -> 0.08034
J20: norme0 | K20: =VLOOKUP($J$2,Tableau_fin[],7,FALSE) -> 0.001545 | X20: =X19+$AC$5 -> 56 | Y20: =IF($K$24>0,IF(X20<$K$21,$K$20*X20,IF(X20<$K$24,($K$22*X20)+$K$23,($K$25*X20)+$K$26)),IF(X20<$K$21,$K$20*X20,($K$22*X20)+$K$23)) -> 0.08652
J21: pesmin | K21: =VLOOKUP($J$2,Tableau_fin[],8,FALSE) -> 436 | X21: =X20+$AC$5 -> 60 | Y21: =IF($K$24>0,IF(X21<$K$21,$K$20*X21,IF(X21<$K$24,($K$22*X21)+$K$23,($K$25*X21)+$K$26)),IF(X21<$K$21,$K$20*X21,($K$22*X21)+$K$23)) -> 0.0927
J22: norme1 | K22: =VLOOKUP($J$2,Tableau_fin[],9,FALSE) -> 0.001301 | X22: =X21+$AC$5 -> 64 | Y22: =IF($K$24>0,IF(X22<$K$21,$K$20*X22,IF(X22<$K$24,($K$22*X22)+$K$23,($K$25*X22)+$K$26)),IF(X22<$K$21,$K$20*X22,($K$22*X22)+$K$23)) -> 0.09888
J23: constante1 | K23: =VLOOKUP($J$2,Tableau_fin[],10,FALSE) -> 1.73 | X23: =X22+$AC$5 -> 68 | Y23: =IF($K$24>0,IF(X23<$K$21,$K$20*X23,IF(X23<$K$24,($K$22*X23)+$K$23,($K$25*X23)+$K$26)),IF(X23<$K$21,$K$20*X23,($K$22*X23)+$K$23)) -> 0.10506
J24: intersection | K24: =VLOOKUP($J$2,Tableau_fin[],11,FALSE) -> 0 | X24: =X23+$AC$5 -> 72 | Y24: =IF($K$24>0,IF(X24<$K$21,$K$20*X24,IF(X24<$K$24,($K$22*X24)+$K$23,($K$25*X24)+$K$26)),IF(X24<$K$21,$K$20*X24,($K$22*X24)+$K$23)) -> 0.11124
J25: norme2 | K25: =VLOOKUP($J$2,Tableau_fin[],12,FALSE) -> 0 | X25: =X24+$AC$5 -> 76 | Y25: =IF($K$24>0,IF(X25<$K$21,$K$20*X25,IF(X25<$K$24,($K$22*X25)+$K$23,($K$25*X25)+$K$26)),IF(X25<$K$21,$K$20*X25,($K$22*X25)+$K$23)) -> 0.11742
J26: constante2 | K26: =VLOOKUP($J$2,Tableau_fin[],13,FALSE) -> 0 | X26: =X25+$AC$5 -> 80 | Y26: =IF($K$24>0,IF(X26<$K$21,$K$20*X26,IF(X26<$K$24,($K$22*X26)+$K$23,($K$25*X26)+$K$26)),IF(X26<$K$21,$K$20*X26,($K$22*X26)+$K$23)) -> 0.1236
X27: =X26+$AC$5 -> 84 | Y27: =IF($K$24>0,IF(X27<$K$21,$K$20*X27,IF(X27<$K$24,($K$22*X27)+$K$23,($K$25*X27)+$K$26)),IF(X27<$K$21,$K$20*X27,($K$22*X27)+$K$23)) -> 0.12978
X28: =X27+$AC$5 -> 88 | Y28: =IF($K$24>0,IF(X28<$K$21,$K$20*X28,IF(X28<$K$24,($K$22*X28)+$K$23,($K$25*X28)+$K$26)),IF(X28<$K$21,$K$20*X28,($K$22*X28)+$K$23)) -> 0.13596
X29: =X28+$AC$5 -> 92 | Y29: =IF($K$24>0,IF(X29<$K$21,$K$20*X29,IF(X29<$K$24,($K$22*X29)+$K$23,($K$25*X29)+$K$26)),IF(X29<$K$21,$K$20*X29,($K$22*X29)+$K$23)) -> 0.14214
X30: =X29+$AC$5 -> 96 | Y30: =IF($K$24>0,IF(X30<$K$21,$K$20*X30,IF(X30<$K$24,($K$22*X30)+$K$23,($K$25*X30)+$K$26)),IF(X30<$K$21,$K$20*X30,($K$22*X30)+$K$23)) -> 0.14832
X31: =X30+$AC$5 -> 100 | Y31: =IF($K$24>0,IF(X31<$K$21,$K$20*X31,IF(X31<$K$24,($K$22*X31)+$K$23,($K$25*X31)+$K$26)),IF(X31<$K$21,$K$20*X31,($K$22*X31)+$K$23)) -> 0.1545
X32: =X31+$AC$5 -> 104 | Y32: =IF($K$24>0,IF(X32<$K$21,$K$20*X32,IF(X32<$K$24,($K$22*X32)+$K$23,($K$25*X32)+$K$26)),IF(X32<$K$21,$K$20*X32,($K$22*X32)+$K$23)) -> 0.16068
X33: =X32+$AC$5 -> 108 | Y33: =IF($K$24>0,IF(X33<$K$21,$K$20*X33,IF(X33<$K$24,($K$22*X33)+$K$23,($K$25*X33)+$K$26)),IF(X33<$K$21,$K$20*X33,($K$22*X33)+$K$23)) -> 0.16686
X34: =X33+$AC$5 -> 112 | Y34: =IF($K$24>0,IF(X34<$K$21,$K$20*X34,IF(X34<$K$24,($K$22*X34)+$K$23,($K$25*X34)+$K$26)),IF(X34<$K$21,$K$20*X34,($K$22*X34)+$K$23)) -> 0.17304
X35: =X34+$AC$5 -> 116 | Y35: =IF($K$24>0,IF(X35<$K$21,$K$20*X35,IF(X35<$K$24,($K$22*X35)+$K$23,($K$25*X35)+$K$26)),IF(X35<$K$21,$K$20*X35,($K$22*X35)+$K$23)) -> 0.17922
X36: =X35+$AC$5 -> 120 | Y36: =IF($K$24>0,IF(X36<$K$21,$K$20*X36,IF(X36<$K$24,($K$22*X36)+$K$23,($K$25*X36)+$K$26)),IF(X36<$K$21,$K$20*X36,($K$22*X36)+$K$23)) -> 0.1854
X37: =X36+$AC$5 -> 124 | Y37: =IF($K$24>0,IF(X37<$K$21,$K$20*X37,IF(X37<$K$24,($K$22*X37)+$K$23,($K$25*X37)+$K$26)),IF(X37<$K$21,$K$20*X37,($K$22*X37)+$K$23)) -> 0.19158
X38: =X37+$AC$5 -> 128 | Y38: =IF($K$24>0,IF(X38<$K$21,$K$20*X38,IF(X38<$K$24,($K$22*X38)+$K$23,($K$25*X38)+$K$26)),IF(X38<$K$21,$K$20*X38,($K$22*X38)+$K$23)) -> 0.19776
... X506: =X505+$AC$5 -> 2000 | Y506: =IF($K$24>0,IF(X506<$K$21,$K$20*X506,IF(X506<$K$24,($K$22*X506)+$K$23,($K$25*X506)+$K$26)),IF(X506<$K$21,$K$20*X506,($K$22*X506)+$K$23)) -> 4.332

Sheet 230.A0
J2: 230.A0 | K2: =VLOOKUP(J2,'Calcul financement'!B5:F100,2,FALSE) -> Technologie de la géomatique
J4: =MAX(IF(K24=0,IF(K21=0,1000,K21*4),K24*2),K9:K15) -> 6800 | K4: PES utilisées pour ajuster le graphique
J5: =IF($K$24>0,IF(J4<$K$21,$K$20*J4,IF(J4<$K$24,($K$22*J4)+$K$23,($K$25*J4)+$K$26)),IF(J4<$K$21,$K$20*J4,($K$22*J4)+$K$23)) -> 11.19 | K5: =CONCATENATE("ÉTC seront financés par les ",J4," PES ","du programme ",LEFT(J2,6)) -> ÉTC seront financés par les 6800 PES du programme 230.A0 | X5: PES | Y5: ÉTC | AB5: Incrément PES | AC5: =ROUNDUP(J4/450,0) -> 16
X6: 0 | Y6: =IF($K$24>0,IF(X6<$K$21,$K$20*X6,IF(X6<$K$24,($K$22*X6)+$K$23,($K$25*X6)+$K$26)),IF(X6<$K$21,$K$20*X6,($K$22*X6)+$K$23)) -> 0
X7: =X6+$AC$5 -> 16 | Y7: =IF($K$24>0,IF(X7<$K$21,$K$20*X7,IF(X7<$K$24,($K$22*X7)+$K$23,($K$25*X7)+$K$26)),IF(X7<$K$21,$K$20*X7,($K$22*X7)+$K$23)) -> 0.02472
K8: PES | L8: ÉTC | M8: ÉTC/1000 PES | X8: =X7+$AC$5 -> 32 | Y8: =IF($K$24>0,IF(X8<$K$21,$K$20*X8,IF(X8<$K$24,($K$22*X8)+$K$23,($K$25*X8)+$K$26)),IF(X8<$K$21,$K$20*X8,($K$22*X8)+$K$23)) -> 0.04944
I9: A | J9: ='Points graphiques'!C4 -> 2016-2017 | K9: =_xlfn.IFNA(VLOOKUP($J$2,'Données PES'!$A$2:$AA$101,MATCH(J9,'Données PES'!$2:$2),FALSE),0) -> 1152 | L9: =IF(K9>0,IF($K$24>0,IF(K9<$K$21,$K$20*K9,IF(K9<$K$24,($K$22*K9)+$K$23,($K$25*K9)+$K$26)),IF(K9<$K$21,$K$20*K9,($K$22*K9)+$K$23)),"") -> 1.77984 | M9: =IF(K9>0,L9/K9*1000,"") -> 1.545 | X9: =X8+$AC$5 -> 48 | Y9: =IF($K$24>0,IF(X9<$K$21,$K$20*X9,IF(X9<$K$24,($K$22*X9)+$K$23,($K$25*X9)+$K$26)),IF(X9<$K$21,$K$20*X9,($K$22*X9)+$K$23)) -> 0.07416
I10: B | J10: ='Points graphiques'!C5 -> 2017-2018 | K10: =_xlfn.IFNA(VLOOKUP($J$2,'Données PES'!$A$2:$AA$101,MATCH(J10,'Données PES'!$2:$2),FALSE),0) -> 905 | L10: =IF(K10>0,IF($K$24>0,IF(K10<$K$21,$K$20*K10,IF(K10<$K$24,($K$22*K10)+$K$23,($K$25*K10)+$K$26)),IF(K10<$K$21,$K$20*K10,($K$22*K10)+$K$23)),"") -> 1.398225 | M10: =IF(K10>0,L10/K10*1000,"") -> 1.545 | X10: =X9+$AC$5 -> 64 | Y10: =IF($K$24>0,IF(X10<$K$21,$K$20*X10,IF(X10<$K$24,($K$22*X10)+$K$23,($K$25*X10)+$K$26)),IF(X10<$K$21,$K$20*X10,($K$22*X10)+$K$23)) -> 0.09888
I11: C | J11: ='Points graphiques'!C6 -> 2018-2019 | K11: =_xlfn.IFNA(VLOOKUP($J$2,'Données PES'!$A$2:$AA$101,MATCH(J11,'Données PES'!$2:$2),FALSE),0) -> 1068 | L11: =IF(K11>0,IF($K$24>0,IF(K11<$K$21,$K$20*K11,IF(K11<$K$24,($K$22*K11)+$K$23,($K$25*K11)+$K$26)),IF(K11<$K$21,$K$20*K11,($K$22*K11)+$K$23)),"") -> 1.65006 | M11: =IF(K11>0,L11/K11*1000,"") -> 1.545 | X11: =X10+$AC$5 -> 80 | Y11: =IF($K$24>0,IF(X11<$K$21,$K$20*X11,IF(X11<$K$24,($K$22*X11)+$K$23,($K$25*X11)+$K$26)),IF(X11<$K$21,$K$20*X11,($K$22*X11)+$K$23)) -> 0.1236
I12: D | J12: ='Points graphiques'!C7 -> 2019-2020 | K12: =_xlfn.IFNA(VLOOKUP($J$2,'Données PES'!$A$2:$AA$101,MATCH(J12,'Données PES'!$2:$2),FALSE),0) -> 811 | L12: =IF(K12>0,IF($K$24>0,IF(K12<$K$21,$K$20*K12,IF(K12<$K$24,($K$22*K12)+$K$23,($K$25*K12)+$K$26)),IF(K12<$K$21,$K$20*K12,($K$22*K12)+$K$23)),"") -> 1.252995 | M12: =IF(K12>0,L12/K12*1000,"") -> 1.545 | X12: =X11+$AC$5 -> 96 | Y12: =IF($K$24>0,IF(X12<$K$21,$K$20*X12,IF(X12<$K$24,($K$22*X12)+$K$23,($K$25*X12)+$K$26)),IF(X12<$K$21,$K$20*X12,($K$22*X12)+$K$23)) -> 0.14832
I13: E | J13: Manuel | L13: =IF(K13>0,IF($K$24>0,IF(K13<$K$21,$K$20*K13,IF(K13<$K$24,($K$22*K13)+$K$23,($K$25*K13)+$K$26)),IF(K13<$K$21,$K$20*K13,($K$22*K13)+$K$23)),"") | M13: =IF(K13>0,L13/K13*1000,"") | X13: =X12+$AC$5 -> 112 | Y13: =IF($K$24>0,IF(X13<$K$21,$K$20*X13,IF(X13<$K$24,($K$22*X13)+$K$23,($K$25*X13)+$K$26)),IF(X13<$K$21,$K$20*X13,($K$22*X13)+$K$23)) -> 0.17304
I14: F | J14: Manuel | L14: =IF(K14>0,IF($K$24>0,IF(K14<$K$21,$K$20*K14,IF(K14<$K$24,($K$22*K14)+$K$23,($K$25*K14)+$K$26)),IF(K14<$K$21,$K$20*K14,($K$22*K14)+$K$23)),"") | M14: =IF(K14>0,L14/K14*1000,"") | X14: =X13+$AC$5 -> 128 | Y14: =IF($K$24>0,IF(X14<$K$21,$K$20*X14,IF(X14<$K$24,($K$22*X14)+$K$23,($K$25*X14)+$K$26)),IF(X14<$K$21,$K$20*X14,($K$22*X14)+$K$23)) -> 0.19776
I15: G | J15: Manuel | L15: =IF(K15>0,IF($K$24>0,IF(K15<$K$21,$K$20*K15,IF(K15<$K$24,($K$22*K15)+$K$23,($K$25*K15)+$K$26)),IF(K15<$K$21,$K$20*K15,($K$22*K15)+$K$23)),"") | M15: =IF(K15>0,L15/K15*1000,"") | X15: =X14+$AC$5 -> 144 | Y15: =IF($K$24>0,IF(X15<$K$21,$K$20*X15,IF(X15<$K$24,($K$22*X15)+$K$23,($K$25*X15)+$K$26)),IF(X15<$K$21,$K$20*X15,($K$22*X15)+$K$23)) -> 0.22248
X16: =X15+$AC$5 -> 160 | Y16: =IF($K$24>0,IF(X16<$K$21,$K$20*X16,IF(X16<$K$24,($K$22*X16)+$K$23,($K$25*X16)+$K$26)),IF(X16<$K$21,$K$20*X16,($K$22*X16)+$K$23)) -> 0.2472
J17: Cliquez ici pour modifier les points affichées sur graphique. | X17: =X16+$AC$5 -> 176 | Y17: =IF($K$24>0,IF(X17<$K$21,$K$20*X17,IF(X17<$K$24,($K$22*X17)+$K$23,($K$25*X17)+$K$26)),IF(X17<$K$21,$K$20*X17,($K$22*X17)+$K$23)) -> 0.27192
X18: =X17+$AC$5 -> 192 | Y18: =IF($K$24>0,IF(X18<$K$21,$K$20*X18,IF(X18<$K$24,($K$22*X18)+$K$23,($K$25*X18)+$K$26)),IF(X18<$K$21,$K$20*X18,($K$22*X18)+$K$23)) -> 0.29664
X19: =X18+$AC$5 -> 208 | Y19: =IF($K$24>0,IF(X19<$K$21,$K$20*X19,IF(X19<$K$24,($K$22*X19)+$K$23,($K$25*X19)+$K$26)),IF(X19<$K$21,$K$20*X19,($K$22*X19)+$K$23)) -> 0.32136
J20: norme0 | K20: =VLOOKUP($J$2,Tableau_fin[],7,FALSE) -> 0.001545 | X20: =X19+$AC$5 -> 224 | Y20: =IF($K$24>0,IF(X20<$K$21,$K$20*X20,IF(X20<$K$24,($K$22*X20)+$K$23,($K$25*X20)+$K$26)),IF(X20<$K$21,$K$20*X20,($K$22*X20)+$K$23)) -> 0.34608
J21: pesmin | K21: =VLOOKUP($J$2,Tableau_fin[],8,FALSE) -> 1700 | X21: =X20+$AC$5 -> 240 | Y21: =IF($K$24>0,IF(X21<$K$21,$K$20*X21,IF(X21<$K$24,($K$22*X21)+$K$23,($K$25*X21)+$K$26)),IF(X21<$K$21,$K$20*X21,($K$22*X21)+$K$23)) -> 0.3708
J22: norme1 | K22: =VLOOKUP($J$2,Tableau_fin[],9,FALSE) -> 0.001375 | X22: =X21+$AC$5 -> 256 | Y22: =IF($K$24>0,IF(X22<$K$21,$K$20*X22,IF(X22<$K$24,($K$22*X22)+$K$23,($K$25*X22)+$K$26)),IF(X22<$K$21,$K$20*X22,($K$22*X22)+$K$23)) -> 0.39552
J23: constante1 | K23: =VLOOKUP($J$2,Tableau_fin[],10,FALSE) -> 1.84 | X23: =X22+$AC$5 -> 272 | Y23: =IF($K$24>0,IF(X23<$K$21,$K$20*X23,IF(X23<$K$24,($K$22*X23)+$K$23,($K$25*X23)+$K$26)),IF(X23<$K$21,$K$20*X23,($K$22*X23)+$K$23)) -> 0.42024
J24: intersection | K24: =VLOOKUP($J$2,Tableau_fin[],11,FALSE) -> 0 | X24: =X23+$AC$5 -> 288 | Y24: =IF($K$24>0,IF(X24<$K$21,$K$20*X24,IF(X24<$K$24,($K$22*X24)+$K$23,($K$25*X24)+$K$26)),IF(X24<$K$21,$K$20*X24,($K$22*X24)+$K$23)) -> 0.44496
J25: norme2 | K25: =VLOOKUP($J$2,Tableau_fin[],12,FALSE) -> 0 | X25: =X24+$AC$5 -> 304 | Y25: =IF($K$24>0,IF(X25<$K$21,$K$20*X25,IF(X25<$K$24,($K$22*X25)+$K$23,($K$25*X25)+$K$26)),IF(X25<$K$21,$K$20*X25,($K$22*X25)+$K$23)) -> 0.46968
J26: constante2 | K26: =VLOOKUP($J$2,Tableau_fin[],13,FALSE) -> 0 | X26: =X25+$AC$5 -> 320 | Y26: =IF($K$24>0,IF(X26<$K$21,$K$20*X26,IF(X26<$K$24,($K$22*X26)+$K$23,($K$25*X26)+$K$26)),IF(X26<$K$21,$K$20*X26,($K$22*X26)+$K$23)) -> 0.4944
X27: =X26+$AC$5 -> 336 | Y27: =IF($K$24>0,IF(X27<$K$21,$K$20*X27,IF(X27<$K$24,($K$22*X27)+$K$23,($K$25*X27)+$K$26)),IF(X27<$K$21,$K$20*X27,($K$22*X27)+$K$23)) -> 0.51912
X28: =X27+$AC$5 -> 352 | Y28: =IF($K$24>0,IF(X28<$K$21,$K$20*X28,IF(X28<$K$24,($K$22*X28)+$K$23,($K$25*X28)+$K$26)),IF(X28<$K$21,$K$20*X28,($K$22*X28)+$K$23)) -> 0.54384
X29: =X28+$AC$5 -> 368 | Y29: =IF($K$24>0,IF(X29<$K$21,$K$20*X29,IF(X29<$K$24,($K$22*X29)+$K$23,($K$25*X29)+$K$26)),IF(X29<$K$21,$K$20*X29,($K$22*X29)+$K$23)) -> 0.56856
X30: =X29+$AC$5 -> 384 | Y30: =IF($K$24>0,IF(X30<$K$21,$K$20*X30,IF(X30<$K$24,($K$22*X30)+$K$23,($K$25*X30)+$K$26)),IF(X30<$K$21,$K$20*X30,($K$22*X30)+$K$23)) -> 0.59328
X31: =X30+$AC$5 -> 400 | Y31: =IF($K$24>0,IF(X31<$K$21,$K$20*X31,IF(X31<$K$24,($K$22*X31)+$K$23,($K$25*X31)+$K$26)),IF(X31<$K$21,$K$20*X31,($K$22*X31)+$K$23)) -> 0.618
X32: =X31+$AC$5 -> 416 | Y32: =IF($K$24>0,IF(X32<$K$21,$K$20*X32,IF(X32<$K$24,($K$22*X32)+$K$23,($K$25*X32)+$K$26)),IF(X32<$K$21,$K$20*X32,($K$22*X32)+$K$23)) -> 0.64272
X33: =X32+$AC$5 -> 432 | Y33: =IF($K$24>0,IF(X33<$K$21,$K$20*X33,IF(X33<$K$24,($K$22*X33)+$K$23,($K$25*X33)+$K$26)),IF(X33<$K$21,$K$20*X33,($K$22*X33)+$K$23)) -> 0.66744
X34: =X33+$AC$5 -> 448 | Y34: =IF($K$24>0,IF(X34<$K$21,$K$20*X34,IF(X34<$K$24,($K$22*X34)+$K$23,($K$25*X34)+$K$26)),IF(X34<$K$21,$K$20*X34,($K$22*X34)+$K$23)) -> 0.69216
X35: =X34+$AC$5 -> 464 | Y35: =IF($K$24>0,IF(X35<$K$21,$K$20*X35,IF(X35<$K$24,($K$22*X35)+$K$23,($K$25*X35)+$K$26)),IF(X35<$K$21,$K$20*X35,($K$22*X35)+$K$23)) -> 0.71688
X36: =X35+$AC$5 -> 480 | Y36: =IF($K$24>0,IF(X36<$K$21,$K$20*X36,IF(X36<$K$24,($K$22*X36)+$K$23,($K$25*X36)+$K$26)),IF(X36<$K$21,$K$20*X36,($K$22*X36)+$K$23)) -> 0.7416
X37: =X36+$AC$5 -> 496 | Y37: =IF($K$24>0,IF(X37<$K$21,$K$20*X37,IF(X37<$K$24,($K$22*X37)+$K$23,($K$25*X37)+$K$26)),IF(X37<$K$21,$K$20*X37,($K$22*X37)+$K$23)) -> 0.76632
X38: =X37+$AC$5 -> 512 | Y38: =IF($K$24>0,IF(X38<$K$21,$K$20*X38,IF(X38<$K$24,($K$22*X38)+$K$23,($K$25*X38)+$K$26)),IF(X38<$K$21,$K$20*X38,($K$22*X38)+$K$23)) -> 0.79104
... X506: =X505+$AC$5 -> 8000 | Y506: =IF($K$24>0,IF(X506<$K$21,$K$20*X506,IF(X506<$K$24,($K$22*X506)+$K$23,($K$25*X506)+$K$26)),IF(X506<$K$21,$K$20*X506,($K$22*X506)+$K$23)) -> 12.84

Sheet 241.A0
J2: 241.A0 | K2: =VLOOKUP(J2,'Calcul financement'!B5:F100,2,FALSE) -> Techniques de génie mécanique
J4: =MAX(IF(K24=0,IF(K21=0,1000,K21*4),K24*2),K9:K15) -> 2564 | K4: PES utilisées pour ajuster le graphique
J5: =IF($K$24>0,IF(J4<$K$21,$K$20*J4,IF(J4<$K$24,($K$22*J4)+$K$23,($K$25*J4)+$K$26)),IF(J4<$K$21,$K$20*J4,($K$22*J4)+$K$23)) -> 5.611356 | K5: =CONCATENATE("ÉTC seront financés par les ",J4," PES ","du programme ",LEFT(J2,6)) -> ÉTC seront financés par les 2564 PES du programme 241.A0 | X5: PES | Y5: ÉTC | AB5: Incrément PES | AC5: =ROUNDUP(J4/450,0) -> 6
X6: 0 | Y6: =IF($K$24>0,IF(X6<$K$21,$K$20*X6,IF(X6<$K$24,($K$22*X6)+$K$23,($K$25*X6)+$K$26)),IF(X6<$K$21,$K$20*X6,($K$22*X6)+$K$23)) -> 0
X7: =X6+$AC$5 -> 6 | Y7: =IF($K$24>0,IF(X7<$K$21,$K$20*X7,IF(X7<$K$24,($K$22*X7)+$K$23,($K$25*X7)+$K$26)),IF(X7<$K$21,$K$20*X7,($K$22*X7)+$K$23)) -> 0.00927
K8: PES | L8: ÉTC | M8: ÉTC/1000 PES | X8: =X7+$AC$5 -> 12 | Y8: =IF($K$24>0,IF(X8<$K$21,$K$20*X8,IF(X8<$K$24,($K$22*X8)+$K$23,($K$25*X8)+$K$26)),IF(X8<$K$21,$K$20*X8,($K$22*X8)+$K$23)) -> 0.01854
I9: A | J9: ='Points graphiques'!C4 -> 2016-2017 | K9: =_xlfn.IFNA(VLOOKUP($J$2,'Données PES'!$A$2:$AA$101,MATCH(J9,'Données PES'!$2:$2),FALSE),0) -> 2564 | L9: =IF(K9>0,IF($K$24>0,IF(K9<$K$21,$K$20*K9,IF(K9<$K$24,($K$22*K9)+$K$23,($K$25*K9)+$K$26)),IF(K9<$K$21,$K$20*K9,($K$22*K9)+$K$23)),"") -> 5.611356 | M9: =IF(K9>0,L9/K9*1000,"") -> 2.1885164 | X9: =X8+$AC$5 -> 18 | Y9: =IF($K$24>0,IF(X9<$K$21,$K$20*X9,IF(X9<$K$24,($K$22*X9)+$K$23,($K$25*X9)+$K$26)),IF(X9<$K$21,$K$20*X9,($K$22*X9)+$K$23)) -> 0.02781
I10: B | J10: ='Points graphiques'!C5 -> 2017-2018 | K10: =_xlfn.IFNA(VLOOKUP($J$2,'Données PES'!$A$2:$AA$101,MATCH(J10,'Données PES'!$2:$2),FALSE),0) -> 2560 | L10: =IF(K10>0,IF($K$24>0,IF(K10<$K$21,$K$20*K10,IF(K10<$K$24,($K$22*K10)+$K$23,($K$25*K10)+$K$26)),IF(K10<$K$21,$K$20*K10,($K$22*K10)+$K$23)),"") -> 5.60424 | M10: =IF(K10>0,L10/K10*1000,"") -> 2.1891562 | X10: =X9+$AC$5 -> 24 | Y10: =IF($K$24>0,IF(X10<$K$21,$K$20*X10,IF(X10<$K$24,($K$22*X10)+$K$23,($K$25*X10)+$K$26)),IF(X10<$K$21,$K$20*X10,($K$22*X10)+$K$23)) -> 0.03708
I11: C | J11: ='Points graphiques'!C6 -> 2018-2019 | K11: =_xlfn.IFNA(VLOOKUP($J$2,'Données PES'!$A$2:$AA$101,MATCH(J11,'Données PES'!$2:$2),FALSE),0) -> 2444 | L11: =IF(K11>0,IF($K$24>0,IF(K11<$K$21,$K$20*K11,IF(K11<$K$24,($K$22*K11)+$K$23,($K$25*K11)+$K$26)),IF(K11<$K$21,$K$20*K11,($K$22*K11)+$K$23)),"") -> 5.397876 | M11: =IF(K11>0,L11/K11*1000,"") -> 2.2086236 | X11: =X10+$AC$5 -> 30 | Y11: =IF($K$24>0,IF(X11<$K$21,$K$20*X11,IF(X11<$K$24,($K$22*X11)+$K$23,($K$25*X11)+$K$26)),IF(X11<$K$21,$K$20*X11,($K$22*X11)+$K$23)) -> 0.04635
I12: D | J12: ='Points graphiques'!C7 -> 2019-2020 | K12: =_xlfn.IFNA(VLOOKUP($J$2,'Données PES'!$A$2:$AA$101,MATCH(J12,'Données PES'!$2:$2),FALSE),0) -> 2283 | L12: =IF(K12>0,IF($K$24>0,IF(K12<$K$21,$K$20*K12,IF(K12<$K$24,($K$22*K12)+$K$23,($K$25*K12)+$K$26)),IF(K12<$K$21,$K$20*K12,($K$22*K12)+$K$23)),"") -> 5.111457 | M12: =IF(K12>0,L12/K12*1000,"") -> 2.2389212 | X12: =X11+$AC$5 -> 36 | Y12: =IF($K$24>0,IF(X12<$K$21,$K$20*X12,IF(X12<$K$24,($K$22*X12)+$K$23,($K$25*X12)+$K$26)),IF(X12<$K$21,$K$20*X12,($K$22*X12)+$K$23)) -> 0.05562
I13: E | J13: Manuel | L13: =IF(K13>0,IF($K$24>0,IF(K13<$K$21,$K$20*K13,IF(K13<$K$24,($K$22*K13)+$K$23,($K$25*K13)+$K$26)),IF(K13<$K$21,$K$20*K13,($K$22*K13)+$K$23)),"") | M13: =IF(K13>0,L13/K13*1000,"") | X13: =X12+$AC$5 -> 42 | Y13: =IF($K$24>0,IF(X13<$K$21,$K$20*X13,IF(X13<$K$24,($K$22*X13)+$K$23,($K$25*X13)+$K$26)),IF(X13<$K$21,$K$20*X13,($K$22*X13)+$K$23)) -> 0.06489
I14: F | J14: Manuel | L14: =IF(K14>0,IF($K$24>0,IF(K14<$K$21,$K$20*K14,IF(K14<$K$24,($K$22*K14)+$K$23,($K$25*K14)+$K$26)),IF(K14<$K$21,$K$20*K14,($K$22*K14)+$K$23)),"") | M14: =IF(K14>0,L14/K14*1000,"") | X14: =X13+$AC$5 -> 48 | Y14: =IF($K$24>0,IF(X14<$K$21,$K$20*X14,IF(X14<$K$24,($K$22*X14)+$K$23,($K$25*X14)+$K$26)),IF(X14<$K$21,$K$20*X14,($K$22*X14)+$K$23)) -> 0.07416
